Workbook

Sheet Front Cover
A12: Intelligent Data Collection Limited
A13: Culham
A27: Client: | C27: Oxfordshire CC
A28: Project Number: | C28: ID-0325-0019
A29: Site Number: | C29: Site 2
A30: Week Commencing: | C30: 45719
A31: Road Name: | C31: High Street
A32: Survey Type: | C32: ATC
A33: Direction AB | C33: Flow from | D33: The Green (W) | G33: to | H33: The Glebe (E)
A34: Direction BA | C34: Flow from | D34: =H33 -> The Glebe (E) | G34: to | H34: =D33 -> The Green (W)

Sheet QA & Issue
A1: Quality Assurance and Issue Record
B10: Quality Assurance
B12: Revision | C12: Rev A
B13: Date | C13: 19.03.2025
B14: Prepared by | C14: Robyn Short
B15: Signature
B16: Checked by | C16: David Brown
B17: Signature
B18: Project Director | C18: Paul O'Neill
B19: Signature
B21: Project Number | C21: ='Front Cover'!C28 -> ID-0325-0019
B22: File Ref | C22: ID-0325-0019 Culham - ATC Site 2
B25: Issue Record
B27: Issued to | C27: Date
C28: 19.03.2025
B30: Richard Bowman | C30: E-mail

Sheet Site Details
A1: Intelligent Data Collection Limited
A4: Road Name | C4: ='Front Cover'!C31 -> High Street
A5: Direction AB | C5: ='Front Cover'!D33 -> The Green (W) | F5: to: | G5: ='Front Cover'!H33 -> The Glebe (E)
A6: Direction BA | C6: =G5 -> The Glebe (E) | F6: to: | G6: =C5 -> The Green (W)
A7: Site Co-Ordinates | G7: ATC Start Date | J7: ATC Finish Date | M7: PSL
A8: 51.652070, -1.269810 | G8: {=INDIRECT("'Hourly Flow Summary Two-Way'!"&ADDRESS(9,MATCH(TRUE,INDEX('Hourly Flow Summary Two-Way'!B38:O38>0,0),0)+1))} -> 45725 | J8: {=INDIRECT("'Hourly Flow Summary Two-Way'!"&ADDRESS(9,23-MATCH(TRUE,INDEX(_xlfn.SORTBY('Hourly Flow Summary Two-Way'!B38:V38,COLUMN('Hourly Flow Summary Two-Way'!B38:V38),-1)>0,0),0)))} -> 45733 | M8: 30
A9: Link to location on Google Maps
A10: =HYPERLINK(R15,"Click Here") -> Click Here
A11: Location Plan
R12: http://maps.google.co.uk/maps?hl=en&safe=off&q=
R13: =A8 -> 51.652070, -1.269810
R14: &cr=countryUK|countryGB&um=1&ie=UTF-8&sa=N&tab=wl
R15: =CONCATENATE(R12,R13,R14) -> http://maps.google.co.uk/maps?hl=en&safe=off&q=51.652070, -1.269810&cr=countryUK|countryGB&um=1&ie=UTF-8&sa=N&tab=wl
A31: Photograph Record
B33: 5-day AM Peak Ave Flow | C33: ='Hourly Flow Summary A-B'!$X$39 -> 112.16667 | E33: =CONCATENATE(B33," - ",ROUND(C33,0)) -> 5-day AM Peak Ave Flow - 112 | J33: 5-day AM Peak Ave Flow | K33: ='Hourly Flow Summary B-A'!$X$39 -> 143 | M33: =CONCATENATE(J33," - ",ROUND(K33,0)) -> 5-day AM Peak Ave Flow - 143
B34: 5-day AM Peak Speed (mph) | C34: =AVERAGE('Speed Summary A-B'!$U$18:$U$20) -> 24.473611 | D34: =AVERAGE('Speed Summary A-B'!$V$18:$V$20) -> 29.678333 | E34: =IFERROR(CONCATENATE(B34," - ","Mean ",ROUND(C34,2)," / 85th%ile ",ROUND(D34,2)),CONCATENATE(B34," - ","Mean ",ROUND(C34,2))) -> 5-day AM Peak Speed (mph) - Mean 24.47 / 85th%ile 29.68 | J34: 5-day AM Peak Speed (mph) | K34: =AVERAGE('Speed Summary B-A'!$U$18:$U$20) -> 25.219444 | L34: =AVERAGE('Speed Summary B-A'!$V$18:$V$20) -> 31.844444 | M34: =IFERROR(CONCATENATE(J34," - ","Mean ",ROUND(K34,2)," / 85th%ile ",ROUND(L34,2)),CONCATENATE(J34," - ","Mean ",ROUND(K34,2))) -> 5-day AM Peak Speed (mph) - Mean 25.22 / 85th%ile 31.84
B35: 5-day PM Peak Ave Flow | C35: ='Hourly Flow Summary A-B'!$X$40 -> 176.8 | E35: =CONCATENATE(B35," - ",ROUND(C35,0)) -> 5-day PM Peak Ave Flow - 177 | J35: 5-day PM Peak Ave Flow | K35: ='Hourly Flow Summary B-A'!$X$40 -> 100.2 | M35: =CONCATENATE(J35," - ",ROUND(K35,0)) -> 5-day PM Peak Ave Flow - 100
B36: 5-day PM Peak Speed (mph) | C36: =AVERAGE('Speed Summary A-B'!$U$27:$U$29) -> 24.98625 | D36: =AVERAGE('Speed Summary A-B'!$V$27:$V$29) -> 31.180625 | E36: =IFERROR(CONCATENATE(B36," - ","Mean ",ROUND(C36,2)," / 85th%ile ",ROUND(D36,2)),CONCATENATE(B36," - ","Mean ",ROUND(C36,2))) -> 5-day PM Peak Speed (mph) - Mean 24.99 / 85th%ile 31.18 | J36: 5-day PM Peak Speed (mph) | K36: =AVERAGE('Speed Summary B-A'!$U$27:$U$29) -> 23.785 | L36: =AVERAGE('Speed Summary B-A'!$V$27:$V$29) -> 29.054167 | M36: =IFERROR(CONCATENATE(J36," - ","Mean ",ROUND(K36,2)," / 85th%ile ",ROUND(L36,2)),CONCATENATE(J36," - ","Mean ",ROUND(K36,2))) -> 5-day PM Peak Speed (mph) - Mean 23.79 / 85th%ile 29.05
B37: 5-day Average Weekday Heavies % | C37: =AVERAGE('Class Bin A-B'!R113:V113,'Class Bin A-B'!Y113:AC113,'Class Bin A-B'!AF113:AJ113) -> 0.058115614 | E37: =CONCATENATE(B37," - ",ROUND(C37,3)*100,"%") -> 5-day Average Weekday Heavies % - 5.8% | J37: 5-day Average Weekday Heavies % | K37: =AVERAGE('Class Bin B-A'!R113:V113,'Class Bin B-A'!Y113:AC113,'Class Bin B-A'!AF113:AJ113) -> 0.067888485 | M37: =CONCATENATE(J37," - ",ROUND(K37,3)*100,"%") -> 5-day Average Weekday Heavies % - 6.8%
A52: Comments
A53: The minimum speed threshold to include vehicles in the reports is 5mph. Unclassified vehicles are excluded.
A64: Prepared by | D64: ='QA & Issue'!C14 -> Robyn Short | F64: Checked by | I64: ='QA & Issue'!C16 -> David Brown | K64: Project Director | N64: ='QA & Issue'!C18 -> Paul O'Neill

Sheet General Summary
A1: Intelligent Data Collection Limited
O2: -
A3: ='Front Cover'!C27 -> Oxfordshire CC | O3: Eastbound
O4: Westbound
A5: ='Front Cover'!A13 -> Culham | O5: Northbound
O6: Southbound
A7: Site Summary | O7: North-eastbound
O8: North-westbound
O9: South-eastbound
A10: Site Location | D10: Direction | E10: Start Date | F10: End Date | G10: Posted Speed Limit (PSL) | H10: Total Vehicles | I10: Mean Speed | J10: 85th %ile Speed | K10: 24-hour 5-day Average Flow | L10: 12-hour 7-day Average Flow | M10: 24-hour 7-day Average Flow | N10: % Heavies (inc. buses) | O10: South-westbound
A11: =CONCATENATE('Front Cover'!$C$31," between ",'Front Cover'!D33," and ",'Front Cover'!H33) -> High Street between The Green (W) and The Glebe (E) | D11: Eastbound | E11: ='Site Details'!$G$8 -> 45725 | F11: ='Site Details'!$J$8 -> 45733 | G11: =CONCATENATE('Site Details'!$M$8,"mph") -> 30mph | H11: =SUM('Speed Summary A-B'!$B$70:$T$70) -> 3374 | I11: ='Speed Summary A-B'!$U$70 -> 24.644444 | J11: ='Speed Summary A-B'!$V$70 -> 30.888889 | K11: ='Hourly Flow Summary A-B'!$X$38 -> 491.46667 | L11: ='Hourly Flow Summary A-B'!$Y$35 -> 367.45833 | M11: ='Hourly Flow Summary A-B'!$Y$38 -> 410.95833 | N11: =IFERROR(SUM('Class Bin A-B'!$G$110:$M$110,'Class Bin A-B'!$G$214:$M$214,'Class Bin A-B'!$G$318:$M$318,'Class Bin A-B'!$G$422:$M$422,'Class Bin A-B'!$G$526:$M$526,'Class Bin A-B'!$G$630:$M$630,'Class Bin A-B'!$G$734:$M$734,'Class Bin A-B'!$G$838:$M$838,'Class Bin A-B'!$G$942:$M$942,'Class Bin A-B'!$G$1046:$M$1046,'Class Bin A-B'!$G$1150:$M$1150,'Class Bin A-B'!$G$1254:$M$1254,'Class Bin A-B'!$G$1358:$M$1358,'Class Bin A-B'!$G$1462:$M$1462,'Class Bin A-B'!$G$1566:$M$1566,'Class Bin A-B'!$G$1670:$M$1670,'Class Bin A-B'!$G$1774:$M$1774,'Class Bin A-B'!$G$1878:$M$1878,'Class Bin A-B'!$G$1982:$M$1982,'Class Bin A-B'!$G$2086:$M$2086,'Class Bin A-B'!$G$2190:$M$2190)/(SUM('Class Bin A-B'!$B$110,'Class Bin A-B'!$B$214,'Class Bin A-B'!$B$318,'Class Bin A-B'!$B$422,'Class Bin A-B'!$B$526,'Class Bin A-B'!$B$630,'Class Bin A-B'!$B$734,'Class Bin A-B'!$B$838,'Class Bin A-B'!$B$942,'Class Bin A-B'!$B$1046,'Class Bin A-B'!$B$1150,'Class Bin A-B'!$B$1254,'Class Bin A-B'!$B$1358,'Class Bin A-B'!$B$1462,'Class Bin A-B'!$B$1566,'Class Bin A-B'!$B$1670,'Class Bin A-B'!$B$1774,'Class Bin A-B'!$B$1878,'Class Bin A-B'!$B$1982,'Class Bin A-B'!$B$2086,'Class Bin A-B'!$B$2190)),0) -> 0.059276823
A12: =CONCATENATE('Front Cover'!$C$31," between ",'Front Cover'!D34," and ",'Front Cover'!H34) -> High Street between The Glebe (E) and The Green (W) | D12: Westbound | E12: ='Site Details'!$G$8 -> 45725 | F12: ='Site Details'!$J$8 -> 45733 | G12: =CONCATENATE('Site Details'!$M$8,"mph") -> 30mph | H12: =SUM('Speed Summary B-A'!$B$70:$T$70) -> 3360 | I12: ='Speed Summary B-A'!$U$70 -> 24.2 | J12: ='Speed Summary B-A'!$V$70 -> 30.3 | K12: ='Hourly Flow Summary B-A'!$X$38 -> 462.46667 | L12: ='Hourly Flow Summary B-A'!$Y$35 -> 357.90278 | M12: ='Hourly Flow Summary B-A'!$Y$38 -> 405.52778 | N12: =IFERROR(SUM('Class Bin B-A'!$G$110:$M$110,'Class Bin B-A'!$G$214:$M$214,'Class Bin B-A'!$G$318:$M$318,'Class Bin B-A'!$G$422:$M$422,'Class Bin B-A'!$G$526:$M$526,'Class Bin B-A'!$G$630:$M$630,'Class Bin B-A'!$G$734:$M$734,'Class Bin B-A'!$G$838:$M$838,'Class Bin B-A'!$G$942:$M$942,'Class Bin B-A'!$G$1046:$M$1046,'Class Bin B-A'!$G$1150:$M$1150,'Class Bin B-A'!$G$1254:$M$1254,'Class Bin B-A'!$G$1358:$M$1358,'Class Bin B-A'!$G$1462:$M$1462,'Class Bin B-A'!$G$1566:$M$1566,'Class Bin B-A'!$G$1670:$M$1670,'Class Bin B-A'!$G$1774:$M$1774,'Class Bin B-A'!$G$1878:$M$1878,'Class Bin B-A'!$G$1982:$M$1982,'Class Bin B-A'!$G$2086:$M$2086,'Class Bin B-A'!$G$2190:$M$2190)/(SUM('Class Bin B-A'!$B$110,'Class Bin B-A'!$B$214,'Class Bin B-A'!$B$318,'Class Bin B-A'!$B$422,'Class Bin B-A'!$B$526,'Class Bin B-A'!$B$630,'Class Bin B-A'!$B$734,'Class Bin B-A'!$B$838,'Class Bin B-A'!$B$942,'Class Bin B-A'!$B$1046,'Class Bin B-A'!$B$1150,'Class Bin B-A'!$B$1254,'Class Bin B-A'!$B$1358,'Class Bin B-A'!$B$1462,'Class Bin B-A'!$B$1566,'Class Bin B-A'!$B$1670,'Class Bin B-A'!$B$1774,'Class Bin B-A'!$B$1878,'Class Bin B-A'!$B$1982,'Class Bin B-A'!$B$2086,'Class Bin B-A'!$B$2190)),0) -> 0.068154762
A13: Flow Reporting
A16: A-B Hourly Summary Data | F16: B-A Hourly Summary Data | K16: Two-Way Hourly Summary Data
A17: Time Interval | B17: ='Hourly Flow Summary A-B'!W8 -> 3-day Average (Tue-Thur) | C17: ='Hourly Flow Summary A-B'!X8 -> 5-day Average (Mon-Fri) | D17: ='Hourly Flow Summary A-B'!Y8 -> 7-day Average (Mon-Sun) | F17: Time Interval | G17: ='Hourly Flow Summary B-A'!W8 -> 3-day Average (Tue-Thur) | H17: ='Hourly Flow Summary B-A'!X8 -> 5-day Average (Mon-Fri) | I17: ='Hourly Flow Summary B-A'!Y8 -> 7-day Average (Mon-Sun) | K17: Time Interval | L17: =G17 -> 3-day Average (Tue-Thur) | M17: =H17 -> 5-day Average (Mon-Fri) | N17: =I17 -> 7-day Average (Mon-Sun)
A18: ='Hourly Flow Summary A-B'!A10 -> 0 | B18: ='Hourly Flow Summary A-B'!W10 -> 0.66666667 | C18: ='Hourly Flow Summary A-B'!X10 -> 0.5 | D18: ='Hourly Flow Summary A-B'!Y10 -> 0.75 | F18: ='Hourly Flow Summary B-A'!A10 -> 0 | G18: ='Hourly Flow Summary B-A'!W10 -> 1 | H18: ='Hourly Flow Summary B-A'!X10 -> 1.1666667 | I18: ='Hourly Flow Summary B-A'!Y10 -> 1.25 | K18: =F18 -> 0 | L18: ='Hourly Flow Summary Two-Way'!W10 -> 1.6666667 | M18: ='Hourly Flow Summary Two-Way'!X10 -> 1.6666667 | N18: ='Hourly Flow Summary Two-Way'!Y10 -> 2
A19: ='Hourly Flow Summary A-B'!A11 -> 0.041666667 | B19: ='Hourly Flow Summary A-B'!W11 -> 0.66666667 | C19: ='Hourly Flow Summary A-B'!X11 -> 1.1666667 | D19: ='Hourly Flow Summary A-B'!Y11 -> 1 | F19: ='Hourly Flow Summary B-A'!A11 -> 0.041666667 | G19: ='Hourly Flow Summary B-A'!W11 -> 0.33333333 | H19: ='Hourly Flow Summary B-A'!X11 -> 0.5 | I19: ='Hourly Flow Summary B-A'!Y11 -> 0.5 | K19: =F19 -> 0.041666667 | L19: ='Hourly Flow Summary Two-Way'!W11 -> 1 | M19: ='Hourly Flow Summary Two-Way'!X11 -> 1.6666667 | N19: ='Hourly Flow Summary Two-Way'!Y11 -> 1.5
A20: ='Hourly Flow Summary A-B'!A12 -> 0.083333333 | B20: ='Hourly Flow Summary A-B'!W12 -> 0 | C20: ='Hourly Flow Summary A-B'!X12 -> 0.16666667 | D20: ='Hourly Flow Summary A-B'!Y12 -> 0.5 | F20: ='Hourly Flow Summary B-A'!A12 -> 0.083333333 | G20: ='Hourly Flow Summary B-A'!W12 -> 0.33333333 | H20: ='Hourly Flow Summary B-A'!X12 -> 0.83333333 | I20: ='Hourly Flow Summary B-A'!Y12 -> 0.75 | K20: =F20 -> 0.083333333 | L20: ='Hourly Flow Summary Two-Way'!W12 -> 0.33333333 | M20: ='Hourly Flow Summary Two-Way'!X12 -> 1 | N20: ='Hourly Flow Summary Two-Way'!Y12 -> 1.25
A21: ='Hourly Flow Summary A-B'!A13 -> 0.125 | B21: ='Hourly Flow Summary A-B'!W13 -> 0 | C21: ='Hourly Flow Summary A-B'!X13 -> 0.16666667 | D21: ='Hourly Flow Summary A-B'!Y13 -> 0.375 | F21: ='Hourly Flow Summary B-A'!A13 -> 0.125 | G21: ='Hourly Flow Summary B-A'!W13 -> 0.33333333 | H21: ='Hourly Flow Summary B-A'!X13 -> 0.33333333 | I21: ='Hourly Flow Summary B-A'!Y13 -> 0.5 | K21: =F21 -> 0.125 | L21: ='Hourly Flow Summary Two-Way'!W13 -> 0.33333333 | M21: ='Hourly Flow Summary Two-Way'!X13 -> 0.5 | N21: ='Hourly Flow Summary Two-Way'!Y13 -> 0.875
A22: ='Hourly Flow Summary A-B'!A14 -> 0.16666667 | B22: ='Hourly Flow Summary A-B'!W14 -> 0.33333333 | C22: ='Hourly Flow Summary A-B'!X14 -> 0.16666667 | D22: ='Hourly Flow Summary A-B'!Y14 -> 0.125 | F22: ='Hourly Flow Summary B-A'!A14 -> 0.16666667 | G22: ='Hourly Flow Summary B-A'!W14 -> 0 | H22: ='Hourly Flow Summary B-A'!X14 -> 0.33333333 | I22: ='Hourly Flow Summary B-A'!Y14 -> 0.375 | K22: =F22 -> 0.16666667 | L22: ='Hourly Flow Summary Two-Way'!W14 -> 0.33333333 | M22: ='Hourly Flow Summary Two-Way'!X14 -> 0.5 | N22: ='Hourly Flow Summary Two-Way'!Y14 -> 0.5
A23: ='Hourly Flow Summary A-B'!A15 -> 0.20833333 | B23: ='Hourly Flow Summary A-B'!W15 -> 0.33333333 | C23: ='Hourly Flow Summary A-B'!X15 -> 0.66666667 | D23: ='Hourly Flow Summary A-B'!Y15 -> 0.5 | F23: ='Hourly Flow Summary B-A'!A15 -> 0.20833333 | G23: ='Hourly Flow Summary B-A'!W15 -> 1.3333333 | H23: ='Hourly Flow Summary B-A'!X15 -> 1 | I23: ='Hourly Flow Summary B-A'!Y15 -> 1.25 | K23: =F23 -> 0.20833333 | L23: ='Hourly Flow Summary Two-Way'!W15 -> 1.6666667 | M23: ='Hourly Flow Summary Two-Way'!X15 -> 1.6666667 | N23: ='Hourly Flow Summary Two-Way'!Y15 -> 1.75
A24: ='Hourly Flow Summary A-B'!A16 -> 0.25 | B24: ='Hourly Flow Summary A-B'!W16 -> 6 | C24: ='Hourly Flow Summary A-B'!X16 -> 6.3333333 | D24: ='Hourly Flow Summary A-B'!Y16 -> 5.5 | F24: ='Hourly Flow Summary B-A'!A16 -> 0.25 | G24: ='Hourly Flow Summary B-A'!W16 -> 13.333333 | H24: ='Hourly Flow Summary B-A'!X16 -> 14.666667 | I24: ='Hourly Flow Summary B-A'!Y16 -> 12 | K24: =F24 -> 0.25 | L24: ='Hourly Flow Summary Two-Way'!W16 -> 19.333333 | M24: ='Hourly Flow Summary Two-Way'!X16 -> 21 | N24: ='Hourly Flow Summary Two-Way'!Y16 -> 17.5
A25: ='Hourly Flow Summary A-B'!A17 -> 0.29166667 | B25: ='Hourly Flow Summary A-B'!W17 -> 32.666667 | C25: ='Hourly Flow Summary A-B'!X17 -> 36.166667 | D25: ='Hourly Flow Summary A-B'!Y17 -> 28.25 | F25: ='Hourly Flow Summary B-A'!A17 -> 0.29166667 | G25: ='Hourly Flow Summary B-A'!W17 -> 49 | H25: ='Hourly Flow Summary B-A'!X17 -> 54.333333 | I25: ='Hourly Flow Summary B-A'!Y17 -> 42.375 | K25: =F25 -> 0.29166667 | L25: ='Hourly Flow Summary Two-Way'!W17 -> 81.666667 | M25: ='Hourly Flow Summary Two-Way'!X17 -> 90.5 | N25: ='Hourly Flow Summary Two-Way'!Y17 -> 70.625
A26: ='Hourly Flow Summary A-B'!A18 -> 0.33333333 | B26: ='Hourly Flow Summary A-B'!W18 -> 60.666667 | C26: ='Hourly Flow Summary A-B'!X18 -> 58.833333 | D26: ='Hourly Flow Summary A-B'!Y18 -> 46 | F26: ='Hourly Flow Summary B-A'!A18 -> 0.33333333 | G26: ='Hourly Flow Summary B-A'!W18 -> 57.666667 | H26: ='Hourly Flow Summary B-A'!X18 -> 57.166667 | I26: ='Hourly Flow Summary B-A'!Y18 -> 48.25 | K26: =F26 -> 0.33333333 | L26: ='Hourly Flow Summary Two-Way'!W18 -> 118.33333 | M26: ='Hourly Flow Summary Two-Way'!X18 -> 116 | N26: ='Hourly Flow Summary Two-Way'!Y18 -> 94.25
A27: ='Hourly Flow Summary A-B'!A19 -> 0.375 | B27: ='Hourly Flow Summary A-B'!W19 -> 15.666667 | C27: ='Hourly Flow Summary A-B'!X19 -> 17.166667 | D27: ='Hourly Flow Summary A-B'!Y19 -> 18 | F27: ='Hourly Flow Summary B-A'!A19 -> 0.375 | G27: ='Hourly Flow Summary B-A'!W19 -> 31.666667 | H27: ='Hourly Flow Summary B-A'!X19 -> 31.5 | I27: ='Hourly Flow Summary B-A'!Y19 -> 29.111111 | K27: =F27 -> 0.375 | L27: ='Hourly Flow Summary Two-Way'!W19 -> 47.333333 | M27: ='Hourly Flow Summary Two-Way'!X19 -> 48.666667 | N27: ='Hourly Flow Summary Two-Way'!Y19 -> 47.111111
A28: ='Hourly Flow Summary A-B'!A20 -> 0.41666667 | B28: ='Hourly Flow Summary A-B'!W20 -> 16.333333 | C28: ='Hourly Flow Summary A-B'!X20 -> 16.666667 | D28: ='Hourly Flow Summary A-B'!Y20 -> 19.222222 | F28: ='Hourly Flow Summary B-A'!A20 -> 0.41666667 | G28: ='Hourly Flow Summary B-A'!W20 -> 28.333333 | H28: ='Hourly Flow Summary B-A'!X20 -> 25 | I28: ='Hourly Flow Summary B-A'!Y20 -> 26.777778 | K28: =F28 -> 0.41666667 | L28: ='Hourly Flow Summary Two-Way'!W20 -> 44.666667 | M28: ='Hourly Flow Summary Two-Way'!X20 -> 41.666667 | N28: ='Hourly Flow Summary Two-Way'!Y20 -> 46
A29: ='Hourly Flow Summary A-B'!A21 -> 0.45833333 | B29: ='Hourly Flow Summary A-B'!W21 -> 23 | C29: ='Hourly Flow Summary A-B'!X21 -> 23 | D29: ='Hourly Flow Summary A-B'!Y21 -> 22.777778 | F29: ='Hourly Flow Summary B-A'!A21 -> 0.45833333 | G29: ='Hourly Flow Summary B-A'!W21 -> 31.333333 | H29: ='Hourly Flow Summary B-A'!X21 -> 30.333333 | I29: ='Hourly Flow Summary B-A'!Y21 -> 29 | K29: =F29 -> 0.45833333 | L29: ='Hourly Flow Summary Two-Way'!W21 -> 54.333333 | M29: ='Hourly Flow Summary Two-Way'!X21 -> 53.333333 | N29: ='Hourly Flow Summary Two-Way'!Y21 -> 51.777778
... A41: ='Hourly Flow Summary A-B'!A33 -> 0.95833333 | B41: ='Hourly Flow Summary A-B'!W33 -> 2.3333333 | C41: ='Hourly Flow Summary A-B'!X33 -> 2.2 | D41: ='Hourly Flow Summary A-B'!Y33 -> 2.125 | F41: ='Hourly Flow Summary B-A'!A33 -> 0.95833333 | G41: ='Hourly Flow Summary B-A'!W33 -> 2 | H41: ='Hourly Flow Summary B-A'!X33 -> 1.8 | I41: ='Hourly Flow Summary B-A'!Y33 -> 1.625 | K41: =F41 -> 0.95833333 | L41: ='Hourly Flow Summary Two-Way'!W33 -> 4.3333333 | M41: ='Hourly Flow Summary Two-Way'!X33 -> 4 | N41: ='Hourly Flow Summary Two-Way'!Y33 -> 3.75
A42: ='Hourly Flow Summary A-B'!A39 -> 0700-1000 | B42: ='Hourly Flow Summary A-B'!W39 -> 109 | C42: ='Hourly Flow Summary A-B'!X39 -> 112.16667 | D42: ='Hourly Flow Summary A-B'!Y39 -> 92.25 | F42: ='Hourly Flow Summary B-A'!A39 -> 0700-1000 | G42: ='Hourly Flow Summary B-A'!W39 -> 138.33333 | H42: ='Hourly Flow Summary B-A'!X39 -> 143 | I42: ='Hourly Flow Summary B-A'!Y39 -> 119.73611 | K42: =F42 -> 0700-1000 | L42: ='Hourly Flow Summary Two-Way'!W39 -> 247.33333 | M42: ='Hourly Flow Summary Two-Way'!X39 -> 255.16667 | N42: ='Hourly Flow Summary Two-Way'!Y39 -> 211.98611
A43: ='Hourly Flow Summary A-B'!A40 -> 1600-1900 | B43: ='Hourly Flow Summary A-B'!W40 -> 186.66667 | C43: ='Hourly Flow Summary A-B'!X40 -> 176.8 | D43: ='Hourly Flow Summary A-B'!Y40 -> 128.25 | F43: ='Hourly Flow Summary B-A'!A40 -> 1600-1900 | G43: ='Hourly Flow Summary B-A'!W40 -> 106.33333 | H43: ='Hourly Flow Summary B-A'!X40 -> 100.2 | I43: ='Hourly Flow Summary B-A'!Y40 -> 78.875 | K43: =F43 -> 1600-1900 | L43: ='Hourly Flow Summary Two-Way'!W40 -> 293 | M43: ='Hourly Flow Summary Two-Way'!X40 -> 277 | N43: ='Hourly Flow Summary Two-Way'!Y40 -> 207.125
H44: 0.28125
H45: 0.29166667
H46: 0.30208333
H47: 0.3125
H48: 0.32291667
H49: 0.33333333
H50: 0.34375
H51: 0.35416667
H52: 0.36458333
H53: 0.375
H54: 0.38541667
H55: 0.39583333
... H57: 0.41666667
A58: Mean Speed Distributions
G61: 0.45833333
G62: 0.46875
G63: 0.47916667
G64: 0.48958333
G65: 0.5
G66: 0.51041667
G67: 0.52083333
G68: 0.53125
G69: 0.54166667
G70: 0.55208333
G71: 0.5625
G72: 0.57291667
... G79: 0.64583333
A80: Heavies %
A100: Speed Bin Distributions
G109: 0.95833333
G110: 0.96875
G111: 0.97916667
G112: 0.98958333

Sheet Mean Speed Map
A1: Intelligent Data Collection Limited
A3: Client: | C3: ='Front Cover'!C27 -> Oxfordshire CC
A4: Project Number: | C4: ='Front Cover'!C28 -> ID-0325-0019
A5: Site Number: | C5: ='Front Cover'!C29 -> Site 2
A6: Flow from: | C6: ='Front Cover'!D33 -> The Green (W) | G6: to: | H6: ='Front Cover'!H33 -> The Glebe (E) | X6: Flow from: | Z6: ='Front Cover'!D34 -> The Glebe (E) | AD6: to: | AE6: ='Front Cover'!H34 -> The Green (W)
A8: Direction A-B | X8: Direction B-A
A10: Time | B10: ='Front Cover'!C30 -> 45719 | C10: =B10+1 -> 45720 | D10: =C10+1 -> 45721 | E10: =D10+1 -> 45722 | F10: =E10+1 -> 45723 | G10: =F10+1 -> 45724 | H10: =G10+1 -> 45725 | I10: =H10+1 -> 45726 | J10: =I10+1 -> 45727 | ... V10: =U10+1 -> 45739 | X10: Time | Y10: =B10 -> 45719 | Z10: =C10 -> 45720 | AA10: =D10 -> 45721 | AB10: =E10 -> 45722 | AC10: =F10 -> 45723 | AD10: =G10 -> 45724 | AE10: =H10 -> 45725 | AF10: =I10 -> 45726 | ... AS10: =V10 -> 45739
A11: 0 | B11: =IFERROR('Class Bin A-B'!R11/'Class Bin A-B'!R$107,0) -> 0 | C11: =IFERROR('Class Bin A-B'!S11/'Class Bin A-B'!S$107,0) -> 0 | D11: =IFERROR('Class Bin A-B'!T11/'Class Bin A-B'!T$107,0) -> 0 | E11: =IFERROR('Class Bin A-B'!U11/'Class Bin A-B'!U$107,0) -> 0 | F11: =IFERROR('Class Bin A-B'!V11/'Class Bin A-B'!V$107,0) -> 0 | G11: =IFERROR('Class Bin A-B'!W11/'Class Bin A-B'!W$107,0) -> 0 | H11: =IFERROR('Class Bin A-B'!X11/'Class Bin A-B'!X$107,0) -> 0 | I11: =IFERROR('Class Bin A-B'!Y11/'Class Bin A-B'!Y$107,0) -> 0 | ... V11: =IFERROR('Class Bin A-B'!AL11/'Class Bin A-B'!AL$107,0) -> 0 | X11: 0 | Y11: =IFERROR('Class Bin B-A'!R11/'Class Bin B-A'!R$107,0) -> 0 | Z11: =IFERROR('Class Bin B-A'!S11/'Class Bin B-A'!S$107,0) -> 0 | AA11: =IFERROR('Class Bin B-A'!T11/'Class Bin B-A'!T$107,0) -> 0 | AB11: =IFERROR('Class Bin B-A'!U11/'Class Bin B-A'!U$107,0) -> 0 | AC11: =IFERROR('Class Bin B-A'!V11/'Class Bin B-A'!V$107,0) -> 0 | AD11: =IFERROR('Class Bin B-A'!W11/'Class Bin B-A'!W$107,0) -> 0 | AE11: =IFERROR('Class Bin B-A'!X11/'Class Bin B-A'!X$107,0) -> 0 | AF11: =IFERROR('Class Bin B-A'!Y11/'Class Bin B-A'!Y$107,0) -> 0 | ... AS11: =IFERROR('Class Bin B-A'!AL11/'Class Bin B-A'!AL$107,0) -> 0
A12: 0.010416667 | B12: =IFERROR('Class Bin A-B'!R12/'Class Bin A-B'!R$107,0) -> 0 | C12: =IFERROR('Class Bin A-B'!S12/'Class Bin A-B'!S$107,0) -> 0 | D12: =IFERROR('Class Bin A-B'!T12/'Class Bin A-B'!T$107,0) -> 0 | E12: =IFERROR('Class Bin A-B'!U12/'Class Bin A-B'!U$107,0) -> 0 | F12: =IFERROR('Class Bin A-B'!V12/'Class Bin A-B'!V$107,0) -> 0 | G12: =IFERROR('Class Bin A-B'!W12/'Class Bin A-B'!W$107,0) -> 0 | H12: =IFERROR('Class Bin A-B'!X12/'Class Bin A-B'!X$107,0) -> 0 | I12: =IFERROR('Class Bin A-B'!Y12/'Class Bin A-B'!Y$107,0) -> 0 | ... V12: =IFERROR('Class Bin A-B'!AL12/'Class Bin A-B'!AL$107,0) -> 0 | X12: 0.010416667 | Y12: =IFERROR('Class Bin B-A'!R12/'Class Bin B-A'!R$107,0) -> 0 | Z12: =IFERROR('Class Bin B-A'!S12/'Class Bin B-A'!S$107,0) -> 0 | AA12: =IFERROR('Class Bin B-A'!T12/'Class Bin B-A'!T$107,0) -> 0 | AB12: =IFERROR('Class Bin B-A'!U12/'Class Bin B-A'!U$107,0) -> 0 | AC12: =IFERROR('Class Bin B-A'!V12/'Class Bin B-A'!V$107,0) -> 0 | AD12: =IFERROR('Class Bin B-A'!W12/'Class Bin B-A'!W$107,0) -> 0 | AE12: =IFERROR('Class Bin B-A'!X12/'Class Bin B-A'!X$107,0) -> 0 | AF12: =IFERROR('Class Bin B-A'!Y12/'Class Bin B-A'!Y$107,0) -> 0 | ... AS12: =IFERROR('Class Bin B-A'!AL12/'Class Bin B-A'!AL$107,0) -> 0
A13: 0.020833333 | B13: =IFERROR('Class Bin A-B'!R13/'Class Bin A-B'!R$107,0) -> 0 | C13: =IFERROR('Class Bin A-B'!S13/'Class Bin A-B'!S$107,0) -> 0 | D13: =IFERROR('Class Bin A-B'!T13/'Class Bin A-B'!T$107,0) -> 0 | E13: =IFERROR('Class Bin A-B'!U13/'Class Bin A-B'!U$107,0) -> 0 | F13: =IFERROR('Class Bin A-B'!V13/'Class Bin A-B'!V$107,0) -> 0 | G13: =IFERROR('Class Bin A-B'!W13/'Class Bin A-B'!W$107,0) -> 0 | H13: =IFERROR('Class Bin A-B'!X13/'Class Bin A-B'!X$107,0) -> 0 | I13: =IFERROR('Class Bin A-B'!Y13/'Class Bin A-B'!Y$107,0) -> 0 | ... V13: =IFERROR('Class Bin A-B'!AL13/'Class Bin A-B'!AL$107,0) -> 0 | X13: 0.020833333 | Y13: =IFERROR('Class Bin B-A'!R13/'Class Bin B-A'!R$107,0) -> 0 | Z13: =IFERROR('Class Bin B-A'!S13/'Class Bin B-A'!S$107,0) -> 0 | AA13: =IFERROR('Class Bin B-A'!T13/'Class Bin B-A'!T$107,0) -> 0 | AB13: =IFERROR('Class Bin B-A'!U13/'Class Bin B-A'!U$107,0) -> 0 | AC13: =IFERROR('Class Bin B-A'!V13/'Class Bin B-A'!V$107,0) -> 0 | AD13: =IFERROR('Class Bin B-A'!W13/'Class Bin B-A'!W$107,0) -> 0 | AE13: =IFERROR('Class Bin B-A'!X13/'Class Bin B-A'!X$107,0) -> 0 | AF13: =IFERROR('Class Bin B-A'!Y13/'Class Bin B-A'!Y$107,0) -> 0 | ... AS13: =IFERROR('Class Bin B-A'!AL13/'Class Bin B-A'!AL$107,0) -> 0
A14: 0.03125 | B14: =IFERROR('Class Bin A-B'!R14/'Class Bin A-B'!R$107,0) -> 0 | C14: =IFERROR('Class Bin A-B'!S14/'Class Bin A-B'!S$107,0) -> 0 | D14: =IFERROR('Class Bin A-B'!T14/'Class Bin A-B'!T$107,0) -> 0 | E14: =IFERROR('Class Bin A-B'!U14/'Class Bin A-B'!U$107,0) -> 0 | F14: =IFERROR('Class Bin A-B'!V14/'Class Bin A-B'!V$107,0) -> 0 | G14: =IFERROR('Class Bin A-B'!W14/'Class Bin A-B'!W$107,0) -> 0 | H14: =IFERROR('Class Bin A-B'!X14/'Class Bin A-B'!X$107,0) -> 0 | I14: =IFERROR('Class Bin A-B'!Y14/'Class Bin A-B'!Y$107,0) -> 0 | ... V14: =IFERROR('Class Bin A-B'!AL14/'Class Bin A-B'!AL$107,0) -> 0 | X14: 0.03125 | Y14: =IFERROR('Class Bin B-A'!R14/'Class Bin B-A'!R$107,0) -> 0 | Z14: =IFERROR('Class Bin B-A'!S14/'Class Bin B-A'!S$107,0) -> 0 | AA14: =IFERROR('Class Bin B-A'!T14/'Class Bin B-A'!T$107,0) -> 0 | AB14: =IFERROR('Class Bin B-A'!U14/'Class Bin B-A'!U$107,0) -> 0 | AC14: =IFERROR('Class Bin B-A'!V14/'Class Bin B-A'!V$107,0) -> 0 | AD14: =IFERROR('Class Bin B-A'!W14/'Class Bin B-A'!W$107,0) -> 0 | AE14: =IFERROR('Class Bin B-A'!X14/'Class Bin B-A'!X$107,0) -> 0 | AF14: =IFERROR('Class Bin B-A'!Y14/'Class Bin B-A'!Y$107,0) -> 0 | ... AS14: =IFERROR('Class Bin B-A'!AL14/'Class Bin B-A'!AL$107,0) -> 0
A15: 0.041666667 | B15: =IFERROR('Class Bin A-B'!R15/'Class Bin A-B'!R$107,0) -> 0 | C15: =IFERROR('Class Bin A-B'!S15/'Class Bin A-B'!S$107,0) -> 0 | D15: =IFERROR('Class Bin A-B'!T15/'Class Bin A-B'!T$107,0) -> 0 | E15: =IFERROR('Class Bin A-B'!U15/'Class Bin A-B'!U$107,0) -> 0 | F15: =IFERROR('Class Bin A-B'!V15/'Class Bin A-B'!V$107,0) -> 0 | G15: =IFERROR('Class Bin A-B'!W15/'Class Bin A-B'!W$107,0) -> 0 | H15: =IFERROR('Class Bin A-B'!X15/'Class Bin A-B'!X$107,0) -> 0 | I15: =IFERROR('Class Bin A-B'!Y15/'Class Bin A-B'!Y$107,0) -> 1.305136 | ... V15: =IFERROR('Class Bin A-B'!AL15/'Class Bin A-B'!AL$107,0) -> 0 | X15: 0.041666667 | Y15: =IFERROR('Class Bin B-A'!R15/'Class Bin B-A'!R$107,0) -> 0 | Z15: =IFERROR('Class Bin B-A'!S15/'Class Bin B-A'!S$107,0) -> 0 | AA15: =IFERROR('Class Bin B-A'!T15/'Class Bin B-A'!T$107,0) -> 0 | AB15: =IFERROR('Class Bin B-A'!U15/'Class Bin B-A'!U$107,0) -> 0 | AC15: =IFERROR('Class Bin B-A'!V15/'Class Bin B-A'!V$107,0) -> 0 | AD15: =IFERROR('Class Bin B-A'!W15/'Class Bin B-A'!W$107,0) -> 0 | AE15: =IFERROR('Class Bin B-A'!X15/'Class Bin B-A'!X$107,0) -> 0 | AF15: =IFERROR('Class Bin B-A'!Y15/'Class Bin B-A'!Y$107,0) -> 0.59893048 | ... AS15: =IFERROR('Class Bin B-A'!AL15/'Class Bin B-A'!AL$107,0) -> 0
A16: 0.052083333 | B16: =IFERROR('Class Bin A-B'!R16/'Class Bin A-B'!R$107,0) -> 0 | C16: =IFERROR('Class Bin A-B'!S16/'Class Bin A-B'!S$107,0) -> 0 | D16: =IFERROR('Class Bin A-B'!T16/'Class Bin A-B'!T$107,0) -> 0 | E16: =IFERROR('Class Bin A-B'!U16/'Class Bin A-B'!U$107,0) -> 0 | F16: =IFERROR('Class Bin A-B'!V16/'Class Bin A-B'!V$107,0) -> 0 | G16: =IFERROR('Class Bin A-B'!W16/'Class Bin A-B'!W$107,0) -> 0 | H16: =IFERROR('Class Bin A-B'!X16/'Class Bin A-B'!X$107,0) -> 0 | I16: =IFERROR('Class Bin A-B'!Y16/'Class Bin A-B'!Y$107,0) -> 0 | ... V16: =IFERROR('Class Bin A-B'!AL16/'Class Bin A-B'!AL$107,0) -> 0 | X16: 0.052083333 | Y16: =IFERROR('Class Bin B-A'!R16/'Class Bin B-A'!R$107,0) -> 0 | Z16: =IFERROR('Class Bin B-A'!S16/'Class Bin B-A'!S$107,0) -> 0 | AA16: =IFERROR('Class Bin B-A'!T16/'Class Bin B-A'!T$107,0) -> 0 | AB16: =IFERROR('Class Bin B-A'!U16/'Class Bin B-A'!U$107,0) -> 0 | AC16: =IFERROR('Class Bin B-A'!V16/'Class Bin B-A'!V$107,0) -> 0 | AD16: =IFERROR('Class Bin B-A'!W16/'Class Bin B-A'!W$107,0) -> 0 | AE16: =IFERROR('Class Bin B-A'!X16/'Class Bin B-A'!X$107,0) -> 0 | AF16: =IFERROR('Class Bin B-A'!Y16/'Class Bin B-A'!Y$107,0) -> 0 | ... AS16: =IFERROR('Class Bin B-A'!AL16/'Class Bin B-A'!AL$107,0) -> 0
A17: 0.0625 | B17: =IFERROR('Class Bin A-B'!R17/'Class Bin A-B'!R$107,0) -> 0 | C17: =IFERROR('Class Bin A-B'!S17/'Class Bin A-B'!S$107,0) -> 0 | D17: =IFERROR('Class Bin A-B'!T17/'Class Bin A-B'!T$107,0) -> 0 | E17: =IFERROR('Class Bin A-B'!U17/'Class Bin A-B'!U$107,0) -> 0 | F17: =IFERROR('Class Bin A-B'!V17/'Class Bin A-B'!V$107,0) -> 0 | G17: =IFERROR('Class Bin A-B'!W17/'Class Bin A-B'!W$107,0) -> 0 | H17: =IFERROR('Class Bin A-B'!X17/'Class Bin A-B'!X$107,0) -> 0 | I17: =IFERROR('Class Bin A-B'!Y17/'Class Bin A-B'!Y$107,0) -> 0.73825872 | ... V17: =IFERROR('Class Bin A-B'!AL17/'Class Bin A-B'!AL$107,0) -> 0 | X17: 0.0625 | Y17: =IFERROR('Class Bin B-A'!R17/'Class Bin B-A'!R$107,0) -> 0 | Z17: =IFERROR('Class Bin B-A'!S17/'Class Bin B-A'!S$107,0) -> 0 | AA17: =IFERROR('Class Bin B-A'!T17/'Class Bin B-A'!T$107,0) -> 0 | AB17: =IFERROR('Class Bin B-A'!U17/'Class Bin B-A'!U$107,0) -> 0 | AC17: =IFERROR('Class Bin B-A'!V17/'Class Bin B-A'!V$107,0) -> 0 | AD17: =IFERROR('Class Bin B-A'!W17/'Class Bin B-A'!W$107,0) -> 0 | AE17: =IFERROR('Class Bin B-A'!X17/'Class Bin B-A'!X$107,0) -> 0 | AF17: =IFERROR('Class Bin B-A'!Y17/'Class Bin B-A'!Y$107,0) -> 0.64396285 | ... AS17: =IFERROR('Class Bin B-A'!AL17/'Class Bin B-A'!AL$107,0) -> 0
A18: 0.072916667 | B18: =IFERROR('Class Bin A-B'!R18/'Class Bin A-B'!R$107,0) -> 0 | C18: =IFERROR('Class Bin A-B'!S18/'Class Bin A-B'!S$107,0) -> 0 | D18: =IFERROR('Class Bin A-B'!T18/'Class Bin A-B'!T$107,0) -> 0 | E18: =IFERROR('Class Bin A-B'!U18/'Class Bin A-B'!U$107,0) -> 0 | F18: =IFERROR('Class Bin A-B'!V18/'Class Bin A-B'!V$107,0) -> 0 | G18: =IFERROR('Class Bin A-B'!W18/'Class Bin A-B'!W$107,0) -> 0 | H18: =IFERROR('Class Bin A-B'!X18/'Class Bin A-B'!X$107,0) -> 0 | I18: =IFERROR('Class Bin A-B'!Y18/'Class Bin A-B'!Y$107,0) -> 0 | ... V18: =IFERROR('Class Bin A-B'!AL18/'Class Bin A-B'!AL$107,0) -> 0 | X18: 0.072916667 | Y18: =IFERROR('Class Bin B-A'!R18/'Class Bin B-A'!R$107,0) -> 0 | Z18: =IFERROR('Class Bin B-A'!S18/'Class Bin B-A'!S$107,0) -> 0 | AA18: =IFERROR('Class Bin B-A'!T18/'Class Bin B-A'!T$107,0) -> 0 | AB18: =IFERROR('Class Bin B-A'!U18/'Class Bin B-A'!U$107,0) -> 0 | AC18: =IFERROR('Class Bin B-A'!V18/'Class Bin B-A'!V$107,0) -> 0 | AD18: =IFERROR('Class Bin B-A'!W18/'Class Bin B-A'!W$107,0) -> 0 | AE18: =IFERROR('Class Bin B-A'!X18/'Class Bin B-A'!X$107,0) -> 0 | AF18: =IFERROR('Class Bin B-A'!Y18/'Class Bin B-A'!Y$107,0) -> 0 | ... AS18: =IFERROR('Class Bin B-A'!AL18/'Class Bin B-A'!AL$107,0) -> 0
A19: 0.083333333 | B19: =IFERROR('Class Bin A-B'!R19/'Class Bin A-B'!R$107,0) -> 0 | C19: =IFERROR('Class Bin A-B'!S19/'Class Bin A-B'!S$107,0) -> 0 | D19: =IFERROR('Class Bin A-B'!T19/'Class Bin A-B'!T$107,0) -> 0 | E19: =IFERROR('Class Bin A-B'!U19/'Class Bin A-B'!U$107,0) -> 0 | F19: =IFERROR('Class Bin A-B'!V19/'Class Bin A-B'!V$107,0) -> 0 | G19: =IFERROR('Class Bin A-B'!W19/'Class Bin A-B'!W$107,0) -> 0 | H19: =IFERROR('Class Bin A-B'!X19/'Class Bin A-B'!X$107,0) -> 0 | I19: =IFERROR('Class Bin A-B'!Y19/'Class Bin A-B'!Y$107,0) -> 0 | ... V19: =IFERROR('Class Bin A-B'!AL19/'Class Bin A-B'!AL$107,0) -> 0 | X19: 0.083333333 | Y19: =IFERROR('Class Bin B-A'!R19/'Class Bin B-A'!R$107,0) -> 0 | Z19: =IFERROR('Class Bin B-A'!S19/'Class Bin B-A'!S$107,0) -> 0 | AA19: =IFERROR('Class Bin B-A'!T19/'Class Bin B-A'!T$107,0) -> 0 | AB19: =IFERROR('Class Bin B-A'!U19/'Class Bin B-A'!U$107,0) -> 0 | AC19: =IFERROR('Class Bin B-A'!V19/'Class Bin B-A'!V$107,0) -> 0 | AD19: =IFERROR('Class Bin B-A'!W19/'Class Bin B-A'!W$107,0) -> 0 | AE19: =IFERROR('Class Bin B-A'!X19/'Class Bin B-A'!X$107,0) -> 0 | AF19: =IFERROR('Class Bin B-A'!Y19/'Class Bin B-A'!Y$107,0) -> 0.65747256 | ... AS19: =IFERROR('Class Bin B-A'!AL19/'Class Bin B-A'!AL$107,0) -> 0
A20: 0.09375 | B20: =IFERROR('Class Bin A-B'!R20/'Class Bin A-B'!R$107,0) -> 0 | C20: =IFERROR('Class Bin A-B'!S20/'Class Bin A-B'!S$107,0) -> 0 | D20: =IFERROR('Class Bin A-B'!T20/'Class Bin A-B'!T$107,0) -> 0 | E20: =IFERROR('Class Bin A-B'!U20/'Class Bin A-B'!U$107,0) -> 0 | F20: =IFERROR('Class Bin A-B'!V20/'Class Bin A-B'!V$107,0) -> 0 | G20: =IFERROR('Class Bin A-B'!W20/'Class Bin A-B'!W$107,0) -> 0 | H20: =IFERROR('Class Bin A-B'!X20/'Class Bin A-B'!X$107,0) -> 0 | I20: =IFERROR('Class Bin A-B'!Y20/'Class Bin A-B'!Y$107,0) -> 1.6874485 | ... V20: =IFERROR('Class Bin A-B'!AL20/'Class Bin A-B'!AL$107,0) -> 0 | X20: 0.09375 | Y20: =IFERROR('Class Bin B-A'!R20/'Class Bin B-A'!R$107,0) -> 0 | Z20: =IFERROR('Class Bin B-A'!S20/'Class Bin B-A'!S$107,0) -> 0 | AA20: =IFERROR('Class Bin B-A'!T20/'Class Bin B-A'!T$107,0) -> 0 | AB20: =IFERROR('Class Bin B-A'!U20/'Class Bin B-A'!U$107,0) -> 0 | AC20: =IFERROR('Class Bin B-A'!V20/'Class Bin B-A'!V$107,0) -> 0 | AD20: =IFERROR('Class Bin B-A'!W20/'Class Bin B-A'!W$107,0) -> 0 | AE20: =IFERROR('Class Bin B-A'!X20/'Class Bin B-A'!X$107,0) -> 0 | AF20: =IFERROR('Class Bin B-A'!Y20/'Class Bin B-A'!Y$107,0) -> 0 | ... AS20: =IFERROR('Class Bin B-A'!AL20/'Class Bin B-A'!AL$107,0) -> 0
A21: 0.10416667 | B21: =IFERROR('Class Bin A-B'!R21/'Class Bin A-B'!R$107,0) -> 0 | C21: =IFERROR('Class Bin A-B'!S21/'Class Bin A-B'!S$107,0) -> 0 | D21: =IFERROR('Class Bin A-B'!T21/'Class Bin A-B'!T$107,0) -> 0 | E21: =IFERROR('Class Bin A-B'!U21/'Class Bin A-B'!U$107,0) -> 0 | F21: =IFERROR('Class Bin A-B'!V21/'Class Bin A-B'!V$107,0) -> 0 | G21: =IFERROR('Class Bin A-B'!W21/'Class Bin A-B'!W$107,0) -> 0 | H21: =IFERROR('Class Bin A-B'!X21/'Class Bin A-B'!X$107,0) -> 0 | I21: =IFERROR('Class Bin A-B'!Y21/'Class Bin A-B'!Y$107,0) -> 0 | ... V21: =IFERROR('Class Bin A-B'!AL21/'Class Bin A-B'!AL$107,0) -> 0 | X21: 0.10416667 | Y21: =IFERROR('Class Bin B-A'!R21/'Class Bin B-A'!R$107,0) -> 0 | Z21: =IFERROR('Class Bin B-A'!S21/'Class Bin B-A'!S$107,0) -> 0 | AA21: =IFERROR('Class Bin B-A'!T21/'Class Bin B-A'!T$107,0) -> 0 | AB21: =IFERROR('Class Bin B-A'!U21/'Class Bin B-A'!U$107,0) -> 0 | AC21: =IFERROR('Class Bin B-A'!V21/'Class Bin B-A'!V$107,0) -> 0 | AD21: =IFERROR('Class Bin B-A'!W21/'Class Bin B-A'!W$107,0) -> 0 | AE21: =IFERROR('Class Bin B-A'!X21/'Class Bin B-A'!X$107,0) -> 0 | AF21: =IFERROR('Class Bin B-A'!Y21/'Class Bin B-A'!Y$107,0) -> 0 | ... AS21: =IFERROR('Class Bin B-A'!AL21/'Class Bin B-A'!AL$107,0) -> 0
A22: 0.11458333 | B22: =IFERROR('Class Bin A-B'!R22/'Class Bin A-B'!R$107,0) -> 0 | C22: =IFERROR('Class Bin A-B'!S22/'Class Bin A-B'!S$107,0) -> 0 | D22: =IFERROR('Class Bin A-B'!T22/'Class Bin A-B'!T$107,0) -> 0 | E22: =IFERROR('Class Bin A-B'!U22/'Class Bin A-B'!U$107,0) -> 0 | F22: =IFERROR('Class Bin A-B'!V22/'Class Bin A-B'!V$107,0) -> 0 | G22: =IFERROR('Class Bin A-B'!W22/'Class Bin A-B'!W$107,0) -> 0 | H22: =IFERROR('Class Bin A-B'!X22/'Class Bin A-B'!X$107,0) -> 0 | I22: =IFERROR('Class Bin A-B'!Y22/'Class Bin A-B'!Y$107,0) -> 0 | ... V22: =IFERROR('Class Bin A-B'!AL22/'Class Bin A-B'!AL$107,0) -> 0 | X22: 0.11458333 | Y22: =IFERROR('Class Bin B-A'!R22/'Class Bin B-A'!R$107,0) -> 0 | Z22: =IFERROR('Class Bin B-A'!S22/'Class Bin B-A'!S$107,0) -> 0 | AA22: =IFERROR('Class Bin B-A'!T22/'Class Bin B-A'!T$107,0) -> 0 | AB22: =IFERROR('Class Bin B-A'!U22/'Class Bin B-A'!U$107,0) -> 0 | AC22: =IFERROR('Class Bin B-A'!V22/'Class Bin B-A'!V$107,0) -> 0 | AD22: =IFERROR('Class Bin B-A'!W22/'Class Bin B-A'!W$107,0) -> 0 | AE22: =IFERROR('Class Bin B-A'!X22/'Class Bin B-A'!X$107,0) -> 0 | AF22: =IFERROR('Class Bin B-A'!Y22/'Class Bin B-A'!Y$107,0) -> 1.2924289 | ... AS22: =IFERROR('Class Bin B-A'!AL22/'Class Bin B-A'!AL$107,0) -> 0
... A106: 0.98958333 | B106: =IFERROR('Class Bin A-B'!R106/'Class Bin A-B'!R$107,0) -> 0 | C106: =IFERROR('Class Bin A-B'!S106/'Class Bin A-B'!S$107,0) -> 0 | D106: =IFERROR('Class Bin A-B'!T106/'Class Bin A-B'!T$107,0) -> 0 | E106: =IFERROR('Class Bin A-B'!U106/'Class Bin A-B'!U$107,0) -> 0 | F106: =IFERROR('Class Bin A-B'!V106/'Class Bin A-B'!V$107,0) -> 0 | G106: =IFERROR('Class Bin A-B'!W106/'Class Bin A-B'!W$107,0) -> 0 | H106: =IFERROR('Class Bin A-B'!X106/'Class Bin A-B'!X$107,0) -> 0.98480556 | I106: =IFERROR('Class Bin A-B'!Y106/'Class Bin A-B'!Y$107,0) -> 0 | ... V106: =IFERROR('Class Bin A-B'!AL106/'Class Bin A-B'!AL$107,0) -> 0 | X106: 0.98958333 | Y106: =IFERROR('Class Bin B-A'!R106/'Class Bin B-A'!R$107,0) -> 0 | Z106: =IFERROR('Class Bin B-A'!S106/'Class Bin B-A'!S$107,0) -> 0 | AA106: =IFERROR('Class Bin B-A'!T106/'Class Bin B-A'!T$107,0) -> 0 | AB106: =IFERROR('Class Bin B-A'!U106/'Class Bin B-A'!U$107,0) -> 0 | AC106: =IFERROR('Class Bin B-A'!V106/'Class Bin B-A'!V$107,0) -> 0 | AD106: =IFERROR('Class Bin B-A'!W106/'Class Bin B-A'!W$107,0) -> 0 | AE106: =IFERROR('Class Bin B-A'!X106/'Class Bin B-A'!X$107,0) -> 1.2150866 | AF106: =IFERROR('Class Bin B-A'!Y106/'Class Bin B-A'!Y$107,0) -> 0 | ... AS106: =IFERROR('Class Bin B-A'!AL106/'Class Bin B-A'!AL$107,0) -> 0
A107: IP FF Speed | B107: ='Class Bin A-B'!R107 -> - | C107: ='Class Bin A-B'!S107 -> - | D107: ='Class Bin A-B'!T107 -> - | E107: ='Class Bin A-B'!U107 -> - | F107: ='Class Bin A-B'!V107 -> - | G107: ='Class Bin A-B'!W107 -> - | H107: ='Class Bin A-B'!X107 -> 24.26875 | I107: ='Class Bin A-B'!Y107 -> 22.75625 | ... V107: ='Class Bin A-B'!AL107 -> - | X107: IP FF Speed | Y107: ='Class Bin B-A'!R107 -> - | Z107: ='Class Bin B-A'!S107 -> - | AA107: ='Class Bin B-A'!T107 -> - | AB107: ='Class Bin B-A'!U107 -> - | AC107: ='Class Bin B-A'!V107 -> - | AD107: ='Class Bin B-A'!W107 -> - | AE107: ='Class Bin B-A'!X107 -> 24.525 | AF107: ='Class Bin B-A'!Y107 -> 22.20625 | ... AS107: ='Class Bin B-A'!AL107 -> -
A108: >90% | B108: =COUNTIF(B11:B106,">=0.9") -> 0 | C108: =COUNTIF(C11:C106,">=0.9") -> 0 | D108: =COUNTIF(D11:D106,">=0.9") -> 0 | E108: =COUNTIF(E11:E106,">=0.9") -> 0 | F108: =COUNTIF(F11:F106,">=0.9") -> 0 | G108: =COUNTIF(G11:G106,">=0.9") -> 0 | H108: =COUNTIF(H11:H106,">=0.9") -> 43 | I108: =COUNTIF(I11:I106,">=0.9") -> 61 | ... V108: =COUNTIF(V11:V106,">=0.9") -> 0 | X108: >90% | Y108: =COUNTIF(Y11:Y106,">=0.9") -> 0 | Z108: =COUNTIF(Z11:Z106,">=0.9") -> 0 | AA108: =COUNTIF(AA11:AA106,">=0.9") -> 0 | AB108: =COUNTIF(AB11:AB106,">=0.9") -> 0 | AC108: =COUNTIF(AC11:AC106,">=0.9") -> 0 | AD108: =COUNTIF(AD11:AD106,">=0.9") -> 0 | AE108: =COUNTIF(AE11:AE106,">=0.9") -> 33 | AF108: =COUNTIF(AF11:AF106,">=0.9") -> 53 | ... AS108: =COUNTIF(AS11:AS106,">=0.9") -> 0
A109: >80% | B109: =COUNTIFS(B11:B106,">=0.8",B11:B106,"<0.9") -> 0 | C109: =COUNTIFS(C11:C106,">=0.8",C11:C106,"<0.9") -> 0 | D109: =COUNTIFS(D11:D106,">=0.8",D11:D106,"<0.9") -> 0 | E109: =COUNTIFS(E11:E106,">=0.8",E11:E106,"<0.9") -> 0 | F109: =COUNTIFS(F11:F106,">=0.8",F11:F106,"<0.9") -> 0 | G109: =COUNTIFS(G11:G106,">=0.8",G11:G106,"<0.9") -> 0 | H109: =COUNTIFS(H11:H106,">=0.8",H11:H106,"<0.9") -> 8 | I109: =COUNTIFS(I11:I106,">=0.8",I11:I106,"<0.9") -> 2 | ... V109: =COUNTIFS(V11:V106,">=0.8",V11:V106,"<0.9") -> 0 | X109: >80% | Y109: =COUNTIFS(Y11:Y106,">=0.8",Y11:Y106,"<0.9") -> 0 | Z109: =COUNTIFS(Z11:Z106,">=0.8",Z11:Z106,"<0.9") -> 0 | AA109: =COUNTIFS(AA11:AA106,">=0.8",AA11:AA106,"<0.9") -> 0 | AB109: =COUNTIFS(AB11:AB106,">=0.8",AB11:AB106,"<0.9") -> 0 | AC109: =COUNTIFS(AC11:AC106,">=0.8",AC11:AC106,"<0.9") -> 0 | AD109: =COUNTIFS(AD11:AD106,">=0.8",AD11:AD106,"<0.9") -> 0 | AE109: =COUNTIFS(AE11:AE106,">=0.8",AE11:AE106,"<0.9") -> 13 | AF109: =COUNTIFS(AF11:AF106,">=0.8",AF11:AF106,"<0.9") -> 8 | ... AS109: =COUNTIFS(AS11:AS106,">=0.8",AS11:AS106,"<0.9") -> 0
A110: >70% | B110: =COUNTIFS(B11:B106,">=0.7",B11:B106,"<0.8") -> 0 | C110: =COUNTIFS(C11:C106,">=0.7",C11:C106,"<0.8") -> 0 | D110: =COUNTIFS(D11:D106,">=0.7",D11:D106,"<0.8") -> 0 | E110: =COUNTIFS(E11:E106,">=0.7",E11:E106,"<0.8") -> 0 | F110: =COUNTIFS(F11:F106,">=0.7",F11:F106,"<0.8") -> 0 | G110: =COUNTIFS(G11:G106,">=0.7",G11:G106,"<0.8") -> 0 | H110: =COUNTIFS(H11:H106,">=0.7",H11:H106,"<0.8") -> 0 | I110: =COUNTIFS(I11:I106,">=0.7",I11:I106,"<0.8") -> 3 | ... V110: =COUNTIFS(V11:V106,">=0.7",V11:V106,"<0.8") -> 0 | X110: >70% | Y110: =COUNTIFS(Y11:Y106,">=0.7",Y11:Y106,"<0.8") -> 0 | Z110: =COUNTIFS(Z11:Z106,">=0.7",Z11:Z106,"<0.8") -> 0 | AA110: =COUNTIFS(AA11:AA106,">=0.7",AA11:AA106,"<0.8") -> 0 | AB110: =COUNTIFS(AB11:AB106,">=0.7",AB11:AB106,"<0.8") -> 0 | AC110: =COUNTIFS(AC11:AC106,">=0.7",AC11:AC106,"<0.8") -> 0 | AD110: =COUNTIFS(AD11:AD106,">=0.7",AD11:AD106,"<0.8") -> 0 | AE110: =COUNTIFS(AE11:AE106,">=0.7",AE11:AE106,"<0.8") -> 3 | AF110: =COUNTIFS(AF11:AF106,">=0.7",AF11:AF106,"<0.8") -> 2 | ... AS110: =COUNTIFS(AS11:AS106,">=0.7",AS11:AS106,"<0.8") -> 0
A111: >60% | B111: =COUNTIFS(B11:B106,">=0.6",B11:B106,"<0.7") -> 0 | C111: =COUNTIFS(C11:C106,">=0.6",C11:C106,"<0.7") -> 0 | D111: =COUNTIFS(D11:D106,">=0.6",D11:D106,"<0.7") -> 0 | E111: =COUNTIFS(E11:E106,">=0.6",E11:E106,"<0.7") -> 0 | F111: =COUNTIFS(F11:F106,">=0.6",F11:F106,"<0.7") -> 0 | G111: =COUNTIFS(G11:G106,">=0.6",G11:G106,"<0.7") -> 0 | H111: =COUNTIFS(H11:H106,">=0.6",H11:H106,"<0.7") -> 0 | I111: =COUNTIFS(I11:I106,">=0.6",I11:I106,"<0.7") -> 1 | ... V111: =COUNTIFS(V11:V106,">=0.6",V11:V106,"<0.7") -> 0 | X111: >60% | Y111: =COUNTIFS(Y11:Y106,">=0.6",Y11:Y106,"<0.7") -> 0 | Z111: =COUNTIFS(Z11:Z106,">=0.6",Z11:Z106,"<0.7") -> 0 | AA111: =COUNTIFS(AA11:AA106,">=0.6",AA11:AA106,"<0.7") -> 0 | AB111: =COUNTIFS(AB11:AB106,">=0.6",AB11:AB106,"<0.7") -> 0 | AC111: =COUNTIFS(AC11:AC106,">=0.6",AC11:AC106,"<0.7") -> 0 | AD111: =COUNTIFS(AD11:AD106,">=0.6",AD11:AD106,"<0.7") -> 0 | AE111: =COUNTIFS(AE11:AE106,">=0.6",AE11:AE106,"<0.7") -> 2 | AF111: =COUNTIFS(AF11:AF106,">=0.6",AF11:AF106,"<0.7") -> 2 | ... AS111: =COUNTIFS(AS11:AS106,">=0.6",AS11:AS106,"<0.7") -> 0
A112: <60% | B112: =COUNTIFS(B11:B106,">=0.01",B11:B106,"<0.6") -> 0 | C112: =COUNTIFS(C11:C106,">=0.01",C11:C106,"<0.6") -> 0 | D112: =COUNTIFS(D11:D106,">=0.01",D11:D106,"<0.6") -> 0 | E112: =COUNTIFS(E11:E106,">=0.01",E11:E106,"<0.6") -> 0 | F112: =COUNTIFS(F11:F106,">=0.01",F11:F106,"<0.6") -> 0 | G112: =COUNTIFS(G11:G106,">=0.01",G11:G106,"<0.6") -> 0 | H112: =COUNTIFS(H11:H106,">=0.01",H11:H106,"<0.6") -> 0 | I112: =COUNTIFS(I11:I106,">=0.01",I11:I106,"<0.6") -> 2 | ... V112: =COUNTIFS(V11:V106,">=0.01",V11:V106,"<0.6") -> 0 | X112: <60% | Y112: =COUNTIFS(Y11:Y106,">=0.01",Y11:Y106,"<0.6") -> 0 | Z112: =COUNTIFS(Z11:Z106,">=0.01",Z11:Z106,"<0.6") -> 0 | AA112: =COUNTIFS(AA11:AA106,">=0.01",AA11:AA106,"<0.6") -> 0 | AB112: =COUNTIFS(AB11:AB106,">=0.01",AB11:AB106,"<0.6") -> 0 | AC112: =COUNTIFS(AC11:AC106,">=0.01",AC11:AC106,"<0.6") -> 0 | AD112: =COUNTIFS(AD11:AD106,">=0.01",AD11:AD106,"<0.6") -> 0 | AE112: =COUNTIFS(AE11:AE106,">=0.01",AE11:AE106,"<0.6") -> 0 | AF112: =COUNTIFS(AF11:AF106,">=0.01",AF11:AF106,"<0.6") -> 1 | ... AS112: =COUNTIFS(AS11:AS106,">=0.01",AS11:AS106,"<0.6") -> 0
A113: No Data | B113: =COUNTIF(B11:B106,"=0") -> 96 | C113: =COUNTIF(C11:C106,"=0") -> 96 | D113: =COUNTIF(D11:D106,"=0") -> 96 | E113: =COUNTIF(E11:E106,"=0") -> 96 | F113: =COUNTIF(F11:F106,"=0") -> 96 | G113: =COUNTIF(G11:G106,"=0") -> 96 | H113: =COUNTIF(H11:H106,"=0") -> 45 | I113: =COUNTIF(I11:I106,"=0") -> 27 | ... V113: =COUNTIF(V11:V106,"=0") -> 96 | X113: No Data | Y113: =COUNTIF(Y11:Y106,"=0") -> 96 | Z113: =COUNTIF(Z11:Z106,"=0") -> 96 | AA113: =COUNTIF(AA11:AA106,"=0") -> 96 | AB113: =COUNTIF(AB11:AB106,"=0") -> 96 | AC113: =COUNTIF(AC11:AC106,"=0") -> 96 | AD113: =COUNTIF(AD11:AD106,"=0") -> 96 | AE113: =COUNTIF(AE11:AE106,"=0") -> 45 | AF113: =COUNTIF(AF11:AF106,"=0") -> 30 | ... AS113: =COUNTIF(AS11:AS106,"=0") -> 96
B115: Mean speed > 90% of daily interpeak free-flow speed | M115: Guidance Notes
B116: Mean speed > 80% of daily interpeak free-flow speed | M116: The interpeak free flow mean speed for each day is taken from the 10:00-12:00 and 14:00-16:00 time periods. Congestion across the tubes can lead to some underperformance of the ATC equipment. Periods highlighted as being significantly below free-flow speeds may possibly be affected. Congestion on the lane closest to the ATC unit can also affect data collection on the far side lane if vehicles are queued on top of the tubes.
B117: Mean speed > 70% of daily interpeak free-flow speed
B118: Mean speed > 60% of daily interpeak free-flow speed
B119: Mean speed < 60% of daily interpeak free-flow speed
B120: No data collected / No daily interpeak free-flow speed available

Sheet Class Bin A-B
A1: Intelligent Data Collection Limited
A3: Client: | B3: ='Front Cover'!C27 -> Oxfordshire CC
A4: Project Number: | B4: ='Front Cover'!C28 -> ID-0325-0019
A5: Site Number: | B5: ='Front Cover'!C29 -> Site 2
A6: Flow from: | B6: ='Front Cover'!D33 -> The Green (W) | D6: to: | E6: ='Front Cover'!H33 -> The Glebe (E)
A8: Date | B8: Monday | C8: ='Front Cover'!C30 -> 45719 | Q8: Mean Speeds
B9: Total | C9: Cycle | D9: Motor Cycle | E9: Car | F9: LGV | G9: 2 Axled Rigid | H9: 3 Axled Rigid | I9: 4 Axled Rigid | J9: 3 Axled Artic | K9: 4 Axled Artic | L9: 5+ Axled Artic | M9: Bus | N9: Mean Speed (Mph) | O9: 85%ile Speed (Mph)
A10: Time | Q10: Time | R10: =C8 -> 45719 | S10: =R10+1 -> 45720 | T10: =S10+1 -> 45721 | U10: =T10+1 -> 45722 | V10: =U10+1 -> 45723 | W10: =V10+1 -> 45724 | X10: =W10+1 -> 45725 | Y10: =X10+1 -> 45726 | Z10: =Y10+1 -> 45727 | ... AL10: =AK10+1 -> 45739
A11: 0 | B11: * | C11: * | D11: * | E11: * | F11: * | G11: * | H11: * | I11: * | J11: * | K11: * | L11: * | M11: * | N11: * | O11: * | Q11: 0 | R11: =N11 -> * | S11: =N115 -> * | T11: =N219 -> * | U11: =N323 -> * | V11: =N427 -> * | W11: =N531 -> * | X11: =N635 -> * | Y11: =N739 -> - | Z11: =N843 -> - | AA11: =N947 -> - | AB11: =N1051 -> - | AC11: =N1155 -> 22.9 | AD11: =N1259 -> 36.2 | AE11: =N1363 -> - | AF11: =N1467 -> - | AG11: =N1571 -> * | AH11: =N1675 -> * | AI11: =N1779 -> * | AJ11: =N1883 -> * | AK11: =N1987 -> * | AL11: =N2091 -> *
A12: 0.010416667 | B12: * | C12: * | D12: * | E12: * | F12: * | G12: * | H12: * | I12: * | J12: * | K12: * | L12: * | M12: * | N12: * | O12: * | Q12: 0.010416667 | R12: =N12 -> * | S12: =N116 -> * | T12: =N220 -> * | U12: =N324 -> * | V12: =N428 -> * | W12: =N532 -> * | X12: =N636 -> * | Y12: =N740 -> - | Z12: =N844 -> - | AA12: =N948 -> 15.2 | AB12: =N1052 -> - | AC12: =N1156 -> - | AD12: =N1260 -> 24.9 | AE12: =N1364 -> - | AF12: =N1468 -> - | AG12: =N1572 -> * | AH12: =N1676 -> * | AI12: =N1780 -> * | AJ12: =N1884 -> * | AK12: =N1988 -> * | AL12: =N2092 -> *
A13: 0.020833333 | B13: * | C13: * | D13: * | E13: * | F13: * | G13: * | H13: * | I13: * | J13: * | K13: * | L13: * | M13: * | N13: * | O13: * | Q13: 0.020833333 | R13: =N13 -> * | S13: =N117 -> * | T13: =N221 -> * | U13: =N325 -> * | V13: =N429 -> * | W13: =N533 -> * | X13: =N637 -> * | Y13: =N741 -> - | Z13: =N845 -> - | AA13: =N949 -> - | AB13: =N1053 -> 21.5 | AC13: =N1157 -> - | AD13: =N1261 -> - | AE13: =N1365 -> 16 | AF13: =N1469 -> - | AG13: =N1573 -> * | AH13: =N1677 -> * | AI13: =N1781 -> * | AJ13: =N1885 -> * | AK13: =N1989 -> * | AL13: =N2093 -> *
A14: 0.03125 | B14: * | C14: * | D14: * | E14: * | F14: * | G14: * | H14: * | I14: * | J14: * | K14: * | L14: * | M14: * | N14: * | O14: * | Q14: 0.03125 | R14: =N14 -> * | S14: =N118 -> * | T14: =N222 -> * | U14: =N326 -> * | V14: =N430 -> * | W14: =N534 -> * | X14: =N638 -> * | Y14: =N742 -> - | Z14: =N846 -> - | AA14: =N950 -> - | AB14: =N1054 -> - | AC14: =N1158 -> - | AD14: =N1262 -> - | AE14: =N1366 -> - | AF14: =N1470 -> - | AG14: =N1574 -> * | AH14: =N1678 -> * | AI14: =N1782 -> * | AJ14: =N1886 -> * | AK14: =N1990 -> * | AL14: =N2094 -> *
A15: 0.041666667 | B15: * | C15: * | D15: * | E15: * | F15: * | G15: * | H15: * | I15: * | J15: * | K15: * | L15: * | M15: * | N15: * | O15: * | Q15: 0.041666667 | R15: =N15 -> * | S15: =N119 -> * | T15: =N223 -> * | U15: =N327 -> * | V15: =N431 -> * | W15: =N535 -> * | X15: =N639 -> * | Y15: =N743 -> 29.7 | Z15: =N847 -> - | AA15: =N951 -> 22.5 | AB15: =N1055 -> - | AC15: =N1159 -> 28.2 | AD15: =N1263 -> - | AE15: =N1367 -> - | AF15: =N1471 -> - | AG15: =N1575 -> * | AH15: =N1679 -> * | AI15: =N1783 -> * | AJ15: =N1887 -> * | AK15: =N1991 -> * | AL15: =N2095 -> *
A16: 0.052083333 | B16: * | C16: * | D16: * | E16: * | F16: * | G16: * | H16: * | I16: * | J16: * | K16: * | L16: * | M16: * | N16: * | O16: * | Q16: 0.052083333 | R16: =N16 -> * | S16: =N120 -> * | T16: =N224 -> * | U16: =N328 -> * | V16: =N432 -> * | W16: =N536 -> * | X16: =N640 -> * | Y16: =N744 -> - | Z16: =N848 -> - | AA16: =N952 -> - | AB16: =N1056 -> - | AC16: =N1160 -> 23.9 | AD16: =N1264 -> - | AE16: =N1368 -> 27.4 | AF16: =N1472 -> - | AG16: =N1576 -> * | AH16: =N1680 -> * | AI16: =N1784 -> * | AJ16: =N1888 -> * | AK16: =N1992 -> * | AL16: =N2096 -> *
A17: 0.0625 | B17: * | C17: * | D17: * | E17: * | F17: * | G17: * | H17: * | I17: * | J17: * | K17: * | L17: * | M17: * | N17: * | O17: * | Q17: 0.0625 | R17: =N17 -> * | S17: =N121 -> * | T17: =N225 -> * | U17: =N329 -> * | V17: =N433 -> * | W17: =N537 -> * | X17: =N641 -> * | Y17: =N745 -> 16.8 | Z17: =N849 -> - | AA17: =N953 -> 29.5 | AB17: =N1057 -> - | AC17: =N1161 -> - | AD17: =N1265 -> - | AE17: =N1369 -> - | AF17: =N1473 -> - | AG17: =N1577 -> * | AH17: =N1681 -> * | AI17: =N1785 -> * | AJ17: =N1889 -> * | AK17: =N1993 -> * | AL17: =N2097 -> *
A18: 0.072916667 | B18: * | C18: * | D18: * | E18: * | F18: * | G18: * | H18: * | I18: * | J18: * | K18: * | L18: * | M18: * | N18: * | O18: * | Q18: 0.072916667 | R18: =N18 -> * | S18: =N122 -> * | T18: =N226 -> * | U18: =N330 -> * | V18: =N434 -> * | W18: =N538 -> * | X18: =N642 -> * | Y18: =N746 -> - | Z18: =N850 -> - | AA18: =N954 -> - | AB18: =N1058 -> - | AC18: =N1162 -> 18.9 | AD18: =N1266 -> - | AE18: =N1370 -> - | AF18: =N1474 -> - | AG18: =N1578 -> * | AH18: =N1682 -> * | AI18: =N1786 -> * | AJ18: =N1890 -> * | AK18: =N1994 -> * | AL18: =N2098 -> *
A19: 0.083333333 | B19: * | C19: * | D19: * | E19: * | F19: * | G19: * | H19: * | I19: * | J19: * | K19: * | L19: * | M19: * | N19: * | O19: * | Q19: 0.083333333 | R19: =N19 -> * | S19: =N123 -> * | T19: =N227 -> * | U19: =N331 -> * | V19: =N435 -> * | W19: =N539 -> * | X19: =N643 -> * | Y19: =N747 -> - | Z19: =N851 -> - | AA19: =N955 -> - | AB19: =N1059 -> - | AC19: =N1163 -> - | AD19: =N1267 -> - | AE19: =N1371 -> - | AF19: =N1475 -> - | AG19: =N1579 -> * | AH19: =N1683 -> * | AI19: =N1787 -> * | AJ19: =N1891 -> * | AK19: =N1995 -> * | AL19: =N2099 -> *
A20: 0.09375 | B20: * | C20: * | D20: * | E20: * | F20: * | G20: * | H20: * | I20: * | J20: * | K20: * | L20: * | M20: * | N20: * | O20: * | Q20: 0.09375 | R20: =N20 -> * | S20: =N124 -> * | T20: =N228 -> * | U20: =N332 -> * | V20: =N436 -> * | W20: =N540 -> * | X20: =N644 -> * | Y20: =N748 -> 38.4 | Z20: =N852 -> - | AA20: =N956 -> - | AB20: =N1060 -> - | AC20: =N1164 -> - | AD20: =N1268 -> - | AE20: =N1372 -> - | AF20: =N1476 -> - | AG20: =N1580 -> * | AH20: =N1684 -> * | AI20: =N1788 -> * | AJ20: =N1892 -> * | AK20: =N1996 -> * | AL20: =N2100 -> *
A21: 0.10416667 | B21: * | C21: * | D21: * | E21: * | F21: * | G21: * | H21: * | I21: * | J21: * | K21: * | L21: * | M21: * | N21: * | O21: * | Q21: 0.10416667 | R21: =N21 -> * | S21: =N125 -> * | T21: =N229 -> * | U21: =N333 -> * | V21: =N437 -> * | W21: =N541 -> * | X21: =N645 -> * | Y21: =N749 -> - | Z21: =N853 -> - | AA21: =N957 -> - | AB21: =N1061 -> - | AC21: =N1165 -> - | AD21: =N1269 -> - | AE21: =N1373 -> - | AF21: =N1477 -> - | AG21: =N1581 -> * | AH21: =N1685 -> * | AI21: =N1789 -> * | AJ21: =N1893 -> * | AK21: =N1997 -> * | AL21: =N2101 -> *
A22: 0.11458333 | B22: * | C22: * | D22: * | E22: * | F22: * | G22: * | H22: * | I22: * | J22: * | K22: * | L22: * | M22: * | N22: * | O22: * | Q22: 0.11458333 | R22: =N22 -> * | S22: =N126 -> * | T22: =N230 -> * | U22: =N334 -> * | V22: =N438 -> * | W22: =N542 -> * | X22: =N646 -> * | Y22: =N750 -> - | Z22: =N854 -> - | AA22: =N958 -> - | AB22: =N1062 -> - | AC22: =N1166 -> - | AD22: =N1270 -> 38.2 | AE22: =N1374 -> 16.9 | AF22: =N1478 -> - | AG22: =N1582 -> * | AH22: =N1686 -> * | AI22: =N1790 -> * | AJ22: =N1894 -> * | AK22: =N1998 -> * | AL22: =N2102 -> *
... A106: 0.98958333 | B106: * | C106: * | D106: * | E106: * | F106: * | G106: * | H106: * | I106: * | J106: * | K106: * | L106: * | M106: * | N106: * | O106: * | Q106: 0.98958333 | R106: =N106 -> * | S106: =N210 -> * | T106: =N314 -> * | U106: =N418 -> * | V106: =N522 -> * | W106: =N626 -> * | X106: =N730 -> 23.9 | Y106: =N834 -> - | Z106: =N938 -> - | AA106: =N1042 -> - | AB106: =N1146 -> - | AC106: =N1250 -> - | AD106: =N1354 -> - | AE106: =N1458 -> - | AF106: =N1562 -> * | AG106: =N1666 -> * | AH106: =N1770 -> * | AI106: =N1874 -> * | AJ106: =N1978 -> * | AK106: =N2082 -> * | AL106: =N2186 -> *
A107: 07-19 | B107: =SUM(B39:B86) -> 0 | C107: =SUM(C39:C86) -> 0 | D107: =SUM(D39:D86) -> 0 | E107: =SUM(E39:E86) -> 0 | F107: =SUM(F39:F86) -> 0 | G107: =SUM(G39:G86) -> 0 | H107: =SUM(H39:H86) -> 0 | I107: =SUM(I39:I86) -> 0 | ... M107: =SUM(M39:M86) -> 0 | Q107: IP FF Mean | R107: =IFERROR(AVERAGE(R51:R58,R67:R74),"-") -> - | S107: =IFERROR(AVERAGE(S51:S58,S67:S74),"-") -> - | T107: =IFERROR(AVERAGE(T51:T58,T67:T74),"-") -> - | U107: =IFERROR(AVERAGE(U51:U58,U67:U74),"-") -> - | V107: =IFERROR(AVERAGE(V51:V58,V67:V74),"-") -> - | W107: =IFERROR(AVERAGE(W51:W58,W67:W74),"-") -> - | X107: =IFERROR(AVERAGE(X51:X58,X67:X74),"-") -> 24.26875 | Y107: =IFERROR(AVERAGE(Y51:Y58,Y67:Y74),"-") -> 22.75625 | ... AL107: =IFERROR(AVERAGE(AL51:AL58,AL67:AL74),"-") -> -
A108: 06-22 | B108: =SUM(B35:B98) -> 0 | C108: =SUM(C35:C98) -> 0 | D108: =SUM(D35:D98) -> 0 | E108: =SUM(E35:E98) -> 0 | F108: =SUM(F35:F98) -> 0 | G108: =SUM(G35:G98) -> 0 | H108: =SUM(H35:H98) -> 0 | I108: =SUM(I35:I98) -> 0 | ... M108: =SUM(M35:M98) -> 0
A109: 06-00 | B109: =SUM(B35:B106) -> 0 | C109: =SUM(C35:C106) -> 0 | D109: =SUM(D35:D106) -> 0 | E109: =SUM(E35:E106) -> 0 | F109: =SUM(F35:F106) -> 0 | G109: =SUM(G35:G106) -> 0 | H109: =SUM(H35:H106) -> 0 | I109: =SUM(I35:I106) -> 0 | ... M109: =SUM(M35:M106) -> 0 | Q109: Time | R109: =R10 -> 45719 | S109: =S10 -> 45720 | T109: =T10 -> 45721 | U109: =U10 -> 45722 | V109: =V10 -> 45723 | W109: =W10 -> 45724 | X109: =X10 -> 45725 | Y109: =Y10 -> 45726 | ... AL109: =AL10 -> 45739
A110: 00-00 | B110: =SUM(B11:B106) -> 0 | C110: =SUM(C11:C106) -> 0 | D110: =SUM(D11:D106) -> 0 | E110: =SUM(E11:E106) -> 0 | F110: =SUM(F11:F106) -> 0 | G110: =SUM(G11:G106) -> 0 | H110: =SUM(H11:H106) -> 0 | I110: =SUM(I11:I106) -> 0 | ... M110: =SUM(M11:M106) -> 0 | Q110: 07-19 | R110: =IFERROR(SUM($G107:$M107)/$B107,"-") -> - | S110: =IFERROR(SUM($G211:$M211)/$B211,"-") -> - | T110: =IFERROR(SUM($G315:$M315)/$B315,"-") -> - | U110: =IFERROR(SUM($G419:$M419)/$B419,"-") -> - | V110: =IFERROR(SUM($G523:$M523)/$B523,"-") -> - | W110: =IFERROR(SUM($G627:$M627)/$B627,"-") -> - | X110: =IFERROR(SUM($G731:$M731)/$B731,"-") -> 0.055837563 | Y110: =IFERROR(SUM($G835:$M835)/$B835,"-") -> 0.0675 | Z110: =IFERROR(SUM($G939:$M939)/$B939,"-") -> 0.051801802 | AA110: =IFERROR(SUM($G1043:$M1043)/$B1043,"-") -> 0.06601467 | AB110: =IFERROR(SUM($G1147:$M1147)/$B1147,"-") -> 0.036717063 | AC110: =IFERROR(SUM($G1251:$M1251)/$B1251,"-") -> 0.054901961 | AD110: =IFERROR(SUM($G1355:$M1355)/$B1355,"-") -> 0.067567568 | AE110: =IFERROR(SUM($G1459:$M1459)/$B1459,"-") -> 0.068292683 | AF110: =IFERROR(SUM($G1563:$M1563)/$B1563,"-") -> 0.051136364 | AG110: =IFERROR(SUM($G1667:$M1667)/$B1667,"-") -> - | AH110: =IFERROR(SUM($G1771:$M1771)/$B1771,"-") -> - | AI110: =IFERROR(SUM($G1875:$M1875)/$B1875,"-") -> - | AJ110: =IFERROR(SUM($G1979:$M1979)/$B1979,"-") -> - | AK110: =IFERROR(SUM($G2083:$M2083)/$B2083,"-") -> - | AL110: =IFERROR(SUM($G2187:$M2187)/$B2187,"-") -> -
Q111: 06-22 | R111: =IFERROR(SUM($G108:$M108)/$B108,"-") -> - | S111: =IFERROR(SUM($G212:$M212)/$B212,"-") -> - | T111: =IFERROR(SUM($G316:$M316)/$B316,"-") -> - | U111: =IFERROR(SUM($G420:$M420)/$B420,"-") -> - | V111: =IFERROR(SUM($G524:$M524)/$B524,"-") -> - | W111: =IFERROR(SUM($G628:$M628)/$B628,"-") -> - | X111: =IFERROR(SUM($G732:$M732)/$B732,"-") -> 0.054794521 | Y111: =IFERROR(SUM($G836:$M836)/$B836,"-") -> 0.074418605 | Z111: =IFERROR(SUM($G940:$M940)/$B940,"-") -> 0.057731959 | AA111: =IFERROR(SUM($G1044:$M1044)/$B1044,"-") -> 0.069662921 | AB111: =IFERROR(SUM($G1148:$M1148)/$B1148,"-") -> 0.041257367 | AC111: =IFERROR(SUM($G1252:$M1252)/$B1252,"-") -> 0.056776557 | AD111: =IFERROR(SUM($G1356:$M1356)/$B1356,"-") -> 0.072289157 | AE111: =IFERROR(SUM($G1460:$M1460)/$B1460,"-") -> 0.066666667 | AF111: =IFERROR(SUM($G1564:$M1564)/$B1564,"-") -> 0.054644809 | AG111: =IFERROR(SUM($G1668:$M1668)/$B1668,"-") -> - | AH111: =IFERROR(SUM($G1772:$M1772)/$B1772,"-") -> - | AI111: =IFERROR(SUM($G1876:$M1876)/$B1876,"-") -> - | AJ111: =IFERROR(SUM($G1980:$M1980)/$B1980,"-") -> - | AK111: =IFERROR(SUM($G2084:$M2084)/$B2084,"-") -> - | AL111: =IFERROR(SUM($G2188:$M2188)/$B2188,"-") -> -
A112: Date | B112: Tuesday | C112: =C8+1 -> 45720 | Q112: 06-00 | R112: =IFERROR(SUM($G109:$M109)/$B109,"-") -> - | S112: =IFERROR(SUM($G213:$M213)/$B213,"-") -> - | T112: =IFERROR(SUM($G317:$M317)/$B317,"-") -> - | U112: =IFERROR(SUM($G421:$M421)/$B421,"-") -> - | V112: =IFERROR(SUM($G525:$M525)/$B525,"-") -> - | W112: =IFERROR(SUM($G629:$M629)/$B629,"-") -> - | X112: =IFERROR(SUM($G733:$M733)/$B733,"-") -> 0.058295964 | Y112: =IFERROR(SUM($G837:$M837)/$B837,"-") -> 0.073563218 | Z112: =IFERROR(SUM($G941:$M941)/$B941,"-") -> 0.057377049 | AA112: =IFERROR(SUM($G1045:$M1045)/$B1045,"-") -> 0.069042316 | AB112: =IFERROR(SUM($G1149:$M1149)/$B1149,"-") -> 0.040307102 | AC112: =IFERROR(SUM($G1253:$M1253)/$B1253,"-") -> 0.056057866 | AD112: =IFERROR(SUM($G1357:$M1357)/$B1357,"-") -> 0.067164179 | AE112: =IFERROR(SUM($G1461:$M1461)/$B1461,"-") -> 0.065789474 | AF112: =IFERROR(SUM($G1565:$M1565)/$B1565,"-") -> 0.054644809 | AG112: =IFERROR(SUM($G1669:$M1669)/$B1669,"-") -> - | AH112: =IFERROR(SUM($G1773:$M1773)/$B1773,"-") -> - | AI112: =IFERROR(SUM($G1877:$M1877)/$B1877,"-") -> - | AJ112: =IFERROR(SUM($G1981:$M1981)/$B1981,"-") -> - | AK112: =IFERROR(SUM($G2085:$M2085)/$B2085,"-") -> - | AL112: =IFERROR(SUM($G2189:$M2189)/$B2189,"-") -> -
B113: Total | C113: Cycle | D113: Motor Cycle | E113: Car | F113: LGV | G113: 2 Axled Rigid | H113: 3 Axled Rigid | I113: 4 Axled Rigid | J113: 3 Axled Artic | K113: 4 Axled Artic | L113: 5+ Axled Artic | M113: Bus | N113: Mean Speed (Mph) | O113: 85%ile Speed (Mph) | Q113: 00-00 | R113: =IFERROR(SUM($G110:$M110)/$B110,"-") -> - | S113: =IFERROR(SUM($G214:$M214)/$B214,"-") -> - | T113: =IFERROR(SUM($G318:$M318)/$B318,"-") -> - | U113: =IFERROR(SUM($G422:$M422)/$B422,"-") -> - | V113: =IFERROR(SUM($G526:$M526)/$B526,"-") -> - | W113: =IFERROR(SUM($G630:$M630)/$B630,"-") -> - | X113: =IFERROR(SUM($G734:$M734)/$B734,"-") -> 0.058295964 | Y113: =IFERROR(SUM($G838:$M838)/$B838,"-") -> 0.072892938 | Z113: =IFERROR(SUM($G942:$M942)/$B942,"-") -> 0.057259714 | AA113: =IFERROR(SUM($G1046:$M1046)/$B1046,"-") -> 0.068584071 | AB113: =IFERROR(SUM($G1150:$M1150)/$B1150,"-") -> 0.040152964 | AC113: =IFERROR(SUM($G1254:$M1254)/$B1254,"-") -> 0.055456172 | AD113: =IFERROR(SUM($G1358:$M1358)/$B1358,"-") -> 0.066176471 | AE113: =IFERROR(SUM($G1462:$M1462)/$B1462,"-") -> 0.068669528 | AF113: =IFERROR(SUM($G1566:$M1566)/$B1566,"-") -> 0.054347826 | AG113: =IFERROR(SUM($G1670:$M1670)/$B1670,"-") -> - | AH113: =IFERROR(SUM($G1774:$M1774)/$B1774,"-") -> - | AI113: =IFERROR(SUM($G1878:$M1878)/$B1878,"-") -> - | AJ113: =IFERROR(SUM($G1982:$M1982)/$B1982,"-") -> - | AK113: =IFERROR(SUM($G2086:$M2086)/$B2086,"-") -> - | AL113: =IFERROR(SUM($G2190:$M2190)/$B2190,"-") -> -
A114: Time
A115: 0 | B115: * | C115: * | D115: * | E115: * | F115: * | G115: * | H115: * | I115: * | J115: * | K115: * | L115: * | M115: * | N115: * | O115: * | R115: =R10 -> 45719 | S115: =S10 -> 45720 | T115: =T10 -> 45721 | U115: =U10 -> 45722 | V115: =V10 -> 45723 | W115: =W10 -> 45724 | X115: =X10 -> 45725 | Y115: =Y10 -> 45726 | ... AL115: =AL10 -> 45739
A116: 0.010416667 | B116: * | C116: * | D116: * | E116: * | F116: * | G116: * | H116: * | I116: * | J116: * | K116: * | L116: * | M116: * | N116: * | O116: * | Q116: Mean | R116: =$N$110 -> 0 | S116: =$N$214 -> 0 | T116: =$N$318 -> 0 | U116: =$N$422 -> 0 | V116: =$N$526 -> 0 | W116: =$N$630 -> 0 | X116: =$N$734 -> 24.6 | Y116: =$N$838 -> 24.3 | Z116: =$N$942 -> 24.8 | AA116: =$N$1046 -> 25.3 | AB116: =$N$1150 -> 25.5 | AC116: =$N$1254 -> 25.3 | AD116: =$N$1358 -> 24.7 | AE116: =$N$1462 -> 23.5 | AF116: =$N$1566 -> 23.8 | AG116: =$N$1670 -> 0 | AH116: =$N$1774 -> 0 | AI116: =$N$1878 -> 0 | AJ116: =$N$1982 -> 0 | AK116: =$N$2086 -> 0 | AL116: =$N$2190 -> 0
A117: 0.020833333 | B117: * | C117: * | D117: * | E117: * | F117: * | G117: * | H117: * | I117: * | J117: * | K117: * | L117: * | M117: * | N117: * | O117: * | Q117: 85%ile | R117: =$O$110 -> 0 | S117: =$O$214 -> 0 | T117: =$O$318 -> 0 | U117: =$O$422 -> 0 | V117: =$O$526 -> 0 | W117: =$O$630 -> 0 | X117: =$O$734 -> 32 | Y117: =$O$838 -> 30.3 | Z117: =$O$942 -> 31.1 | AA117: =$O$1046 -> 31.3 | AB117: =$O$1150 -> 31.9 | AC117: =$O$1254 -> 31.1 | AD117: =$O$1358 -> 30.5 | AE117: =$O$1462 -> 29.2 | AF117: =$O$1566 -> 30.6 | AG117: =$O$1670 -> 0 | AH117: =$O$1774 -> 0 | AI117: =$O$1878 -> 0 | AJ117: =$O$1982 -> 0 | AK117: =$O$2086 -> 0 | AL117: =$O$2190 -> 0
A118: 0.03125 | B118: * | C118: * | D118: * | E118: * | F118: * | G118: * | H118: * | I118: * | J118: * | K118: * | L118: * | M118: * | N118: * | O118: *
A119: 0.041666667 | B119: * | C119: * | D119: * | E119: * | F119: * | G119: * | H119: * | I119: * | J119: * | K119: * | L119: * | M119: * | N119: * | O119: *
A120: 0.052083333 | B120: * | C120: * | D120: * | E120: * | F120: * | G120: * | H120: * | I120: * | J120: * | K120: * | L120: * | M120: * | N120: * | O120: *
A121: 0.0625 | B121: * | C121: * | D121: * | E121: * | F121: * | G121: * | H121: * | I121: * | J121: * | K121: * | L121: * | M121: * | N121: * | O121: *
A122: 0.072916667 | B122: * | C122: * | D122: * | E122: * | F122: * | G122: * | H122: * | I122: * | J122: * | K122: * | L122: * | M122: * | N122: * | O122: *
A123: 0.083333333 | B123: * | C123: * | D123: * | E123: * | F123: * | G123: * | H123: * | I123: * | J123: * | K123: * | L123: * | M123: * | N123: * | O123: *
A124: 0.09375 | B124: * | C124: * | D124: * | E124: * | F124: * | G124: * | H124: * | I124: * | J124: * | K124: * | L124: * | M124: * | N124: * | O124: *
A125: 0.10416667 | B125: * | C125: * | D125: * | E125: * | F125: * | G125: * | H125: * | I125: * | J125: * | K125: * | L125: * | M125: * | N125: * | O125: *
A126: 0.11458333 | B126: * | C126: * | D126: * | E126: * | F126: * | G126: * | H126: * | I126: * | J126: * | K126: * | L126: * | M126: * | N126: * | O126: *
A127: 0.125 | B127: * | C127: * | D127: * | E127: * | F127: * | G127: * | H127: * | I127: * | J127: * | K127: * | L127: * | M127: * | N127: * | O127: *
A128: 0.13541667 | B128: * | C128: * | D128: * | E128: * | F128: * | G128: * | H128: * | I128: * | J128: * | K128: * | L128: * | M128: * | N128: * | O128: *
A129: 0.14583333 | B129: * | C129: * | D129: * | E129: * | F129: * | G129: * | H129: * | I129: * | J129: * | K129: * | L129: * | M129: * | N129: * | O129: *
... A210: 0.98958333 | B210: * | C210: * | D210: * | E210: * | F210: * | G210: * | H210: * | I210: * | J210: * | K210: * | L210: * | M210: * | N210: * | O210: *
A211: 07-19 | B211: =SUM(B143:B190) -> 0 | C211: =SUM(C143:C190) -> 0 | D211: =SUM(D143:D190) -> 0 | E211: =SUM(E143:E190) -> 0 | F211: =SUM(F143:F190) -> 0 | G211: =SUM(G143:G190) -> 0 | H211: =SUM(H143:H190) -> 0 | I211: =SUM(I143:I190) -> 0 | ... M211: =SUM(M143:M190) -> 0
A212: 06-22 | B212: =SUM(B139:B202) -> 0 | C212: =SUM(C139:C202) -> 0 | D212: =SUM(D139:D202) -> 0 | E212: =SUM(E139:E202) -> 0 | F212: =SUM(F139:F202) -> 0 | G212: =SUM(G139:G202) -> 0 | H212: =SUM(H139:H202) -> 0 | I212: =SUM(I139:I202) -> 0 | ... M212: =SUM(M139:M202) -> 0
A213: 06-00 | B213: =SUM(B139:B210) -> 0 | C213: =SUM(C139:C210) -> 0 | D213: =SUM(D139:D210) -> 0 | E213: =SUM(E139:E210) -> 0 | F213: =SUM(F139:F210) -> 0 | G213: =SUM(G139:G210) -> 0 | H213: =SUM(H139:H210) -> 0 | I213: =SUM(I139:I210) -> 0 | ... M213: =SUM(M139:M210) -> 0
A214: 00-00 | B214: =SUM(B115:B210) -> 0 | C214: =SUM(C115:C210) -> 0 | D214: =SUM(D115:D210) -> 0 | E214: =SUM(E115:E210) -> 0 | F214: =SUM(F115:F210) -> 0 | G214: =SUM(G115:G210) -> 0 | H214: =SUM(H115:H210) -> 0 | I214: =SUM(I115:I210) -> 0 | ... M214: =SUM(M115:M210) -> 0
A216: Date | B216: Wednesday | C216: =C112+1 -> 45721
B217: Total | C217: Cycle | D217: Motor Cycle | E217: Car | F217: LGV | G217: 2 Axled Rigid | H217: 3 Axled Rigid | I217: 4 Axled Rigid | J217: 3 Axled Artic | K217: 4 Axled Artic | L217: 5+ Axled Artic | M217: Bus | N217: Mean Speed (Mph) | O217: 85%ile Speed (Mph)
A218: Time
A219: 0 | B219: * | C219: * | D219: * | E219: * | F219: * | G219: * | H219: * | I219: * | J219: * | K219: * | L219: * | M219: * | N219: * | O219: *
A220: 0.010416667 | B220: * | C220: * | D220: * | E220: * | F220: * | G220: * | H220: * | I220: * | J220: * | K220: * | L220: * | M220: * | N220: * | O220: *
A221: 0.020833333 | B221: * | C221: * | D221: * | E221: * | F221: * | G221: * | H221: * | I221: * | J221: * | K221: * | L221: * | M221: * | N221: * | O221: *
A222: 0.03125 | B222: * | C222: * | D222: * | E222: * | F222: * | G222: * | H222: * | I222: * | J222: * | K222: * | L222: * | M222: * | N222: * | O222: *
A223: 0.041666667 | B223: * | C223: * | D223: * | E223: * | F223: * | G223: * | H223: * | I223: * | J223: * | K223: * | L223: * | M223: * | N223: * | O223: *
A224: 0.052083333 | B224: * | C224: * | D224: * | E224: * | F224: * | G224: * | H224: * | I224: * | J224: * | K224: * | L224: * | M224: * | N224: * | O224: *
A225: 0.0625 | B225: * | C225: * | D225: * | E225: * | F225: * | G225: * | H225: * | I225: * | J225: * | K225: * | L225: * | M225: * | N225: * | O225: *
A226: 0.072916667 | B226: * | C226: * | D226: * | E226: * | F226: * | G226: * | H226: * | I226: * | J226: * | K226: * | L226: * | M226: * | N226: * | O226: *
A227: 0.083333333 | B227: * | C227: * | D227: * | E227: * | F227: * | G227: * | H227: * | I227: * | J227: * | K227: * | L227: * | M227: * | N227: * | O227: *
A228: 0.09375 | B228: * | C228: * | D228: * | E228: * | F228: * | G228: * | H228: * | I228: * | J228: * | K228: * | L228: * | M228: * | N228: * | O228: *
A229: 0.10416667 | B229: * | C229: * | D229: * | E229: * | F229: * | G229: * | H229: * | I229: * | J229: * | K229: * | L229: * | M229: * | N229: * | O229: *
A230: 0.11458333 | B230: * | C230: * | D230: * | E230: * | F230: * | G230: * | H230: * | I230: * | J230: * | K230: * | L230: * | M230: * | N230: * | O230: *
... A314: 0.98958333 | B314: * | C314: * | D314: * | E314: * | F314: * | G314: * | H314: * | I314: * | J314: * | K314: * | L314: * | M314: * | N314: * | O314: *
A315: 07-19 | B315: =SUM(B247:B294) -> 0 | C315: =SUM(C247:C294) -> 0 | D315: =SUM(D247:D294) -> 0 | E315: =SUM(E247:E294) -> 0 | F315: =SUM(F247:F294) -> 0 | G315: =SUM(G247:G294) -> 0 | H315: =SUM(H247:H294) -> 0 | I315: =SUM(I247:I294) -> 0 | ... M315: =SUM(M247:M294) -> 0
A316: 06-22 | B316: =SUM(B243:B306) -> 0 | C316: =SUM(C243:C306) -> 0 | D316: =SUM(D243:D306) -> 0 | E316: =SUM(E243:E306) -> 0 | F316: =SUM(F243:F306) -> 0 | G316: =SUM(G243:G306) -> 0 | H316: =SUM(H243:H306) -> 0 | I316: =SUM(I243:I306) -> 0 | ... M316: =SUM(M243:M306) -> 0
A317: 06-00 | B317: =SUM(B243:B314) -> 0 | C317: =SUM(C243:C314) -> 0 | D317: =SUM(D243:D314) -> 0 | E317: =SUM(E243:E314) -> 0 | F317: =SUM(F243:F314) -> 0 | G317: =SUM(G243:G314) -> 0 | H317: =SUM(H243:H314) -> 0 | I317: =SUM(I243:I314) -> 0 | ... M317: =SUM(M243:M314) -> 0
A318: 00-00 | B318: =SUM(B219:B314) -> 0 | C318: =SUM(C219:C314) -> 0 | D318: =SUM(D219:D314) -> 0 | E318: =SUM(E219:E314) -> 0 | F318: =SUM(F219:F314) -> 0 | G318: =SUM(G219:G314) -> 0 | H318: =SUM(H219:H314) -> 0 | I318: =SUM(I219:I314) -> 0 | ... M318: =SUM(M219:M314) -> 0
A320: Date | B320: Thursday | C320: =C216+1 -> 45722
B321: Total | C321: Cycle | D321: Motor Cycle | E321: Car | F321: LGV | G321: 2 Axled Rigid | H321: 3 Axled Rigid | I321: 4 Axled Rigid | J321: 3 Axled Artic | K321: 4 Axled Artic | L321: 5+ Axled Artic | M321: Bus | N321: Mean Speed (Mph) | O321: 85%ile Speed (Mph)
A322: Time
A323: 0 | B323: * | C323: * | D323: * | E323: * | F323: * | G323: * | H323: * | I323: * | J323: * | K323: * | L323: * | M323: * | N323: * | O323: *
A324: 0.010416667 | B324: * | C324: * | D324: * | E324: * | F324: * | G324: * | H324: * | I324: * | J324: * | K324: * | L324: * | M324: * | N324: * | O324: *
A325: 0.020833333 | B325: * | C325: * | D325: * | E325: * | F325: * | G325: * | H325: * | I325: * | J325: * | K325: * | L325: * | M325: * | N325: * | O325: *
A326: 0.03125 | B326: * | C326: * | D326: * | E326: * | F326: * | G326: * | H326: * | I326: * | J326: * | K326: * | L326: * | M326: * | N326: * | O326: *
A327: 0.041666667 | B327: * | C327: * | D327: * | E327: * | F327: * | G327: * | H327: * | I327: * | J327: * | K327: * | L327: * | M327: * | N327: * | O327: *
A328: 0.052083333 | B328: * | C328: * | D328: * | E328: * | F328: * | G328: * | H328: * | I328: * | J328: * | K328: * | L328: * | M328: * | N328: * | O328: *
A329: 0.0625 | B329: * | C329: * | D329: * | E329: * | F329: * | G329: * | H329: * | I329: * | J329: * | K329: * | L329: * | M329: * | N329: * | O329: *
A330: 0.072916667 | B330: * | C330: * | D330: * | E330: * | F330: * | G330: * | H330: * | I330: * | J330: * | K330: * | L330: * | M330: * | N330: * | O330: *
A331: 0.083333333 | B331: * | C331: * | D331: * | E331: * | F331: * | G331: * | H331: * | I331: * | J331: * | K331: * | L331: * | M331: * | N331: * | O331: *
A332: 0.09375 | B332: * | C332: * | D332: * | E332: * | F332: * | G332: * | H332: * | I332: * | J332: * | K332: * | L332: * | M332: * | N332: * | O332: *
A333: 0.10416667 | B333: * | C333: * | D333: * | E333: * | F333: * | G333: * | H333: * | I333: * | J333: * | K333: * | L333: * | M333: * | N333: * | O333: *
A334: 0.11458333 | B334: * | C334: * | D334: * | E334: * | F334: * | G334: * | H334: * | I334: * | J334: * | K334: * | L334: * | M334: * | N334: * | O334: *
... A418: 0.98958333 | B418: * | C418: * | D418: * | E418: * | F418: * | G418: * | H418: * | I418: * | J418: * | K418: * | L418: * | M418: * | N418: * | O418: *
A419: 07-19 | B419: =SUM(B351:B398) -> 0 | C419: =SUM(C351:C398) -> 0 | D419: =SUM(D351:D398) -> 0 | E419: =SUM(E351:E398) -> 0 | F419: =SUM(F351:F398) -> 0 | G419: =SUM(G351:G398) -> 0 | H419: =SUM(H351:H398) -> 0 | I419: =SUM(I351:I398) -> 0 | ... M419: =SUM(M351:M398) -> 0
A420: 06-22 | B420: =SUM(B347:B410) -> 0 | C420: =SUM(C347:C410) -> 0 | D420: =SUM(D347:D410) -> 0 | E420: =SUM(E347:E410) -> 0 | F420: =SUM(F347:F410) -> 0 | G420: =SUM(G347:G410) -> 0 | H420: =SUM(H347:H410) -> 0 | I420: =SUM(I347:I410) -> 0 | ... M420: =SUM(M347:M410) -> 0
A421: 06-00 | B421: =SUM(B347:B418) -> 0 | C421: =SUM(C347:C418) -> 0 | D421: =SUM(D347:D418) -> 0 | E421: =SUM(E347:E418) -> 0 | F421: =SUM(F347:F418) -> 0 | G421: =SUM(G347:G418) -> 0 | H421: =SUM(H347:H418) -> 0 | I421: =SUM(I347:I418) -> 0 | ... M421: =SUM(M347:M418) -> 0
A422: 00-00 | B422: =SUM(B323:B418) -> 0 | C422: =SUM(C323:C418) -> 0 | D422: =SUM(D323:D418) -> 0 | E422: =SUM(E323:E418) -> 0 | F422: =SUM(F323:F418) -> 0 | G422: =SUM(G323:G418) -> 0 | H422: =SUM(H323:H418) -> 0 | I422: =SUM(I323:I418) -> 0 | ... M422: =SUM(M323:M418) -> 0
A424: Date | B424: Friday | C424: =C320+1 -> 45723
B425: Total | C425: Cycle | D425: Motor Cycle | E425: Car | F425: LGV | G425: 2 Axled Rigid | H425: 3 Axled Rigid | I425: 4 Axled Rigid | J425: 3 Axled Artic | K425: 4 Axled Artic | L425: 5+ Axled Artic | M425: Bus | N425: Mean Speed (Mph) | O425: 85%ile Speed (Mph)
A426: Time
A427: 0 | B427: * | C427: * | D427: * | E427: * | F427: * | G427: * | H427: * | I427: * | J427: * | K427: * | L427: * | M427: * | N427: * | O427: *
A428: 0.010416667 | B428: * | C428: * | D428: * | E428: * | F428: * | G428: * | H428: * | I428: * | J428: * | K428: * | L428: * | M428: * | N428: * | O428: *
A429: 0.020833333 | B429: * | C429: * | D429: * | E429: * | F429: * | G429: * | H429: * | I429: * | J429: * | K429: * | L429: * | M429: * | N429: * | O429: *
A430: 0.03125 | B430: * | C430: * | D430: * | E430: * | F430: * | G430: * | H430: * | I430: * | J430: * | K430: * | L430: * | M430: * | N430: * | O430: *
A431: 0.041666667 | B431: * | C431: * | D431: * | E431: * | F431: * | G431: * | H431: * | I431: * | J431: * | K431: * | L431: * | M431: * | N431: * | O431: *
A432: 0.052083333 | B432: * | C432: * | D432: * | E432: * | F432: * | G432: * | H432: * | I432: * | J432: * | K432: * | L432: * | M432: * | N432: * | O432: *
A433: 0.0625 | B433: * | C433: * | D433: * | E433: * | F433: * | G433: * | H433: * | I433: * | J433: * | K433: * | L433: * | M433: * | N433: * | O433: *
A434: 0.072916667 | B434: * | C434: * | D434: * | E434: * | F434: * | G434: * | H434: * | I434: * | J434: * | K434: * | L434: * | M434: * | N434: * | O434: *
...

Sheet Class Bin B-A
A1: Intelligent Data Collection Limited
A3: Client: | B3: ='Front Cover'!C27 -> Oxfordshire CC
A4: Project Number: | B4: ='Front Cover'!C28 -> ID-0325-0019
A5: Site Number: | B5: ='Front Cover'!C29 -> Site 2
A6: Flow from: | B6: ='Front Cover'!D34 -> The Glebe (E) | D6: to: | E6: ='Front Cover'!H34 -> The Green (W)
A8: Date | B8: Monday | C8: ='Front Cover'!C30 -> 45719 | Q8: Mean Speeds
B9: Total | C9: Cycle | D9: Motor Cycle | E9: Car | F9: LGV | G9: 2 Axled Rigid | H9: 3 Axled Rigid | I9: 4 Axled Rigid | J9: 3 Axled Artic | K9: 4 Axled Artic | L9: 5+ Axled Artic | M9: Bus | N9: Mean Speed (Mph) | O9: 85%ile Speed (Mph)
A10: Time | Q10: Time | R10: =C8 -> 45719 | S10: =R10+1 -> 45720 | T10: =S10+1 -> 45721 | U10: =T10+1 -> 45722 | V10: =U10+1 -> 45723 | W10: =V10+1 -> 45724 | X10: =W10+1 -> 45725 | Y10: =X10+1 -> 45726 | Z10: =Y10+1 -> 45727 | ... AL10: =AK10+1 -> 45739
A11: 0 | B11: * | C11: * | D11: * | E11: * | F11: * | G11: * | H11: * | I11: * | J11: * | K11: * | L11: * | M11: * | N11: * | O11: * | Q11: 0 | R11: =N11 -> * | S11: =N115 -> * | T11: =N219 -> * | U11: =N323 -> * | V11: =N427 -> * | W11: =N531 -> * | X11: =N635 -> * | Y11: =N739 -> - | Z11: =N843 -> - | AA11: =N947 -> 29.7 | AB11: =N1051 -> - | AC11: =N1155 -> - | AD11: =N1259 -> - | AE11: =N1363 -> 7.7 | AF11: =N1467 -> - | AG11: =N1571 -> * | AH11: =N1675 -> * | AI11: =N1779 -> * | AJ11: =N1883 -> * | AK11: =N1987 -> * | AL11: =N2091 -> *
A12: 0.010416667 | B12: * | C12: * | D12: * | E12: * | F12: * | G12: * | H12: * | I12: * | J12: * | K12: * | L12: * | M12: * | N12: * | O12: * | Q12: 0.010416667 | R12: =N12 -> * | S12: =N116 -> * | T12: =N220 -> * | U12: =N324 -> * | V12: =N428 -> * | W12: =N532 -> * | X12: =N636 -> * | Y12: =N740 -> - | Z12: =N844 -> - | AA12: =N948 -> - | AB12: =N1052 -> - | AC12: =N1156 -> 31.6 | AD12: =N1260 -> - | AE12: =N1364 -> - | AF12: =N1468 -> - | AG12: =N1572 -> * | AH12: =N1676 -> * | AI12: =N1780 -> * | AJ12: =N1884 -> * | AK12: =N1988 -> * | AL12: =N2092 -> *
A13: 0.020833333 | B13: * | C13: * | D13: * | E13: * | F13: * | G13: * | H13: * | I13: * | J13: * | K13: * | L13: * | M13: * | N13: * | O13: * | Q13: 0.020833333 | R13: =N13 -> * | S13: =N117 -> * | T13: =N221 -> * | U13: =N325 -> * | V13: =N429 -> * | W13: =N533 -> * | X13: =N637 -> * | Y13: =N741 -> - | Z13: =N845 -> - | AA13: =N949 -> - | AB13: =N1053 -> 10.9 | AC13: =N1157 -> 25.7 | AD13: =N1261 -> 28.9 | AE13: =N1365 -> 24.4 | AF13: =N1469 -> - | AG13: =N1573 -> * | AH13: =N1677 -> * | AI13: =N1781 -> * | AJ13: =N1885 -> * | AK13: =N1989 -> * | AL13: =N2093 -> *
A14: 0.03125 | B14: * | C14: * | D14: * | E14: * | F14: * | G14: * | H14: * | I14: * | J14: * | K14: * | L14: * | M14: * | N14: * | O14: * | Q14: 0.03125 | R14: =N14 -> * | S14: =N118 -> * | T14: =N222 -> * | U14: =N326 -> * | V14: =N430 -> * | W14: =N534 -> * | X14: =N638 -> * | Y14: =N742 -> - | Z14: =N846 -> - | AA14: =N950 -> 16.1 | AB14: =N1054 -> - | AC14: =N1158 -> 16 | AD14: =N1262 -> - | AE14: =N1366 -> - | AF14: =N1470 -> - | AG14: =N1574 -> * | AH14: =N1678 -> * | AI14: =N1782 -> * | AJ14: =N1886 -> * | AK14: =N1990 -> * | AL14: =N2094 -> *
A15: 0.041666667 | B15: * | C15: * | D15: * | E15: * | F15: * | G15: * | H15: * | I15: * | J15: * | K15: * | L15: * | M15: * | N15: * | O15: * | Q15: 0.041666667 | R15: =N15 -> * | S15: =N119 -> * | T15: =N223 -> * | U15: =N327 -> * | V15: =N431 -> * | W15: =N535 -> * | X15: =N639 -> * | Y15: =N743 -> 13.3 | Z15: =N847 -> - | AA15: =N951 -> - | AB15: =N1055 -> - | AC15: =N1159 -> - | AD15: =N1263 -> - | AE15: =N1367 -> - | AF15: =N1471 -> - | AG15: =N1575 -> * | AH15: =N1679 -> * | AI15: =N1783 -> * | AJ15: =N1887 -> * | AK15: =N1991 -> * | AL15: =N2095 -> *
A16: 0.052083333 | B16: * | C16: * | D16: * | E16: * | F16: * | G16: * | H16: * | I16: * | J16: * | K16: * | L16: * | M16: * | N16: * | O16: * | Q16: 0.052083333 | R16: =N16 -> * | S16: =N120 -> * | T16: =N224 -> * | U16: =N328 -> * | V16: =N432 -> * | W16: =N536 -> * | X16: =N640 -> * | Y16: =N744 -> - | Z16: =N848 -> - | AA16: =N952 -> - | AB16: =N1056 -> - | AC16: =N1160 -> - | AD16: =N1264 -> - | AE16: =N1368 -> - | AF16: =N1472 -> - | AG16: =N1576 -> * | AH16: =N1680 -> * | AI16: =N1784 -> * | AJ16: =N1888 -> * | AK16: =N1992 -> * | AL16: =N2096 -> *
A17: 0.0625 | B17: * | C17: * | D17: * | E17: * | F17: * | G17: * | H17: * | I17: * | J17: * | K17: * | L17: * | M17: * | N17: * | O17: * | Q17: 0.0625 | R17: =N17 -> * | S17: =N121 -> * | T17: =N225 -> * | U17: =N329 -> * | V17: =N433 -> * | W17: =N537 -> * | X17: =N641 -> * | Y17: =N745 -> 14.3 | Z17: =N849 -> - | AA17: =N953 -> 17 | AB17: =N1057 -> - | AC17: =N1161 -> - | AD17: =N1265 -> - | AE17: =N1369 -> 23.5 | AF17: =N1473 -> - | AG17: =N1577 -> * | AH17: =N1681 -> * | AI17: =N1785 -> * | AJ17: =N1889 -> * | AK17: =N1993 -> * | AL17: =N2097 -> *
A18: 0.072916667 | B18: * | C18: * | D18: * | E18: * | F18: * | G18: * | H18: * | I18: * | J18: * | K18: * | L18: * | M18: * | N18: * | O18: * | Q18: 0.072916667 | R18: =N18 -> * | S18: =N122 -> * | T18: =N226 -> * | U18: =N330 -> * | V18: =N434 -> * | W18: =N538 -> * | X18: =N642 -> * | Y18: =N746 -> - | Z18: =N850 -> - | AA18: =N954 -> - | AB18: =N1058 -> - | AC18: =N1162 -> - | AD18: =N1266 -> - | AE18: =N1370 -> - | AF18: =N1474 -> - | AG18: =N1578 -> * | AH18: =N1682 -> * | AI18: =N1786 -> * | AJ18: =N1890 -> * | AK18: =N1994 -> * | AL18: =N2098 -> *
A19: 0.083333333 | B19: * | C19: * | D19: * | E19: * | F19: * | G19: * | H19: * | I19: * | J19: * | K19: * | L19: * | M19: * | N19: * | O19: * | Q19: 0.083333333 | R19: =N19 -> * | S19: =N123 -> * | T19: =N227 -> * | U19: =N331 -> * | V19: =N435 -> * | W19: =N539 -> * | X19: =N643 -> * | Y19: =N747 -> 14.6 | Z19: =N851 -> 14.9 | AA19: =N955 -> - | AB19: =N1059 -> - | AC19: =N1163 -> 17 | AD19: =N1267 -> - | AE19: =N1371 -> - | AF19: =N1475 -> - | AG19: =N1579 -> * | AH19: =N1683 -> * | AI19: =N1787 -> * | AJ19: =N1891 -> * | AK19: =N1995 -> * | AL19: =N2099 -> *
A20: 0.09375 | B20: * | C20: * | D20: * | E20: * | F20: * | G20: * | H20: * | I20: * | J20: * | K20: * | L20: * | M20: * | N20: * | O20: * | Q20: 0.09375 | R20: =N20 -> * | S20: =N124 -> * | T20: =N228 -> * | U20: =N332 -> * | V20: =N436 -> * | W20: =N540 -> * | X20: =N644 -> * | Y20: =N748 -> - | Z20: =N852 -> - | AA20: =N956 -> - | AB20: =N1060 -> - | AC20: =N1164 -> - | AD20: =N1268 -> - | AE20: =N1372 -> - | AF20: =N1476 -> - | AG20: =N1580 -> * | AH20: =N1684 -> * | AI20: =N1788 -> * | AJ20: =N1892 -> * | AK20: =N1996 -> * | AL20: =N2100 -> *
A21: 0.10416667 | B21: * | C21: * | D21: * | E21: * | F21: * | G21: * | H21: * | I21: * | J21: * | K21: * | L21: * | M21: * | N21: * | O21: * | Q21: 0.10416667 | R21: =N21 -> * | S21: =N125 -> * | T21: =N229 -> * | U21: =N333 -> * | V21: =N437 -> * | W21: =N541 -> * | X21: =N645 -> * | Y21: =N749 -> - | Z21: =N853 -> - | AA21: =N957 -> - | AB21: =N1061 -> - | AC21: =N1165 -> - | AD21: =N1269 -> - | AE21: =N1373 -> - | AF21: =N1477 -> - | AG21: =N1581 -> * | AH21: =N1685 -> * | AI21: =N1789 -> * | AJ21: =N1893 -> * | AK21: =N1997 -> * | AL21: =N2101 -> *
A22: 0.11458333 | B22: * | C22: * | D22: * | E22: * | F22: * | G22: * | H22: * | I22: * | J22: * | K22: * | L22: * | M22: * | N22: * | O22: * | Q22: 0.11458333 | R22: =N22 -> * | S22: =N126 -> * | T22: =N230 -> * | U22: =N334 -> * | V22: =N438 -> * | W22: =N542 -> * | X22: =N646 -> * | Y22: =N750 -> 28.7 | Z22: =N854 -> - | AA22: =N958 -> - | AB22: =N1062 -> - | AC22: =N1166 -> - | AD22: =N1270 -> - | AE22: =N1374 -> 19.3 | AF22: =N1478 -> - | AG22: =N1582 -> * | AH22: =N1686 -> * | AI22: =N1790 -> * | AJ22: =N1894 -> * | AK22: =N1998 -> * | AL22: =N2102 -> *
... A106: 0.98958333 | B106: * | C106: * | D106: * | E106: * | F106: * | G106: * | H106: * | I106: * | J106: * | K106: * | L106: * | M106: * | N106: * | O106: * | Q106: 0.98958333 | R106: =N106 -> * | S106: =N210 -> * | T106: =N314 -> * | U106: =N418 -> * | V106: =N522 -> * | W106: =N626 -> * | X106: =N730 -> 29.8 | Y106: =N834 -> - | Z106: =N938 -> - | AA106: =N1042 -> - | AB106: =N1146 -> 26 | AC106: =N1250 -> - | AD106: =N1354 -> 26.5 | AE106: =N1458 -> - | AF106: =N1562 -> * | AG106: =N1666 -> * | AH106: =N1770 -> * | AI106: =N1874 -> * | AJ106: =N1978 -> * | AK106: =N2082 -> * | AL106: =N2186 -> *
A107: 07-19 | B107: =SUM(B39:B86) -> 0 | C107: =SUM(C39:C86) -> 0 | D107: =SUM(D39:D86) -> 0 | E107: =SUM(E39:E86) -> 0 | F107: =SUM(F39:F86) -> 0 | G107: =SUM(G39:G86) -> 0 | H107: =SUM(H39:H86) -> 0 | I107: =SUM(I39:I86) -> 0 | ... M107: =SUM(M39:M86) -> 0 | Q107: IP FF Mean | R107: =IFERROR(AVERAGE(R51:R58,R67:R74),"-") -> - | S107: =IFERROR(AVERAGE(S51:S58,S67:S74),"-") -> - | T107: =IFERROR(AVERAGE(T51:T58,T67:T74),"-") -> - | U107: =IFERROR(AVERAGE(U51:U58,U67:U74),"-") -> - | V107: =IFERROR(AVERAGE(V51:V58,V67:V74),"-") -> - | W107: =IFERROR(AVERAGE(W51:W58,W67:W74),"-") -> - | X107: =IFERROR(AVERAGE(X51:X58,X67:X74),"-") -> 24.525 | Y107: =IFERROR(AVERAGE(Y51:Y58,Y67:Y74),"-") -> 22.20625 | ... AL107: =IFERROR(AVERAGE(AL51:AL58,AL67:AL74),"-") -> -
A108: 06-22 | B108: =SUM(B35:B98) -> 0 | C108: =SUM(C35:C98) -> 0 | D108: =SUM(D35:D98) -> 0 | E108: =SUM(E35:E98) -> 0 | F108: =SUM(F35:F98) -> 0 | G108: =SUM(G35:G98) -> 0 | H108: =SUM(H35:H98) -> 0 | I108: =SUM(I35:I98) -> 0 | ... M108: =SUM(M35:M98) -> 0
A109: 06-00 | B109: =SUM(B35:B106) -> 0 | C109: =SUM(C35:C106) -> 0 | D109: =SUM(D35:D106) -> 0 | E109: =SUM(E35:E106) -> 0 | F109: =SUM(F35:F106) -> 0 | G109: =SUM(G35:G106) -> 0 | H109: =SUM(H35:H106) -> 0 | I109: =SUM(I35:I106) -> 0 | ... M109: =SUM(M35:M106) -> 0 | Q109: Time | R109: =R10 -> 45719 | S109: =S10 -> 45720 | T109: =T10 -> 45721 | U109: =U10 -> 45722 | V109: =V10 -> 45723 | W109: =W10 -> 45724 | X109: =X10 -> 45725 | Y109: =Y10 -> 45726 | ... AL109: =AL10 -> 45739
A110: 00-00 | B110: =SUM(B11:B106) -> 0 | C110: =SUM(C11:C106) -> 0 | D110: =SUM(D11:D106) -> 0 | E110: =SUM(E11:E106) -> 0 | F110: =SUM(F11:F106) -> 0 | G110: =SUM(G11:G106) -> 0 | H110: =SUM(H11:H106) -> 0 | I110: =SUM(I11:I106) -> 0 | ... M110: =SUM(M11:M106) -> 0 | Q110: 07-19 | R110: =IFERROR(SUM($G107:$M107)/$B107,"-") -> - | S110: =IFERROR(SUM($G211:$M211)/$B211,"-") -> - | T110: =IFERROR(SUM($G315:$M315)/$B315,"-") -> - | U110: =IFERROR(SUM($G419:$M419)/$B419,"-") -> - | V110: =IFERROR(SUM($G523:$M523)/$B523,"-") -> - | W110: =IFERROR(SUM($G627:$M627)/$B627,"-") -> - | X110: =IFERROR(SUM($G731:$M731)/$B731,"-") -> 0.051643192 | Y110: =IFERROR(SUM($G835:$M835)/$B835,"-") -> 0.087912088 | Z110: =IFERROR(SUM($G939:$M939)/$B939,"-") -> 0.064343164 | AA110: =IFERROR(SUM($G1043:$M1043)/$B1043,"-") -> 0.071240106 | AB110: =IFERROR(SUM($G1147:$M1147)/$B1147,"-") -> 0.042918455 | AC110: =IFERROR(SUM($G1251:$M1251)/$B1251,"-") -> 0.055201699 | AD110: =IFERROR(SUM($G1355:$M1355)/$B1355,"-") -> 0.051851852 | AE110: =IFERROR(SUM($G1459:$M1459)/$B1459,"-") -> 0.10619469 | AF110: =IFERROR(SUM($G1563:$M1563)/$B1563,"-") -> 0.055299539 | AG110: =IFERROR(SUM($G1667:$M1667)/$B1667,"-") -> - | AH110: =IFERROR(SUM($G1771:$M1771)/$B1771,"-") -> - | AI110: =IFERROR(SUM($G1875:$M1875)/$B1875,"-") -> - | AJ110: =IFERROR(SUM($G1979:$M1979)/$B1979,"-") -> - | AK110: =IFERROR(SUM($G2083:$M2083)/$B2083,"-") -> - | AL110: =IFERROR(SUM($G2187:$M2187)/$B2187,"-") -> -
Q111: 06-22 | R111: =IFERROR(SUM($G108:$M108)/$B108,"-") -> - | S111: =IFERROR(SUM($G212:$M212)/$B212,"-") -> - | T111: =IFERROR(SUM($G316:$M316)/$B316,"-") -> - | U111: =IFERROR(SUM($G420:$M420)/$B420,"-") -> - | V111: =IFERROR(SUM($G524:$M524)/$B524,"-") -> - | W111: =IFERROR(SUM($G628:$M628)/$B628,"-") -> - | X111: =IFERROR(SUM($G732:$M732)/$B732,"-") -> 0.057017544 | Y111: =IFERROR(SUM($G836:$M836)/$B836,"-") -> 0.093366093 | Z111: =IFERROR(SUM($G940:$M940)/$B940,"-") -> 0.072289157 | AA111: =IFERROR(SUM($G1044:$M1044)/$B1044,"-") -> 0.078014184 | AB111: =IFERROR(SUM($G1148:$M1148)/$B1148,"-") -> 0.046065259 | AC111: =IFERROR(SUM($G1252:$M1252)/$B1252,"-") -> 0.058027079 | AD111: =IFERROR(SUM($G1356:$M1356)/$B1356,"-") -> 0.060606061 | AE111: =IFERROR(SUM($G1460:$M1460)/$B1460,"-") -> 0.10330579 | AF111: =IFERROR(SUM($G1564:$M1564)/$B1564,"-") -> 0.060606061 | AG111: =IFERROR(SUM($G1668:$M1668)/$B1668,"-") -> - | AH111: =IFERROR(SUM($G1772:$M1772)/$B1772,"-") -> - | AI111: =IFERROR(SUM($G1876:$M1876)/$B1876,"-") -> - | AJ111: =IFERROR(SUM($G1980:$M1980)/$B1980,"-") -> - | AK111: =IFERROR(SUM($G2084:$M2084)/$B2084,"-") -> - | AL111: =IFERROR(SUM($G2188:$M2188)/$B2188,"-") -> -
A112: Date | B112: Tuesday | C112: =C8+1 -> 45720 | Q112: 06-00 | R112: =IFERROR(SUM($G109:$M109)/$B109,"-") -> - | S112: =IFERROR(SUM($G213:$M213)/$B213,"-") -> - | T112: =IFERROR(SUM($G317:$M317)/$B317,"-") -> - | U112: =IFERROR(SUM($G421:$M421)/$B421,"-") -> - | V112: =IFERROR(SUM($G525:$M525)/$B525,"-") -> - | W112: =IFERROR(SUM($G629:$M629)/$B629,"-") -> - | X112: =IFERROR(SUM($G733:$M733)/$B733,"-") -> 0.056034483 | Y112: =IFERROR(SUM($G837:$M837)/$B837,"-") -> 0.093366093 | Z112: =IFERROR(SUM($G941:$M941)/$B941,"-") -> 0.071258907 | AA112: =IFERROR(SUM($G1045:$M1045)/$B1045,"-") -> 0.077647059 | AB112: =IFERROR(SUM($G1149:$M1149)/$B1149,"-") -> 0.045454545 | AC112: =IFERROR(SUM($G1253:$M1253)/$B1253,"-") -> 0.059160305 | AD112: =IFERROR(SUM($G1357:$M1357)/$B1357,"-") -> 0.060897436 | AE112: =IFERROR(SUM($G1461:$M1461)/$B1461,"-") -> 0.10288066 | AF112: =IFERROR(SUM($G1565:$M1565)/$B1565,"-") -> 0.060606061 | AG112: =IFERROR(SUM($G1669:$M1669)/$B1669,"-") -> - | AH112: =IFERROR(SUM($G1773:$M1773)/$B1773,"-") -> - | AI112: =IFERROR(SUM($G1877:$M1877)/$B1877,"-") -> - | AJ112: =IFERROR(SUM($G1981:$M1981)/$B1981,"-") -> - | AK112: =IFERROR(SUM($G2085:$M2085)/$B2085,"-") -> - | AL112: =IFERROR(SUM($G2189:$M2189)/$B2189,"-") -> -
B113: Total | C113: Cycle | D113: Motor Cycle | E113: Car | F113: LGV | G113: 2 Axled Rigid | H113: 3 Axled Rigid | I113: 4 Axled Rigid | J113: 3 Axled Artic | K113: 4 Axled Artic | L113: 5+ Axled Artic | M113: Bus | N113: Mean Speed (Mph) | O113: 85%ile Speed (Mph) | Q113: 00-00 | R113: =IFERROR(SUM($G110:$M110)/$B110,"-") -> - | S113: =IFERROR(SUM($G214:$M214)/$B214,"-") -> - | T113: =IFERROR(SUM($G318:$M318)/$B318,"-") -> - | U113: =IFERROR(SUM($G422:$M422)/$B422,"-") -> - | V113: =IFERROR(SUM($G526:$M526)/$B526,"-") -> - | W113: =IFERROR(SUM($G630:$M630)/$B630,"-") -> - | X113: =IFERROR(SUM($G734:$M734)/$B734,"-") -> 0.056034483 | Y113: =IFERROR(SUM($G838:$M838)/$B838,"-") -> 0.092457421 | Z113: =IFERROR(SUM($G942:$M942)/$B942,"-") -> 0.071090047 | AA113: =IFERROR(SUM($G1046:$M1046)/$B1046,"-") -> 0.078886311 | AB113: =IFERROR(SUM($G1150:$M1150)/$B1150,"-") -> 0.04519774 | AC113: =IFERROR(SUM($G1254:$M1254)/$B1254,"-") -> 0.060377358 | AD113: =IFERROR(SUM($G1358:$M1358)/$B1358,"-") -> 0.060509554 | AE113: =IFERROR(SUM($G1462:$M1462)/$B1462,"-") -> 0.098814229 | AF113: =IFERROR(SUM($G1566:$M1566)/$B1566,"-") -> 0.059322034 | AG113: =IFERROR(SUM($G1670:$M1670)/$B1670,"-") -> - | AH113: =IFERROR(SUM($G1774:$M1774)/$B1774,"-") -> - | AI113: =IFERROR(SUM($G1878:$M1878)/$B1878,"-") -> - | AJ113: =IFERROR(SUM($G1982:$M1982)/$B1982,"-") -> - | AK113: =IFERROR(SUM($G2086:$M2086)/$B2086,"-") -> - | AL113: =IFERROR(SUM($G2190:$M2190)/$B2190,"-") -> -
A114: Time
A115: 0 | B115: * | C115: * | D115: * | E115: * | F115: * | G115: * | H115: * | I115: * | J115: * | K115: * | L115: * | M115: * | N115: * | O115: * | R115: =R10 -> 45719 | S115: =S10 -> 45720 | T115: =T10 -> 45721 | U115: =U10 -> 45722 | V115: =V10 -> 45723 | W115: =W10 -> 45724 | X115: =X10 -> 45725 | Y115: =Y10 -> 45726 | ... AL115: =AL10 -> 45739
A116: 0.010416667 | B116: * | C116: * | D116: * | E116: * | F116: * | G116: * | H116: * | I116: * | J116: * | K116: * | L116: * | M116: * | N116: * | O116: * | Q116: Mean | R116: =$N$110 -> 0 | S116: =$N$214 -> 0 | T116: =$N$318 -> 0 | U116: =$N$422 -> 0 | V116: =$N$526 -> 0 | W116: =$N$630 -> 0 | X116: =$N$734 -> 23.7 | Y116: =$N$838 -> 24.4 | Z116: =$N$942 -> 24.6 | AA116: =$N$1046 -> 24.9 | AB116: =$N$1150 -> 25.2 | AC116: =$N$1254 -> 24.3 | AD116: =$N$1358 -> 24.5 | AE116: =$N$1462 -> 22.4 | AF116: =$N$1566 -> 23.8 | AG116: =$N$1670 -> 0 | AH116: =$N$1774 -> 0 | AI116: =$N$1878 -> 0 | AJ116: =$N$1982 -> 0 | AK116: =$N$2086 -> 0 | AL116: =$N$2190 -> 0
A117: 0.020833333 | B117: * | C117: * | D117: * | E117: * | F117: * | G117: * | H117: * | I117: * | J117: * | K117: * | L117: * | M117: * | N117: * | O117: * | Q117: 85%ile | R117: =$O$110 -> 0 | S117: =$O$214 -> 0 | T117: =$O$318 -> 0 | U117: =$O$422 -> 0 | V117: =$O$526 -> 0 | W117: =$O$630 -> 0 | X117: =$O$734 -> 29.8 | Y117: =$O$838 -> 30.3 | Z117: =$O$942 -> 31.5 | AA117: =$O$1046 -> 31.7 | AB117: =$O$1150 -> 32.1 | AC117: =$O$1254 -> 30.1 | AD117: =$O$1358 -> 30.5 | AE117: =$O$1462 -> 27.5 | AF117: =$O$1566 -> 29.2 | AG117: =$O$1670 -> 0 | AH117: =$O$1774 -> 0 | AI117: =$O$1878 -> 0 | AJ117: =$O$1982 -> 0 | AK117: =$O$2086 -> 0 | AL117: =$O$2190 -> 0
A118: 0.03125 | B118: * | C118: * | D118: * | E118: * | F118: * | G118: * | H118: * | I118: * | J118: * | K118: * | L118: * | M118: * | N118: * | O118: *
A119: 0.041666667 | B119: * | C119: * | D119: * | E119: * | F119: * | G119: * | H119: * | I119: * | J119: * | K119: * | L119: * | M119: * | N119: * | O119: *
A120: 0.052083333 | B120: * | C120: * | D120: * | E120: * | F120: * | G120: * | H120: * | I120: * | J120: * | K120: * | L120: * | M120: * | N120: * | O120: *
A121: 0.0625 | B121: * | C121: * | D121: * | E121: * | F121: * | G121: * | H121: * | I121: * | J121: * | K121: * | L121: * | M121: * | N121: * | O121: *
A122: 0.072916667 | B122: * | C122: * | D122: * | E122: * | F122: * | G122: * | H122: * | I122: * | J122: * | K122: * | L122: * | M122: * | N122: * | O122: *
A123: 0.083333333 | B123: * | C123: * | D123: * | E123: * | F123: * | G123: * | H123: * | I123: * | J123: * | K123: * | L123: * | M123: * | N123: * | O123: *
A124: 0.09375 | B124: * | C124: * | D124: * | E124: * | F124: * | G124: * | H124: * | I124: * | J124: * | K124: * | L124: * | M124: * | N124: * | O124: *
A125: 0.10416667 | B125: * | C125: * | D125: * | E125: * | F125: * | G125: * | H125: * | I125: * | J125: * | K125: * | L125: * | M125: * | N125: * | O125: *
A126: 0.11458333 | B126: * | C126: * | D126: * | E126: * | F126: * | G126: * | H126: * | I126: * | J126: * | K126: * | L126: * | M126: * | N126: * | O126: *
A127: 0.125 | B127: * | C127: * | D127: * | E127: * | F127: * | G127: * | H127: * | I127: * | J127: * | K127: * | L127: * | M127: * | N127: * | O127: *
A128: 0.13541667 | B128: * | C128: * | D128: * | E128: * | F128: * | G128: * | H128: * | I128: * | J128: * | K128: * | L128: * | M128: * | N128: * | O128: *
A129: 0.14583333 | B129: * | C129: * | D129: * | E129: * | F129: * | G129: * | H129: * | I129: * | J129: * | K129: * | L129: * | M129: * | N129: * | O129: *
... A210: 0.98958333 | B210: * | C210: * | D210: * | E210: * | F210: * | G210: * | H210: * | I210: * | J210: * | K210: * | L210: * | M210: * | N210: * | O210: *
A211: 07-19 | B211: =SUM(B143:B190) -> 0 | C211: =SUM(C143:C190) -> 0 | D211: =SUM(D143:D190) -> 0 | E211: =SUM(E143:E190) -> 0 | F211: =SUM(F143:F190) -> 0 | G211: =SUM(G143:G190) -> 0 | H211: =SUM(H143:H190) -> 0 | I211: =SUM(I143:I190) -> 0 | ... M211: =SUM(M143:M190) -> 0
A212: 06-22 | B212: =SUM(B139:B202) -> 0 | C212: =SUM(C139:C202) -> 0 | D212: =SUM(D139:D202) -> 0 | E212: =SUM(E139:E202) -> 0 | F212: =SUM(F139:F202) -> 0 | G212: =SUM(G139:G202) -> 0 | H212: =SUM(H139:H202) -> 0 | I212: =SUM(I139:I202) -> 0 | ... M212: =SUM(M139:M202) -> 0
A213: 06-00 | B213: =SUM(B139:B210) -> 0 | C213: =SUM(C139:C210) -> 0 | D213: =SUM(D139:D210) -> 0 | E213: =SUM(E139:E210) -> 0 | F213: =SUM(F139:F210) -> 0 | G213: =SUM(G139:G210) -> 0 | H213: =SUM(H139:H210) -> 0 | I213: =SUM(I139:I210) -> 0 | ... M213: =SUM(M139:M210) -> 0
A214: 00-00 | B214: =SUM(B115:B210) -> 0 | C214: =SUM(C115:C210) -> 0 | D214: =SUM(D115:D210) -> 0 | E214: =SUM(E115:E210) -> 0 | F214: =SUM(F115:F210) -> 0 | G214: =SUM(G115:G210) -> 0 | H214: =SUM(H115:H210) -> 0 | I214: =SUM(I115:I210) -> 0 | ... M214: =SUM(M115:M210) -> 0
A216: Date | B216: Wednesday | C216: =C112+1 -> 45721
B217: Total | C217: Cycle | D217: Motor Cycle | E217: Car | F217: LGV | G217: 2 Axled Rigid | H217: 3 Axled Rigid | I217: 4 Axled Rigid | J217: 3 Axled Artic | K217: 4 Axled Artic | L217: 5+ Axled Artic | M217: Bus | N217: Mean Speed (Mph) | O217: 85%ile Speed (Mph)
A218: Time
A219: 0 | B219: * | C219: * | D219: * | E219: * | F219: * | G219: * | H219: * | I219: * | J219: * | K219: * | L219: * | M219: * | N219: * | O219: *
A220: 0.010416667 | B220: * | C220: * | D220: * | E220: * | F220: * | G220: * | H220: * | I220: * | J220: * | K220: * | L220: * | M220: * | N220: * | O220: *
A221: 0.020833333 | B221: * | C221: * | D221: * | E221: * | F221: * | G221: * | H221: * | I221: * | J221: * | K221: * | L221: * | M221: * | N221: * | O221: *
A222: 0.03125 | B222: * | C222: * | D222: * | E222: * | F222: * | G222: * | H222: * | I222: * | J222: * | K222: * | L222: * | M222: * | N222: * | O222: *
A223: 0.041666667 | B223: * | C223: * | D223: * | E223: * | F223: * | G223: * | H223: * | I223: * | J223: * | K223: * | L223: * | M223: * | N223: * | O223: *
A224: 0.052083333 | B224: * | C224: * | D224: * | E224: * | F224: * | G224: * | H224: * | I224: * | J224: * | K224: * | L224: * | M224: * | N224: * | O224: *
A225: 0.0625 | B225: * | C225: * | D225: * | E225: * | F225: * | G225: * | H225: * | I225: * | J225: * | K225: * | L225: * | M225: * | N225: * | O225: *
A226: 0.072916667 | B226: * | C226: * | D226: * | E226: * | F226: * | G226: * | H226: * | I226: * | J226: * | K226: * | L226: * | M226: * | N226: * | O226: *
A227: 0.083333333 | B227: * | C227: * | D227: * | E227: * | F227: * | G227: * | H227: * | I227: * | J227: * | K227: * | L227: * | M227: * | N227: * | O227: *
A228: 0.09375 | B228: * | C228: * | D228: * | E228: * | F228: * | G228: * | H228: * | I228: * | J228: * | K228: * | L228: * | M228: * | N228: * | O228: *
A229: 0.10416667 | B229: * | C229: * | D229: * | E229: * | F229: * | G229: * | H229: * | I229: * | J229: * | K229: * | L229: * | M229: * | N229: * | O229: *
A230: 0.11458333 | B230: * | C230: * | D230: * | E230: * | F230: * | G230: * | H230: * | I230: * | J230: * | K230: * | L230: * | M230: * | N230: * | O230: *
... A314: 0.98958333 | B314: * | C314: * | D314: * | E314: * | F314: * | G314: * | H314: * | I314: * | J314: * | K314: * | L314: * | M314: * | N314: * | O314: *
A315: 07-19 | B315: =SUM(B247:B294) -> 0 | C315: =SUM(C247:C294) -> 0 | D315: =SUM(D247:D294) -> 0 | E315: =SUM(E247:E294) -> 0 | F315: =SUM(F247:F294) -> 0 | G315: =SUM(G247:G294) -> 0 | H315: =SUM(H247:H294) -> 0 | I315: =SUM(I247:I294) -> 0 | ... M315: =SUM(M247:M294) -> 0
A316: 06-22 | B316: =SUM(B243:B306) -> 0 | C316: =SUM(C243:C306) -> 0 | D316: =SUM(D243:D306) -> 0 | E316: =SUM(E243:E306) -> 0 | F316: =SUM(F243:F306) -> 0 | G316: =SUM(G243:G306) -> 0 | H316: =SUM(H243:H306) -> 0 | I316: =SUM(I243:I306) -> 0 | ... M316: =SUM(M243:M306) -> 0
A317: 06-00 | B317: =SUM(B243:B314) -> 0 | C317: =SUM(C243:C314) -> 0 | D317: =SUM(D243:D314) -> 0 | E317: =SUM(E243:E314) -> 0 | F317: =SUM(F243:F314) -> 0 | G317: =SUM(G243:G314) -> 0 | H317: =SUM(H243:H314) -> 0 | I317: =SUM(I243:I314) -> 0 | ... M317: =SUM(M243:M314) -> 0
A318: 00-00 | B318: =SUM(B219:B314) -> 0 | C318: =SUM(C219:C314) -> 0 | D318: =SUM(D219:D314) -> 0 | E318: =SUM(E219:E314) -> 0 | F318: =SUM(F219:F314) -> 0 | G318: =SUM(G219:G314) -> 0 | H318: =SUM(H219:H314) -> 0 | I318: =SUM(I219:I314) -> 0 | ... M318: =SUM(M219:M314) -> 0
A320: Date | B320: Thursday | C320: =C216+1 -> 45722
B321: Total | C321: Cycle | D321: Motor Cycle | E321: Car | F321: LGV | G321: 2 Axled Rigid | H321: 3 Axled Rigid | I321: 4 Axled Rigid | J321: 3 Axled Artic | K321: 4 Axled Artic | L321: 5+ Axled Artic | M321: Bus | N321: Mean Speed (Mph) | O321: 85%ile Speed (Mph)
A322: Time
A323: 0 | B323: * | C323: * | D323: * | E323: * | F323: * | G323: * | H323: * | I323: * | J323: * | K323: * | L323: * | M323: * | N323: * | O323: *
A324: 0.010416667 | B324: * | C324: * | D324: * | E324: * | F324: * | G324: * | H324: * | I324: * | J324: * | K324: * | L324: * | M324: * | N324: * | O324: *
A325: 0.020833333 | B325: * | C325: * | D325: * | E325: * | F325: * | G325: * | H325: * | I325: * | J325: * | K325: * | L325: * | M325: * | N325: * | O325: *
A326: 0.03125 | B326: * | C326: * | D326: * | E326: * | F326: * | G326: * | H326: * | I326: * | J326: * | K326: * | L326: * | M326: * | N326: * | O326: *
A327: 0.041666667 | B327: * | C327: * | D327: * | E327: * | F327: * | G327: * | H327: * | I327: * | J327: * | K327: * | L327: * | M327: * | N327: * | O327: *
A328: 0.052083333 | B328: * | C328: * | D328: * | E328: * | F328: * | G328: * | H328: * | I328: * | J328: * | K328: * | L328: * | M328: * | N328: * | O328: *
A329: 0.0625 | B329: * | C329: * | D329: * | E329: * | F329: * | G329: * | H329: * | I329: * | J329: * | K329: * | L329: * | M329: * | N329: * | O329: *
A330: 0.072916667 | B330: * | C330: * | D330: * | E330: * | F330: * | G330: * | H330: * | I330: * | J330: * | K330: * | L330: * | M330: * | N330: * | O330: *
A331: 0.083333333 | B331: * | C331: * | D331: * | E331: * | F331: * | G331: * | H331: * | I331: * | J331: * | K331: * | L331: * | M331: * | N331: * | O331: *
A332: 0.09375 | B332: * | C332: * | D332: * | E332: * | F332: * | G332: * | H332: * | I332: * | J332: * | K332: * | L332: * | M332: * | N332: * | O332: *
A333: 0.10416667 | B333: * | C333: * | D333: * | E333: * | F333: * | G333: * | H333: * | I333: * | J333: * | K333: * | L333: * | M333: * | N333: * | O333: *
A334: 0.11458333 | B334: * | C334: * | D334: * | E334: * | F334: * | G334: * | H334: * | I334: * | J334: * | K334: * | L334: * | M334: * | N334: * | O334: *
... A418: 0.98958333 | B418: * | C418: * | D418: * | E418: * | F418: * | G418: * | H418: * | I418: * | J418: * | K418: * | L418: * | M418: * | N418: * | O418: *
A419: 07-19 | B419: =SUM(B351:B398) -> 0 | C419: =SUM(C351:C398) -> 0 | D419: =SUM(D351:D398) -> 0 | E419: =SUM(E351:E398) -> 0 | F419: =SUM(F351:F398) -> 0 | G419: =SUM(G351:G398) -> 0 | H419: =SUM(H351:H398) -> 0 | I419: =SUM(I351:I398) -> 0 | ... M419: =SUM(M351:M398) -> 0
A420: 06-22 | B420: =SUM(B347:B410) -> 0 | C420: =SUM(C347:C410) -> 0 | D420: =SUM(D347:D410) -> 0 | E420: =SUM(E347:E410) -> 0 | F420: =SUM(F347:F410) -> 0 | G420: =SUM(G347:G410) -> 0 | H420: =SUM(H347:H410) -> 0 | I420: =SUM(I347:I410) -> 0 | ... M420: =SUM(M347:M410) -> 0
A421: 06-00 | B421: =SUM(B347:B418) -> 0 | C421: =SUM(C347:C418) -> 0 | D421: =SUM(D347:D418) -> 0 | E421: =SUM(E347:E418) -> 0 | F421: =SUM(F347:F418) -> 0 | G421: =SUM(G347:G418) -> 0 | H421: =SUM(H347:H418) -> 0 | I421: =SUM(I347:I418) -> 0 | ... M421: =SUM(M347:M418) -> 0
A422: 00-00 | B422: =SUM(B323:B418) -> 0 | C422: =SUM(C323:C418) -> 0 | D422: =SUM(D323:D418) -> 0 | E422: =SUM(E323:E418) -> 0 | F422: =SUM(F323:F418) -> 0 | G422: =SUM(G323:G418) -> 0 | H422: =SUM(H323:H418) -> 0 | I422: =SUM(I323:I418) -> 0 | ... M422: =SUM(M323:M418) -> 0
A424: Date | B424: Friday | C424: =C320+1 -> 45723
B425: Total | C425: Cycle | D425: Motor Cycle | E425: Car | F425: LGV | G425: 2 Axled Rigid | H425: 3 Axled Rigid | I425: 4 Axled Rigid | J425: 3 Axled Artic | K425: 4 Axled Artic | L425: 5+ Axled Artic | M425: Bus | N425: Mean Speed (Mph) | O425: 85%ile Speed (Mph)
A426: Time
A427: 0 | B427: * | C427: * | D427: * | E427: * | F427: * | G427: * | H427: * | I427: * | J427: * | K427: * | L427: * | M427: * | N427: * | O427: *
A428: 0.010416667 | B428: * | C428: * | D428: * | E428: * | F428: * | G428: * | H428: * | I428: * | J428: * | K428: * | L428: * | M428: * | N428: * | O428: *
A429: 0.020833333 | B429: * | C429: * | D429: * | E429: * | F429: * | G429: * | H429: * | I429: * | J429: * | K429: * | L429: * | M429: * | N429: * | O429: *
A430: 0.03125 | B430: * | C430: * | D430: * | E430: * | F430: * | G430: * | H430: * | I430: * | J430: * | K430: * | L430: * | M430: * | N430: * | O430: *
A431: 0.041666667 | B431: * | C431: * | D431: * | E431: * | F431: * | G431: * | H431: * | I431: * | J431: * | K431: * | L431: * | M431: * | N431: * | O431: *
A432: 0.052083333 | B432: * | C432: * | D432: * | E432: * | F432: * | G432: * | H432: * | I432: * | J432: * | K432: * | L432: * | M432: * | N432: * | O432: *
A433: 0.0625 | B433: * | C433: * | D433: * | E433: * | F433: * | G433: * | H433: * | I433: * | J433: * | K433: * | L433: * | M433: * | N433: * | O433: *
A434: 0.072916667 | B434: * | C434: * | D434: * | E434: * | F434: * | G434: * | H434: * | I434: * | J434: * | K434: * | L434: * | M434: * | N434: * | O434: *
...

Sheet Hourly Flow Summary A-B
A1: Intelligent Data Collection Limited
A3: Period Commencing: | C3: ='Front Cover'!C30 -> 45719
A4: Road Name: | B4: ='Front Cover'!C31 -> High Street
A5: Flow from : | B5: ='Front Cover'!D33 -> The Green (W) | D5: to: | E5: ='Front Cover'!H33 -> The Glebe (E) | H5: Prepared by: | I5: ='QA & Issue'!C14 -> Robyn Short
A6: Vehicle Classification: | C6: All Vehicles | H6: Checked by: | I6: ='QA & Issue'!C16 -> David Brown
B8: Monday | C8: Tuesday | D8: Wednesday | E8: Thursday | F8: Friday | G8: Saturday | H8: Sunday | I8: Monday | J8: Tuesday | K8: Wednesday | L8: Thursday | M8: Friday | N8: Saturday | O8: Sunday | P8: Monday | Q8: Tuesday | R8: Wednesday | S8: Thursday | T8: Friday | U8: Saturday | V8: Sunday | W8: 3-day Average (Tue-Thur) | X8: 5-day Average (Mon-Fri) | Y8: 7-day Average (Mon-Sun)
A9: Hour Starting | B9: ='Front Cover'!C30 -> 45719 | C9: =B9+1 -> 45720 | D9: =C9+1 -> 45721 | E9: =D9+1 -> 45722 | F9: =E9+1 -> 45723 | G9: =F9+1 -> 45724 | H9: =G9+1 -> 45725 | I9: =H9+1 -> 45726 | J9: =I9+1 -> 45727 | ... V9: =U9+1 -> 45739
A10: 0 | B10: =IF(OR('Class Bin A-B'!$B11="*",'Class Bin A-B'!$B12="*",'Class Bin A-B'!$B13="*",'Class Bin A-B'!$B14="*"),"*",SUM('Class Bin A-B'!$B11:$B14)) -> * | C10: =IF(OR('Class Bin A-B'!$B115="*",'Class Bin A-B'!$B116="*",'Class Bin A-B'!$B117="*",'Class Bin A-B'!$B118="*"),"*",SUM('Class Bin A-B'!$B115:$B118)) -> * | D10: =IF(OR('Class Bin A-B'!$B219="*",'Class Bin A-B'!$B220="*",'Class Bin A-B'!$B221="*",'Class Bin A-B'!$B222="*"),"*",SUM('Class Bin A-B'!$B219:$B222)) -> * | E10: =IF(OR('Class Bin A-B'!$B323="*",'Class Bin A-B'!$B324="*",'Class Bin A-B'!$B325="*",'Class Bin A-B'!$B326="*"),"*",SUM('Class Bin A-B'!$B323:$B326)) -> * | F10: =IF(OR('Class Bin A-B'!$B427="*",'Class Bin A-B'!$B428="*",'Class Bin A-B'!$B429="*",'Class Bin A-B'!$B430="*"),"*",SUM('Class Bin A-B'!$B427:$B430)) -> * | G10: =IF(OR('Class Bin A-B'!$B531="*",'Class Bin A-B'!$B532="*",'Class Bin A-B'!$B533="*",'Class Bin A-B'!$B534="*"),"*",SUM('Class Bin A-B'!$B531:$B534)) -> * | H10: =IF(OR('Class Bin A-B'!$B635="*",'Class Bin A-B'!$B636="*",'Class Bin A-B'!$B637="*",'Class Bin A-B'!$B638="*"),"*",SUM('Class Bin A-B'!$B635:$B638)) -> * | I10: =IF(OR('Class Bin A-B'!$B739="*",'Class Bin A-B'!$B740="*",'Class Bin A-B'!$B741="*",'Class Bin A-B'!$B742="*"),"*",SUM('Class Bin A-B'!$B739:$B742)) -> 0 | J10: =IF(OR('Class Bin A-B'!$B843="*",'Class Bin A-B'!$B844="*",'Class Bin A-B'!$B845="*",'Class Bin A-B'!$B846="*"),"*",SUM('Class Bin A-B'!$B843:$B846)) -> 0 | K10: =IF(OR('Class Bin A-B'!$B947="*",'Class Bin A-B'!$B948="*",'Class Bin A-B'!$B949="*",'Class Bin A-B'!$B950="*"),"*",SUM('Class Bin A-B'!$B947:$B950)) -> 1 | L10: =IF(OR('Class Bin A-B'!$B1051="*",'Class Bin A-B'!$B1052="*",'Class Bin A-B'!$B1053="*",'Class Bin A-B'!$B1054="*"),"*",SUM('Class Bin A-B'!$B1051:$B1054)) -> 1 | M10: =IF(OR('Class Bin A-B'!$B1155="*",'Class Bin A-B'!$B1156="*",'Class Bin A-B'!$B1157="*",'Class Bin A-B'!$B1158="*"),"*",SUM('Class Bin A-B'!$B1155:$B1158)) -> 1 | N10: =IF(OR('Class Bin A-B'!$B1259="*",'Class Bin A-B'!$B1260="*",'Class Bin A-B'!$B1261="*",'Class Bin A-B'!$B1262="*"),"*",SUM('Class Bin A-B'!$B1259:$B1262)) -> 2 | O10: =IF(OR('Class Bin A-B'!$B1363="*",'Class Bin A-B'!$B1364="*",'Class Bin A-B'!$B1365="*",'Class Bin A-B'!$B1366="*"),"*",SUM('Class Bin A-B'!$B1363:$B1366)) -> 1 | P10: =IF(OR('Class Bin A-B'!$B1467="*",'Class Bin A-B'!$B1468="*",'Class Bin A-B'!$B1469="*",'Class Bin A-B'!$B1470="*"),"*",SUM('Class Bin A-B'!$B1467:$B1470)) -> 0 | Q10: =IF(OR('Class Bin A-B'!$B1571="*",'Class Bin A-B'!$B1572="*",'Class Bin A-B'!$B1573="*",'Class Bin A-B'!$B1574="*"),"*",SUM('Class Bin A-B'!$B1571:$B1574)) -> * | R10: =IF(OR('Class Bin A-B'!$B1675="*",'Class Bin A-B'!$B1676="*",'Class Bin A-B'!$B1677="*",'Class Bin A-B'!$B1678="*"),"*",SUM('Class Bin A-B'!$B1675:$B1678)) -> * | S10: =IF(OR('Class Bin A-B'!$B1779="*",'Class Bin A-B'!$B1780="*",'Class Bin A-B'!$B1781="*",'Class Bin A-B'!$B1782="*"),"*",SUM('Class Bin A-B'!$B1779:$B1782)) -> * | T10: =IF(OR('Class Bin A-B'!$B1883="*",'Class Bin A-B'!$B1884="*",'Class Bin A-B'!$B1885="*",'Class Bin A-B'!$B1886="*"),"*",SUM('Class Bin A-B'!$B1883:$B1886)) -> * | U10: =IF(OR('Class Bin A-B'!$B1987="*",'Class Bin A-B'!$B1988="*",'Class Bin A-B'!$B1989="*",'Class Bin A-B'!$B1990="*"),"*",SUM('Class Bin A-B'!$B1987:$B1990)) -> * | V10: =IF(OR('Class Bin A-B'!$B2091="*",'Class Bin A-B'!$B2092="*",'Class Bin A-B'!$B2093="*",'Class Bin A-B'!$B2094="*"),"*",SUM('Class Bin A-B'!$B2091:$B2094)) -> * | W10: =IFERROR(AVERAGE(C10:E10,J10:L10,Q10:S10),"-") -> 0.66666667 | X10: =IFERROR(AVERAGE(B10:F10,I10:M10,P10:T10),"-") -> 0.5 | Y10: =IFERROR(AVERAGE(B10:V10),"-") -> 0.75
A11: 0.041666667 | B11: =IF(OR('Class Bin A-B'!$B15="*",'Class Bin A-B'!$B16="*",'Class Bin A-B'!$B17="*",'Class Bin A-B'!$B18="*"),"*",SUM('Class Bin A-B'!$B15:$B18)) -> * | C11: =IF(OR('Class Bin A-B'!$B119="*",'Class Bin A-B'!$B120="*",'Class Bin A-B'!$B121="*",'Class Bin A-B'!$B122="*"),"*",SUM('Class Bin A-B'!$B119:$B122)) -> * | D11: =IF(OR('Class Bin A-B'!$B223="*",'Class Bin A-B'!$B224="*",'Class Bin A-B'!$B225="*",'Class Bin A-B'!$B226="*"),"*",SUM('Class Bin A-B'!$B223:$B226)) -> * | E11: =IF(OR('Class Bin A-B'!$B327="*",'Class Bin A-B'!$B328="*",'Class Bin A-B'!$B329="*",'Class Bin A-B'!$B330="*"),"*",SUM('Class Bin A-B'!$B327:$B330)) -> * | F11: =IF(OR('Class Bin A-B'!$B431="*",'Class Bin A-B'!$B432="*",'Class Bin A-B'!$B433="*",'Class Bin A-B'!$B434="*"),"*",SUM('Class Bin A-B'!$B431:$B434)) -> * | G11: =IF(OR('Class Bin A-B'!$B535="*",'Class Bin A-B'!$B536="*",'Class Bin A-B'!$B537="*",'Class Bin A-B'!$B538="*"),"*",SUM('Class Bin A-B'!$B535:$B538)) -> * | H11: =IF(OR('Class Bin A-B'!$B639="*",'Class Bin A-B'!$B640="*",'Class Bin A-B'!$B641="*",'Class Bin A-B'!$B642="*"),"*",SUM('Class Bin A-B'!$B639:$B642)) -> * | I11: =IF(OR('Class Bin A-B'!$B743="*",'Class Bin A-B'!$B744="*",'Class Bin A-B'!$B745="*",'Class Bin A-B'!$B746="*"),"*",SUM('Class Bin A-B'!$B743:$B746)) -> 2 | J11: =IF(OR('Class Bin A-B'!$B847="*",'Class Bin A-B'!$B848="*",'Class Bin A-B'!$B849="*",'Class Bin A-B'!$B850="*"),"*",SUM('Class Bin A-B'!$B847:$B850)) -> 0 | K11: =IF(OR('Class Bin A-B'!$B951="*",'Class Bin A-B'!$B952="*",'Class Bin A-B'!$B953="*",'Class Bin A-B'!$B954="*"),"*",SUM('Class Bin A-B'!$B951:$B954)) -> 2 | L11: =IF(OR('Class Bin A-B'!$B1055="*",'Class Bin A-B'!$B1056="*",'Class Bin A-B'!$B1057="*",'Class Bin A-B'!$B1058="*"),"*",SUM('Class Bin A-B'!$B1055:$B1058)) -> 0 | M11: =IF(OR('Class Bin A-B'!$B1159="*",'Class Bin A-B'!$B1160="*",'Class Bin A-B'!$B1161="*",'Class Bin A-B'!$B1162="*"),"*",SUM('Class Bin A-B'!$B1159:$B1162)) -> 3 | N11: =IF(OR('Class Bin A-B'!$B1263="*",'Class Bin A-B'!$B1264="*",'Class Bin A-B'!$B1265="*",'Class Bin A-B'!$B1266="*"),"*",SUM('Class Bin A-B'!$B1263:$B1266)) -> 0 | O11: =IF(OR('Class Bin A-B'!$B1367="*",'Class Bin A-B'!$B1368="*",'Class Bin A-B'!$B1369="*",'Class Bin A-B'!$B1370="*"),"*",SUM('Class Bin A-B'!$B1367:$B1370)) -> 1 | P11: =IF(OR('Class Bin A-B'!$B1471="*",'Class Bin A-B'!$B1472="*",'Class Bin A-B'!$B1473="*",'Class Bin A-B'!$B1474="*"),"*",SUM('Class Bin A-B'!$B1471:$B1474)) -> 0 | Q11: =IF(OR('Class Bin A-B'!$B1575="*",'Class Bin A-B'!$B1576="*",'Class Bin A-B'!$B1577="*",'Class Bin A-B'!$B1578="*"),"*",SUM('Class Bin A-B'!$B1575:$B1578)) -> * | R11: =IF(OR('Class Bin A-B'!$B1679="*",'Class Bin A-B'!$B1680="*",'Class Bin A-B'!$B1681="*",'Class Bin A-B'!$B1682="*"),"*",SUM('Class Bin A-B'!$B1679:$B1682)) -> * | S11: =IF(OR('Class Bin A-B'!$B1783="*",'Class Bin A-B'!$B1784="*",'Class Bin A-B'!$B1785="*",'Class Bin A-B'!$B1786="*"),"*",SUM('Class Bin A-B'!$B1783:$B1786)) -> * | T11: =IF(OR('Class Bin A-B'!$B1887="*",'Class Bin A-B'!$B1888="*",'Class Bin A-B'!$B1889="*",'Class Bin A-B'!$B1890="*"),"*",SUM('Class Bin A-B'!$B1887:$B1890)) -> * | U11: =IF(OR('Class Bin A-B'!$B1991="*",'Class Bin A-B'!$B1992="*",'Class Bin A-B'!$B1993="*",'Class Bin A-B'!$B1994="*"),"*",SUM('Class Bin A-B'!$B1991:$B1994)) -> * | V11: =IF(OR('Class Bin A-B'!$B2095="*",'Class Bin A-B'!$B2096="*",'Class Bin A-B'!$B2097="*",'Class Bin A-B'!$B2098="*"),"*",SUM('Class Bin A-B'!$B2095:$B2098)) -> * | W11: =IFERROR(AVERAGE(C11:E11,J11:L11,Q11:S11),"-") -> 0.66666667 | X11: =IFERROR(AVERAGE(B11:F11,I11:M11,P11:T11),"-") -> 1.1666667 | Y11: =IFERROR(AVERAGE(B11:V11),"-") -> 1
A12: 0.083333333 | B12: =IF(OR('Class Bin A-B'!$B19="*",'Class Bin A-B'!$B20="*",'Class Bin A-B'!$B21="*",'Class Bin A-B'!$B22="*"),"*",SUM('Class Bin A-B'!$B19:$B22)) -> * | C12: =IF(OR('Class Bin A-B'!$B123="*",'Class Bin A-B'!$B124="*",'Class Bin A-B'!$B125="*",'Class Bin A-B'!$B126="*"),"*",SUM('Class Bin A-B'!$B123:$B126)) -> * | D12: =IF(OR('Class Bin A-B'!$B227="*",'Class Bin A-B'!$B228="*",'Class Bin A-B'!$B229="*",'Class Bin A-B'!$B230="*"),"*",SUM('Class Bin A-B'!$B227:$B230)) -> * | E12: =IF(OR('Class Bin A-B'!$B331="*",'Class Bin A-B'!$B332="*",'Class Bin A-B'!$B333="*",'Class Bin A-B'!$B334="*"),"*",SUM('Class Bin A-B'!$B331:$B334)) -> * | F12: =IF(OR('Class Bin A-B'!$B435="*",'Class Bin A-B'!$B436="*",'Class Bin A-B'!$B437="*",'Class Bin A-B'!$B438="*"),"*",SUM('Class Bin A-B'!$B435:$B438)) -> * | G12: =IF(OR('Class Bin A-B'!$B539="*",'Class Bin A-B'!$B540="*",'Class Bin A-B'!$B541="*",'Class Bin A-B'!$B542="*"),"*",SUM('Class Bin A-B'!$B539:$B542)) -> * | H12: =IF(OR('Class Bin A-B'!$B643="*",'Class Bin A-B'!$B644="*",'Class Bin A-B'!$B645="*",'Class Bin A-B'!$B646="*"),"*",SUM('Class Bin A-B'!$B643:$B646)) -> * | I12: =IF(OR('Class Bin A-B'!$B747="*",'Class Bin A-B'!$B748="*",'Class Bin A-B'!$B749="*",'Class Bin A-B'!$B750="*"),"*",SUM('Class Bin A-B'!$B747:$B750)) -> 1 | J12: =IF(OR('Class Bin A-B'!$B851="*",'Class Bin A-B'!$B852="*",'Class Bin A-B'!$B853="*",'Class Bin A-B'!$B854="*"),"*",SUM('Class Bin A-B'!$B851:$B854)) -> 0 | K12: =IF(OR('Class Bin A-B'!$B955="*",'Class Bin A-B'!$B956="*",'Class Bin A-B'!$B957="*",'Class Bin A-B'!$B958="*"),"*",SUM('Class Bin A-B'!$B955:$B958)) -> 0 | L12: =IF(OR('Class Bin A-B'!$B1059="*",'Class Bin A-B'!$B1060="*",'Class Bin A-B'!$B1061="*",'Class Bin A-B'!$B1062="*"),"*",SUM('Class Bin A-B'!$B1059:$B1062)) -> 0 | M12: =IF(OR('Class Bin A-B'!$B1163="*",'Class Bin A-B'!$B1164="*",'Class Bin A-B'!$B1165="*",'Class Bin A-B'!$B1166="*"),"*",SUM('Class Bin A-B'!$B1163:$B1166)) -> 0 | N12: =IF(OR('Class Bin A-B'!$B1267="*",'Class Bin A-B'!$B1268="*",'Class Bin A-B'!$B1269="*",'Class Bin A-B'!$B1270="*"),"*",SUM('Class Bin A-B'!$B1267:$B1270)) -> 1 | O12: =IF(OR('Class Bin A-B'!$B1371="*",'Class Bin A-B'!$B1372="*",'Class Bin A-B'!$B1373="*",'Class Bin A-B'!$B1374="*"),"*",SUM('Class Bin A-B'!$B1371:$B1374)) -> 2 | P12: =IF(OR('Class Bin A-B'!$B1475="*",'Class Bin A-B'!$B1476="*",'Class Bin A-B'!$B1477="*",'Class Bin A-B'!$B1478="*"),"*",SUM('Class Bin A-B'!$B1475:$B1478)) -> 0 | Q12: =IF(OR('Class Bin A-B'!$B1579="*",'Class Bin A-B'!$B1580="*",'Class Bin A-B'!$B1581="*",'Class Bin A-B'!$B1582="*"),"*",SUM('Class Bin A-B'!$B1579:$B1582)) -> * | R12: =IF(OR('Class Bin A-B'!$B1683="*",'Class Bin A-B'!$B1684="*",'Class Bin A-B'!$B1685="*",'Class Bin A-B'!$B1686="*"),"*",SUM('Class Bin A-B'!$B1683:$B1686)) -> * | S12: =IF(OR('Class Bin A-B'!$B1787="*",'Class Bin A-B'!$B1788="*",'Class Bin A-B'!$B1789="*",'Class Bin A-B'!$B1790="*"),"*",SUM('Class Bin A-B'!$B1787:$B1790)) -> * | T12: =IF(OR('Class Bin A-B'!$B1891="*",'Class Bin A-B'!$B1892="*",'Class Bin A-B'!$B1893="*",'Class Bin A-B'!$B1894="*"),"*",SUM('Class Bin A-B'!$B1891:$B1894)) -> * | U12: =IF(OR('Class Bin A-B'!$B1995="*",'Class Bin A-B'!$B1996="*",'Class Bin A-B'!$B1997="*",'Class Bin A-B'!$B1998="*"),"*",SUM('Class Bin A-B'!$B1995:$B1998)) -> * | V12: =IF(OR('Class Bin A-B'!$B2099="*",'Class Bin A-B'!$B2100="*",'Class Bin A-B'!$B2101="*",'Class Bin A-B'!$B2102="*"),"*",SUM('Class Bin A-B'!$B2099:$B2102)) -> * | W12: =IFERROR(AVERAGE(C12:E12,J12:L12,Q12:S12),"-") -> 0 | X12: =IFERROR(AVERAGE(B12:F12,I12:M12,P12:T12),"-") -> 0.16666667 | Y12: =IFERROR(AVERAGE(B12:V12),"-") -> 0.5
A13: 0.125 | B13: =IF(OR('Class Bin A-B'!$B23="*",'Class Bin A-B'!$B24="*",'Class Bin A-B'!$B25="*",'Class Bin A-B'!$B26="*"),"*",SUM('Class Bin A-B'!$B23:$B26)) -> * | C13: =IF(OR('Class Bin A-B'!$B127="*",'Class Bin A-B'!$B128="*",'Class Bin A-B'!$B129="*",'Class Bin A-B'!$B130="*"),"*",SUM('Class Bin A-B'!$B127:$B130)) -> * | D13: =IF(OR('Class Bin A-B'!$B231="*",'Class Bin A-B'!$B232="*",'Class Bin A-B'!$B233="*",'Class Bin A-B'!$B234="*"),"*",SUM('Class Bin A-B'!$B231:$B234)) -> * | E13: =IF(OR('Class Bin A-B'!$B335="*",'Class Bin A-B'!$B336="*",'Class Bin A-B'!$B337="*",'Class Bin A-B'!$B338="*"),"*",SUM('Class Bin A-B'!$B335:$B338)) -> * | F13: =IF(OR('Class Bin A-B'!$B439="*",'Class Bin A-B'!$B440="*",'Class Bin A-B'!$B441="*",'Class Bin A-B'!$B442="*"),"*",SUM('Class Bin A-B'!$B439:$B442)) -> * | G13: =IF(OR('Class Bin A-B'!$B543="*",'Class Bin A-B'!$B544="*",'Class Bin A-B'!$B545="*",'Class Bin A-B'!$B546="*"),"*",SUM('Class Bin A-B'!$B543:$B546)) -> * | H13: =IF(OR('Class Bin A-B'!$B647="*",'Class Bin A-B'!$B648="*",'Class Bin A-B'!$B649="*",'Class Bin A-B'!$B650="*"),"*",SUM('Class Bin A-B'!$B647:$B650)) -> * | I13: =IF(OR('Class Bin A-B'!$B751="*",'Class Bin A-B'!$B752="*",'Class Bin A-B'!$B753="*",'Class Bin A-B'!$B754="*"),"*",SUM('Class Bin A-B'!$B751:$B754)) -> 1 | J13: =IF(OR('Class Bin A-B'!$B855="*",'Class Bin A-B'!$B856="*",'Class Bin A-B'!$B857="*",'Class Bin A-B'!$B858="*"),"*",SUM('Class Bin A-B'!$B855:$B858)) -> 0 | K13: =IF(OR('Class Bin A-B'!$B959="*",'Class Bin A-B'!$B960="*",'Class Bin A-B'!$B961="*",'Class Bin A-B'!$B962="*"),"*",SUM('Class Bin A-B'!$B959:$B962)) -> 0 | L13: =IF(OR('Class Bin A-B'!$B1063="*",'Class Bin A-B'!$B1064="*",'Class Bin A-B'!$B1065="*",'Class Bin A-B'!$B1066="*"),"*",SUM('Class Bin A-B'!$B1063:$B1066)) -> 0 | M13: =IF(OR('Class Bin A-B'!$B1167="*",'Class Bin A-B'!$B1168="*",'Class Bin A-B'!$B1169="*",'Class Bin A-B'!$B1170="*"),"*",SUM('Class Bin A-B'!$B1167:$B1170)) -> 0 | N13: =IF(OR('Class Bin A-B'!$B1271="*",'Class Bin A-B'!$B1272="*",'Class Bin A-B'!$B1273="*",'Class Bin A-B'!$B1274="*"),"*",SUM('Class Bin A-B'!$B1271:$B1274)) -> 1 | O13: =IF(OR('Class Bin A-B'!$B1375="*",'Class Bin A-B'!$B1376="*",'Class Bin A-B'!$B1377="*",'Class Bin A-B'!$B1378="*"),"*",SUM('Class Bin A-B'!$B1375:$B1378)) -> 1 | P13: =IF(OR('Class Bin A-B'!$B1479="*",'Class Bin A-B'!$B1480="*",'Class Bin A-B'!$B1481="*",'Class Bin A-B'!$B1482="*"),"*",SUM('Class Bin A-B'!$B1479:$B1482)) -> 0 | Q13: =IF(OR('Class Bin A-B'!$B1583="*",'Class Bin A-B'!$B1584="*",'Class Bin A-B'!$B1585="*",'Class Bin A-B'!$B1586="*"),"*",SUM('Class Bin A-B'!$B1583:$B1586)) -> * | R13: =IF(OR('Class Bin A-B'!$B1687="*",'Class Bin A-B'!$B1688="*",'Class Bin A-B'!$B1689="*",'Class Bin A-B'!$B1690="*"),"*",SUM('Class Bin A-B'!$B1687:$B1690)) -> * | S13: =IF(OR('Class Bin A-B'!$B1791="*",'Class Bin A-B'!$B1792="*",'Class Bin A-B'!$B1793="*",'Class Bin A-B'!$B1794="*"),"*",SUM('Class Bin A-B'!$B1791:$B1794)) -> * | T13: =IF(OR('Class Bin A-B'!$B1895="*",'Class Bin A-B'!$B1896="*",'Class Bin A-B'!$B1897="*",'Class Bin A-B'!$B1898="*"),"*",SUM('Class Bin A-B'!$B1895:$B1898)) -> * | U13: =IF(OR('Class Bin A-B'!$B1999="*",'Class Bin A-B'!$B2000="*",'Class Bin A-B'!$B2001="*",'Class Bin A-B'!$B2002="*"),"*",SUM('Class Bin A-B'!$B1999:$B2002)) -> * | V13: =IF(OR('Class Bin A-B'!$B2103="*",'Class Bin A-B'!$B2104="*",'Class Bin A-B'!$B2105="*",'Class Bin A-B'!$B2106="*"),"*",SUM('Class Bin A-B'!$B2103:$B2106)) -> * | W13: =IFERROR(AVERAGE(C13:E13,J13:L13,Q13:S13),"-") -> 0 | X13: =IFERROR(AVERAGE(B13:F13,I13:M13,P13:T13),"-") -> 0.16666667 | Y13: =IFERROR(AVERAGE(B13:V13),"-") -> 0.375
A14: 0.16666667 | B14: =IF(OR('Class Bin A-B'!$B27="*",'Class Bin A-B'!$B28="*",'Class Bin A-B'!$B29="*",'Class Bin A-B'!$B30="*"),"*",SUM('Class Bin A-B'!$B27:$B30)) -> * | C14: =IF(OR('Class Bin A-B'!$B131="*",'Class Bin A-B'!$B132="*",'Class Bin A-B'!$B133="*",'Class Bin A-B'!$B134="*"),"*",SUM('Class Bin A-B'!$B131:$B134)) -> * | D14: =IF(OR('Class Bin A-B'!$B235="*",'Class Bin A-B'!$B236="*",'Class Bin A-B'!$B237="*",'Class Bin A-B'!$B238="*"),"*",SUM('Class Bin A-B'!$B235:$B238)) -> * | E14: =IF(OR('Class Bin A-B'!$B339="*",'Class Bin A-B'!$B340="*",'Class Bin A-B'!$B341="*",'Class Bin A-B'!$B342="*"),"*",SUM('Class Bin A-B'!$B339:$B342)) -> * | F14: =IF(OR('Class Bin A-B'!$B443="*",'Class Bin A-B'!$B444="*",'Class Bin A-B'!$B445="*",'Class Bin A-B'!$B446="*"),"*",SUM('Class Bin A-B'!$B443:$B446)) -> * | G14: =IF(OR('Class Bin A-B'!$B547="*",'Class Bin A-B'!$B548="*",'Class Bin A-B'!$B549="*",'Class Bin A-B'!$B550="*"),"*",SUM('Class Bin A-B'!$B547:$B550)) -> * | H14: =IF(OR('Class Bin A-B'!$B651="*",'Class Bin A-B'!$B652="*",'Class Bin A-B'!$B653="*",'Class Bin A-B'!$B654="*"),"*",SUM('Class Bin A-B'!$B651:$B654)) -> * | I14: =IF(OR('Class Bin A-B'!$B755="*",'Class Bin A-B'!$B756="*",'Class Bin A-B'!$B757="*",'Class Bin A-B'!$B758="*"),"*",SUM('Class Bin A-B'!$B755:$B758)) -> 0 | J14: =IF(OR('Class Bin A-B'!$B859="*",'Class Bin A-B'!$B860="*",'Class Bin A-B'!$B861="*",'Class Bin A-B'!$B862="*"),"*",SUM('Class Bin A-B'!$B859:$B862)) -> 0 | K14: =IF(OR('Class Bin A-B'!$B963="*",'Class Bin A-B'!$B964="*",'Class Bin A-B'!$B965="*",'Class Bin A-B'!$B966="*"),"*",SUM('Class Bin A-B'!$B963:$B966)) -> 0 | L14: =IF(OR('Class Bin A-B'!$B1067="*",'Class Bin A-B'!$B1068="*",'Class Bin A-B'!$B1069="*",'Class Bin A-B'!$B1070="*"),"*",SUM('Class Bin A-B'!$B1067:$B1070)) -> 1 | M14: =IF(OR('Class Bin A-B'!$B1171="*",'Class Bin A-B'!$B1172="*",'Class Bin A-B'!$B1173="*",'Class Bin A-B'!$B1174="*"),"*",SUM('Class Bin A-B'!$B1171:$B1174)) -> 0 | N14: =IF(OR('Class Bin A-B'!$B1275="*",'Class Bin A-B'!$B1276="*",'Class Bin A-B'!$B1277="*",'Class Bin A-B'!$B1278="*"),"*",SUM('Class Bin A-B'!$B1275:$B1278)) -> 0 | O14: =IF(OR('Class Bin A-B'!$B1379="*",'Class Bin A-B'!$B1380="*",'Class Bin A-B'!$B1381="*",'Class Bin A-B'!$B1382="*"),"*",SUM('Class Bin A-B'!$B1379:$B1382)) -> 0 | P14: =IF(OR('Class Bin A-B'!$B1483="*",'Class Bin A-B'!$B1484="*",'Class Bin A-B'!$B1485="*",'Class Bin A-B'!$B1486="*"),"*",SUM('Class Bin A-B'!$B1483:$B1486)) -> 0 | Q14: =IF(OR('Class Bin A-B'!$B1587="*",'Class Bin A-B'!$B1588="*",'Class Bin A-B'!$B1589="*",'Class Bin A-B'!$B1590="*"),"*",SUM('Class Bin A-B'!$B1587:$B1590)) -> * | R14: =IF(OR('Class Bin A-B'!$B1691="*",'Class Bin A-B'!$B1692="*",'Class Bin A-B'!$B1693="*",'Class Bin A-B'!$B1694="*"),"*",SUM('Class Bin A-B'!$B1691:$B1694)) -> * | S14: =IF(OR('Class Bin A-B'!$B1795="*",'Class Bin A-B'!$B1796="*",'Class Bin A-B'!$B1797="*",'Class Bin A-B'!$B1798="*"),"*",SUM('Class Bin A-B'!$B1795:$B1798)) -> * | T14: =IF(OR('Class Bin A-B'!$B1899="*",'Class Bin A-B'!$B1900="*",'Class Bin A-B'!$B1901="*",'Class Bin A-B'!$B1902="*"),"*",SUM('Class Bin A-B'!$B1899:$B1902)) -> * | U14: =IF(OR('Class Bin A-B'!$B2003="*",'Class Bin A-B'!$B2004="*",'Class Bin A-B'!$B2005="*",'Class Bin A-B'!$B2006="*"),"*",SUM('Class Bin A-B'!$B2003:$B2006)) -> * | V14: =IF(OR('Class Bin A-B'!$B2107="*",'Class Bin A-B'!$B2108="*",'Class Bin A-B'!$B2109="*",'Class Bin A-B'!$B2110="*"),"*",SUM('Class Bin A-B'!$B2107:$B2110)) -> * | W14: =IFERROR(AVERAGE(C14:E14,J14:L14,Q14:S14),"-") -> 0.33333333 | X14: =IFERROR(AVERAGE(B14:F14,I14:M14,P14:T14),"-") -> 0.16666667 | Y14: =IFERROR(AVERAGE(B14:V14),"-") -> 0.125
A15: 0.20833333 | B15: =IF(OR('Class Bin A-B'!$B31="*",'Class Bin A-B'!$B32="*",'Class Bin A-B'!$B33="*",'Class Bin A-B'!$B34="*"),"*",SUM('Class Bin A-B'!$B31:$B34)) -> * | C15: =IF(OR('Class Bin A-B'!$B135="*",'Class Bin A-B'!$B136="*",'Class Bin A-B'!$B137="*",'Class Bin A-B'!$B138="*"),"*",SUM('Class Bin A-B'!$B135:$B138)) -> * | D15: =IF(OR('Class Bin A-B'!$B239="*",'Class Bin A-B'!$B240="*",'Class Bin A-B'!$B241="*",'Class Bin A-B'!$B242="*"),"*",SUM('Class Bin A-B'!$B239:$B242)) -> * | E15: =IF(OR('Class Bin A-B'!$B343="*",'Class Bin A-B'!$B344="*",'Class Bin A-B'!$B345="*",'Class Bin A-B'!$B346="*"),"*",SUM('Class Bin A-B'!$B343:$B346)) -> * | F15: =IF(OR('Class Bin A-B'!$B447="*",'Class Bin A-B'!$B448="*",'Class Bin A-B'!$B449="*",'Class Bin A-B'!$B450="*"),"*",SUM('Class Bin A-B'!$B447:$B450)) -> * | G15: =IF(OR('Class Bin A-B'!$B551="*",'Class Bin A-B'!$B552="*",'Class Bin A-B'!$B553="*",'Class Bin A-B'!$B554="*"),"*",SUM('Class Bin A-B'!$B551:$B554)) -> * | H15: =IF(OR('Class Bin A-B'!$B655="*",'Class Bin A-B'!$B656="*",'Class Bin A-B'!$B657="*",'Class Bin A-B'!$B658="*"),"*",SUM('Class Bin A-B'!$B655:$B658)) -> * | I15: =IF(OR('Class Bin A-B'!$B759="*",'Class Bin A-B'!$B760="*",'Class Bin A-B'!$B761="*",'Class Bin A-B'!$B762="*"),"*",SUM('Class Bin A-B'!$B759:$B762)) -> 0 | J15: =IF(OR('Class Bin A-B'!$B863="*",'Class Bin A-B'!$B864="*",'Class Bin A-B'!$B865="*",'Class Bin A-B'!$B866="*"),"*",SUM('Class Bin A-B'!$B863:$B866)) -> 1 | K15: =IF(OR('Class Bin A-B'!$B967="*",'Class Bin A-B'!$B968="*",'Class Bin A-B'!$B969="*",'Class Bin A-B'!$B970="*"),"*",SUM('Class Bin A-B'!$B967:$B970)) -> 0 | L15: =IF(OR('Class Bin A-B'!$B1071="*",'Class Bin A-B'!$B1072="*",'Class Bin A-B'!$B1073="*",'Class Bin A-B'!$B1074="*"),"*",SUM('Class Bin A-B'!$B1071:$B1074)) -> 0 | M15: =IF(OR('Class Bin A-B'!$B1175="*",'Class Bin A-B'!$B1176="*",'Class Bin A-B'!$B1177="*",'Class Bin A-B'!$B1178="*"),"*",SUM('Class Bin A-B'!$B1175:$B1178)) -> 2 | N15: =IF(OR('Class Bin A-B'!$B1279="*",'Class Bin A-B'!$B1280="*",'Class Bin A-B'!$B1281="*",'Class Bin A-B'!$B1282="*"),"*",SUM('Class Bin A-B'!$B1279:$B1282)) -> 0 | O15: =IF(OR('Class Bin A-B'!$B1383="*",'Class Bin A-B'!$B1384="*",'Class Bin A-B'!$B1385="*",'Class Bin A-B'!$B1386="*"),"*",SUM('Class Bin A-B'!$B1383:$B1386)) -> 0 | P15: =IF(OR('Class Bin A-B'!$B1487="*",'Class Bin A-B'!$B1488="*",'Class Bin A-B'!$B1489="*",'Class Bin A-B'!$B1490="*"),"*",SUM('Class Bin A-B'!$B1487:$B1490)) -> 1 | Q15: =IF(OR('Class Bin A-B'!$B1591="*",'Class Bin A-B'!$B1592="*",'Class Bin A-B'!$B1593="*",'Class Bin A-B'!$B1594="*"),"*",SUM('Class Bin A-B'!$B1591:$B1594)) -> * | R15: =IF(OR('Class Bin A-B'!$B1695="*",'Class Bin A-B'!$B1696="*",'Class Bin A-B'!$B1697="*",'Class Bin A-B'!$B1698="*"),"*",SUM('Class Bin A-B'!$B1695:$B1698)) -> * | S15: =IF(OR('Class Bin A-B'!$B1799="*",'Class Bin A-B'!$B1800="*",'Class Bin A-B'!$B1801="*",'Class Bin A-B'!$B1802="*"),"*",SUM('Class Bin A-B'!$B1799:$B1802)) -> * | T15: =IF(OR('Class Bin A-B'!$B1903="*",'Class Bin A-B'!$B1904="*",'Class Bin A-B'!$B1905="*",'Class Bin A-B'!$B1906="*"),"*",SUM('Class Bin A-B'!$B1903:$B1906)) -> * | U15: =IF(OR('Class Bin A-B'!$B2007="*",'Class Bin A-B'!$B2008="*",'Class Bin A-B'!$B2009="*",'Class Bin A-B'!$B2010="*"),"*",SUM('Class Bin A-B'!$B2007:$B2010)) -> * | V15: =IF(OR('Class Bin A-B'!$B2111="*",'Class Bin A-B'!$B2112="*",'Class Bin A-B'!$B2113="*",'Class Bin A-B'!$B2114="*"),"*",SUM('Class Bin A-B'!$B2111:$B2114)) -> * | W15: =IFERROR(AVERAGE(C15:E15,J15:L15,Q15:S15),"-") -> 0.33333333 | X15: =IFERROR(AVERAGE(B15:F15,I15:M15,P15:T15),"-") -> 0.66666667 | Y15: =IFERROR(AVERAGE(B15:V15),"-") -> 0.5
A16: 0.25 | B16: =IF(OR('Class Bin A-B'!$B35="*",'Class Bin A-B'!$B36="*",'Class Bin A-B'!$B37="*",'Class Bin A-B'!$B38="*"),"*",SUM('Class Bin A-B'!$B35:$B38)) -> * | C16: =IF(OR('Class Bin A-B'!$B139="*",'Class Bin A-B'!$B140="*",'Class Bin A-B'!$B141="*",'Class Bin A-B'!$B142="*"),"*",SUM('Class Bin A-B'!$B139:$B142)) -> * | D16: =IF(OR('Class Bin A-B'!$B243="*",'Class Bin A-B'!$B244="*",'Class Bin A-B'!$B245="*",'Class Bin A-B'!$B246="*"),"*",SUM('Class Bin A-B'!$B243:$B246)) -> * | E16: =IF(OR('Class Bin A-B'!$B347="*",'Class Bin A-B'!$B348="*",'Class Bin A-B'!$B349="*",'Class Bin A-B'!$B350="*"),"*",SUM('Class Bin A-B'!$B347:$B350)) -> * | F16: =IF(OR('Class Bin A-B'!$B451="*",'Class Bin A-B'!$B452="*",'Class Bin A-B'!$B453="*",'Class Bin A-B'!$B454="*"),"*",SUM('Class Bin A-B'!$B451:$B454)) -> * | G16: =IF(OR('Class Bin A-B'!$B555="*",'Class Bin A-B'!$B556="*",'Class Bin A-B'!$B557="*",'Class Bin A-B'!$B558="*"),"*",SUM('Class Bin A-B'!$B555:$B558)) -> * | H16: =IF(OR('Class Bin A-B'!$B659="*",'Class Bin A-B'!$B660="*",'Class Bin A-B'!$B661="*",'Class Bin A-B'!$B662="*"),"*",SUM('Class Bin A-B'!$B659:$B662)) -> * | I16: =IF(OR('Class Bin A-B'!$B763="*",'Class Bin A-B'!$B764="*",'Class Bin A-B'!$B765="*",'Class Bin A-B'!$B766="*"),"*",SUM('Class Bin A-B'!$B763:$B766)) -> 7 | J16: =IF(OR('Class Bin A-B'!$B867="*",'Class Bin A-B'!$B868="*",'Class Bin A-B'!$B869="*",'Class Bin A-B'!$B870="*"),"*",SUM('Class Bin A-B'!$B867:$B870)) -> 4 | K16: =IF(OR('Class Bin A-B'!$B971="*",'Class Bin A-B'!$B972="*",'Class Bin A-B'!$B973="*",'Class Bin A-B'!$B974="*"),"*",SUM('Class Bin A-B'!$B971:$B974)) -> 6 | L16: =IF(OR('Class Bin A-B'!$B1075="*",'Class Bin A-B'!$B1076="*",'Class Bin A-B'!$B1077="*",'Class Bin A-B'!$B1078="*"),"*",SUM('Class Bin A-B'!$B1075:$B1078)) -> 8 | M16: =IF(OR('Class Bin A-B'!$B1179="*",'Class Bin A-B'!$B1180="*",'Class Bin A-B'!$B1181="*",'Class Bin A-B'!$B1182="*"),"*",SUM('Class Bin A-B'!$B1179:$B1182)) -> 6 | N16: =IF(OR('Class Bin A-B'!$B1283="*",'Class Bin A-B'!$B1284="*",'Class Bin A-B'!$B1285="*",'Class Bin A-B'!$B1286="*"),"*",SUM('Class Bin A-B'!$B1283:$B1286)) -> 4 | O16: =IF(OR('Class Bin A-B'!$B1387="*",'Class Bin A-B'!$B1388="*",'Class Bin A-B'!$B1389="*",'Class Bin A-B'!$B1390="*"),"*",SUM('Class Bin A-B'!$B1387:$B1390)) -> 2 | P16: =IF(OR('Class Bin A-B'!$B1491="*",'Class Bin A-B'!$B1492="*",'Class Bin A-B'!$B1493="*",'Class Bin A-B'!$B1494="*"),"*",SUM('Class Bin A-B'!$B1491:$B1494)) -> 7 | Q16: =IF(OR('Class Bin A-B'!$B1595="*",'Class Bin A-B'!$B1596="*",'Class Bin A-B'!$B1597="*",'Class Bin A-B'!$B1598="*"),"*",SUM('Class Bin A-B'!$B1595:$B1598)) -> * | R16: =IF(OR('Class Bin A-B'!$B1699="*",'Class Bin A-B'!$B1700="*",'Class Bin A-B'!$B1701="*",'Class Bin A-B'!$B1702="*"),"*",SUM('Class Bin A-B'!$B1699:$B1702)) -> * | S16: =IF(OR('Class Bin A-B'!$B1803="*",'Class Bin A-B'!$B1804="*",'Class Bin A-B'!$B1805="*",'Class Bin A-B'!$B1806="*"),"*",SUM('Class Bin A-B'!$B1803:$B1806)) -> * | T16: =IF(OR('Class Bin A-B'!$B1907="*",'Class Bin A-B'!$B1908="*",'Class Bin A-B'!$B1909="*",'Class Bin A-B'!$B1910="*"),"*",SUM('Class Bin A-B'!$B1907:$B1910)) -> * | U16: =IF(OR('Class Bin A-B'!$B2011="*",'Class Bin A-B'!$B2012="*",'Class Bin A-B'!$B2013="*",'Class Bin A-B'!$B2014="*"),"*",SUM('Class Bin A-B'!$B2011:$B2014)) -> * | V16: =IF(OR('Class Bin A-B'!$B2115="*",'Class Bin A-B'!$B2116="*",'Class Bin A-B'!$B2117="*",'Class Bin A-B'!$B2118="*"),"*",SUM('Class Bin A-B'!$B2115:$B2118)) -> * | W16: =IFERROR(AVERAGE(C16:E16,J16:L16,Q16:S16),"-") -> 6 | X16: =IFERROR(AVERAGE(B16:F16,I16:M16,P16:T16),"-") -> 6.3333333 | Y16: =IFERROR(AVERAGE(B16:V16),"-") -> 5.5
A17: 0.29166667 | B17: =IF(OR('Class Bin A-B'!$B39="*",'Class Bin A-B'!$B40="*",'Class Bin A-B'!$B41="*",'Class Bin A-B'!$B42="*"),"*",SUM('Class Bin A-B'!$B39:$B42)) -> * | C17: =IF(OR('Class Bin A-B'!$B143="*",'Class Bin A-B'!$B144="*",'Class Bin A-B'!$B145="*",'Class Bin A-B'!$B146="*"),"*",SUM('Class Bin A-B'!$B143:$B146)) -> * | D17: =IF(OR('Class Bin A-B'!$B247="*",'Class Bin A-B'!$B248="*",'Class Bin A-B'!$B249="*",'Class Bin A-B'!$B250="*"),"*",SUM('Class Bin A-B'!$B247:$B250)) -> * | E17: =IF(OR('Class Bin A-B'!$B351="*",'Class Bin A-B'!$B352="*",'Class Bin A-B'!$B353="*",'Class Bin A-B'!$B354="*"),"*",SUM('Class Bin A-B'!$B351:$B354)) -> * | F17: =IF(OR('Class Bin A-B'!$B455="*",'Class Bin A-B'!$B456="*",'Class Bin A-B'!$B457="*",'Class Bin A-B'!$B458="*"),"*",SUM('Class Bin A-B'!$B455:$B458)) -> * | G17: =IF(OR('Class Bin A-B'!$B559="*",'Class Bin A-B'!$B560="*",'Class Bin A-B'!$B561="*",'Class Bin A-B'!$B562="*"),"*",SUM('Class Bin A-B'!$B559:$B562)) -> * | H17: =IF(OR('Class Bin A-B'!$B663="*",'Class Bin A-B'!$B664="*",'Class Bin A-B'!$B665="*",'Class Bin A-B'!$B666="*"),"*",SUM('Class Bin A-B'!$B663:$B666)) -> * | I17: =IF(OR('Class Bin A-B'!$B767="*",'Class Bin A-B'!$B768="*",'Class Bin A-B'!$B769="*",'Class Bin A-B'!$B770="*"),"*",SUM('Class Bin A-B'!$B767:$B770)) -> 43 | J17: =IF(OR('Class Bin A-B'!$B871="*",'Class Bin A-B'!$B872="*",'Class Bin A-B'!$B873="*",'Class Bin A-B'!$B874="*"),"*",SUM('Class Bin A-B'!$B871:$B874)) -> 37 | K17: =IF(OR('Class Bin A-B'!$B975="*",'Class Bin A-B'!$B976="*",'Class Bin A-B'!$B977="*",'Class Bin A-B'!$B978="*"),"*",SUM('Class Bin A-B'!$B975:$B978)) -> 31 | L17: =IF(OR('Class Bin A-B'!$B1079="*",'Class Bin A-B'!$B1080="*",'Class Bin A-B'!$B1081="*",'Class Bin A-B'!$B1082="*"),"*",SUM('Class Bin A-B'!$B1079:$B1082)) -> 30 | M17: =IF(OR('Class Bin A-B'!$B1183="*",'Class Bin A-B'!$B1184="*",'Class Bin A-B'!$B1185="*",'Class Bin A-B'!$B1186="*"),"*",SUM('Class Bin A-B'!$B1183:$B1186)) -> 34 | N17: =IF(OR('Class Bin A-B'!$B1287="*",'Class Bin A-B'!$B1288="*",'Class Bin A-B'!$B1289="*",'Class Bin A-B'!$B1290="*"),"*",SUM('Class Bin A-B'!$B1287:$B1290)) -> 4 | O17: =IF(OR('Class Bin A-B'!$B1391="*",'Class Bin A-B'!$B1392="*",'Class Bin A-B'!$B1393="*",'Class Bin A-B'!$B1394="*"),"*",SUM('Class Bin A-B'!$B1391:$B1394)) -> 5 | P17: =IF(OR('Class Bin A-B'!$B1495="*",'Class Bin A-B'!$B1496="*",'Class Bin A-B'!$B1497="*",'Class Bin A-B'!$B1498="*"),"*",SUM('Class Bin A-B'!$B1495:$B1498)) -> 42 | Q17: =IF(OR('Class Bin A-B'!$B1599="*",'Class Bin A-B'!$B1600="*",'Class Bin A-B'!$B1601="*",'Class Bin A-B'!$B1602="*"),"*",SUM('Class Bin A-B'!$B1599:$B1602)) -> * | R17: =IF(OR('Class Bin A-B'!$B1703="*",'Class Bin A-B'!$B1704="*",'Class Bin A-B'!$B1705="*",'Class Bin A-B'!$B1706="*"),"*",SUM('Class Bin A-B'!$B1703:$B1706)) -> * | S17: =IF(OR('Class Bin A-B'!$B1807="*",'Class Bin A-B'!$B1808="*",'Class Bin A-B'!$B1809="*",'Class Bin A-B'!$B1810="*"),"*",SUM('Class Bin A-B'!$B1807:$B1810)) -> * | T17: =IF(OR('Class Bin A-B'!$B1911="*",'Class Bin A-B'!$B1912="*",'Class Bin A-B'!$B1913="*",'Class Bin A-B'!$B1914="*"),"*",SUM('Class Bin A-B'!$B1911:$B1914)) -> * | U17: =IF(OR('Class Bin A-B'!$B2015="*",'Class Bin A-B'!$B2016="*",'Class Bin A-B'!$B2017="*",'Class Bin A-B'!$B2018="*"),"*",SUM('Class Bin A-B'!$B2015:$B2018)) -> * | V17: =IF(OR('Class Bin A-B'!$B2119="*",'Class Bin A-B'!$B2120="*",'Class Bin A-B'!$B2121="*",'Class Bin A-B'!$B2122="*"),"*",SUM('Class Bin A-B'!$B2119:$B2122)) -> * | W17: =IFERROR(AVERAGE(C17:E17,J17:L17,Q17:S17),"-") -> 32.666667 | X17: =IFERROR(AVERAGE(B17:F17,I17:M17,P17:T17),"-") -> 36.166667 | Y17: =IFERROR(AVERAGE(B17:V17),"-") -> 28.25
A18: 0.33333333 | B18: =IF(OR('Class Bin A-B'!$B43="*",'Class Bin A-B'!$B44="*",'Class Bin A-B'!$B45="*",'Class Bin A-B'!$B46="*"),"*",SUM('Class Bin A-B'!$B43:$B46)) -> * | C18: =IF(OR('Class Bin A-B'!$B147="*",'Class Bin A-B'!$B148="*",'Class Bin A-B'!$B149="*",'Class Bin A-B'!$B150="*"),"*",SUM('Class Bin A-B'!$B147:$B150)) -> * | D18: =IF(OR('Class Bin A-B'!$B251="*",'Class Bin A-B'!$B252="*",'Class Bin A-B'!$B253="*",'Class Bin A-B'!$B254="*"),"*",SUM('Class Bin A-B'!$B251:$B254)) -> * | E18: =IF(OR('Class Bin A-B'!$B355="*",'Class Bin A-B'!$B356="*",'Class Bin A-B'!$B357="*",'Class Bin A-B'!$B358="*"),"*",SUM('Class Bin A-B'!$B355:$B358)) -> * | F18: =IF(OR('Class Bin A-B'!$B459="*",'Class Bin A-B'!$B460="*",'Class Bin A-B'!$B461="*",'Class Bin A-B'!$B462="*"),"*",SUM('Class Bin A-B'!$B459:$B462)) -> * | G18: =IF(OR('Class Bin A-B'!$B563="*",'Class Bin A-B'!$B564="*",'Class Bin A-B'!$B565="*",'Class Bin A-B'!$B566="*"),"*",SUM('Class Bin A-B'!$B563:$B566)) -> * | H18: =IF(OR('Class Bin A-B'!$B667="*",'Class Bin A-B'!$B668="*",'Class Bin A-B'!$B669="*",'Class Bin A-B'!$B670="*"),"*",SUM('Class Bin A-B'!$B667:$B670)) -> * | I18: =IF(OR('Class Bin A-B'!$B771="*",'Class Bin A-B'!$B772="*",'Class Bin A-B'!$B773="*",'Class Bin A-B'!$B774="*"),"*",SUM('Class Bin A-B'!$B771:$B774)) -> 57 | J18: =IF(OR('Class Bin A-B'!$B875="*",'Class Bin A-B'!$B876="*",'Class Bin A-B'!$B877="*",'Class Bin A-B'!$B878="*"),"*",SUM('Class Bin A-B'!$B875:$B878)) -> 70 | K18: =IF(OR('Class Bin A-B'!$B979="*",'Class Bin A-B'!$B980="*",'Class Bin A-B'!$B981="*",'Class Bin A-B'!$B982="*"),"*",SUM('Class Bin A-B'!$B979:$B982)) -> 64 | L18: =IF(OR('Class Bin A-B'!$B1083="*",'Class Bin A-B'!$B1084="*",'Class Bin A-B'!$B1085="*",'Class Bin A-B'!$B1086="*"),"*",SUM('Class Bin A-B'!$B1083:$B1086)) -> 48 | M18: =IF(OR('Class Bin A-B'!$B1187="*",'Class Bin A-B'!$B1188="*",'Class Bin A-B'!$B1189="*",'Class Bin A-B'!$B1190="*"),"*",SUM('Class Bin A-B'!$B1187:$B1190)) -> 57 | N18: =IF(OR('Class Bin A-B'!$B1291="*",'Class Bin A-B'!$B1292="*",'Class Bin A-B'!$B1293="*",'Class Bin A-B'!$B1294="*"),"*",SUM('Class Bin A-B'!$B1291:$B1294)) -> 12 | O18: =IF(OR('Class Bin A-B'!$B1395="*",'Class Bin A-B'!$B1396="*",'Class Bin A-B'!$B1397="*",'Class Bin A-B'!$B1398="*"),"*",SUM('Class Bin A-B'!$B1395:$B1398)) -> 3 | P18: =IF(OR('Class Bin A-B'!$B1499="*",'Class Bin A-B'!$B1500="*",'Class Bin A-B'!$B1501="*",'Class Bin A-B'!$B1502="*"),"*",SUM('Class Bin A-B'!$B1499:$B1502)) -> 57 | Q18: =IF(OR('Class Bin A-B'!$B1603="*",'Class Bin A-B'!$B1604="*",'Class Bin A-B'!$B1605="*",'Class Bin A-B'!$B1606="*"),"*",SUM('Class Bin A-B'!$B1603:$B1606)) -> * | R18: =IF(OR('Class Bin A-B'!$B1707="*",'Class Bin A-B'!$B1708="*",'Class Bin A-B'!$B1709="*",'Class Bin A-B'!$B1710="*"),"*",SUM('Class Bin A-B'!$B1707:$B1710)) -> * | S18: =IF(OR('Class Bin A-B'!$B1811="*",'Class Bin A-B'!$B1812="*",'Class Bin A-B'!$B1813="*",'Class Bin A-B'!$B1814="*"),"*",SUM('Class Bin A-B'!$B1811:$B1814)) -> * | T18: =IF(OR('Class Bin A-B'!$B1915="*",'Class Bin A-B'!$B1916="*",'Class Bin A-B'!$B1917="*",'Class Bin A-B'!$B1918="*"),"*",SUM('Class Bin A-B'!$B1915:$B1918)) -> * | U18: =IF(OR('Class Bin A-B'!$B2019="*",'Class Bin A-B'!$B2020="*",'Class Bin A-B'!$B2021="*",'Class Bin A-B'!$B2022="*"),"*",SUM('Class Bin A-B'!$B2019:$B2022)) -> * | V18: =IF(OR('Class Bin A-B'!$B2123="*",'Class Bin A-B'!$B2124="*",'Class Bin A-B'!$B2125="*",'Class Bin A-B'!$B2126="*"),"*",SUM('Class Bin A-B'!$B2123:$B2126)) -> * | W18: =IFERROR(AVERAGE(C18:E18,J18:L18,Q18:S18),"-") -> 60.666667 | X18: =IFERROR(AVERAGE(B18:F18,I18:M18,P18:T18),"-") -> 58.833333 | Y18: =IFERROR(AVERAGE(B18:V18),"-") -> 46
A19: 0.375 | B19: =IF(OR('Class Bin A-B'!$B47="*",'Class Bin A-B'!$B48="*",'Class Bin A-B'!$B49="*",'Class Bin A-B'!$B50="*"),"*",SUM('Class Bin A-B'!$B47:$B50)) -> * | C19: =IF(OR('Class Bin A-B'!$B151="*",'Class Bin A-B'!$B152="*",'Class Bin A-B'!$B153="*",'Class Bin A-B'!$B154="*"),"*",SUM('Class Bin A-B'!$B151:$B154)) -> * | D19: =IF(OR('Class Bin A-B'!$B255="*",'Class Bin A-B'!$B256="*",'Class Bin A-B'!$B257="*",'Class Bin A-B'!$B258="*"),"*",SUM('Class Bin A-B'!$B255:$B258)) -> * | E19: =IF(OR('Class Bin A-B'!$B359="*",'Class Bin A-B'!$B360="*",'Class Bin A-B'!$B361="*",'Class Bin A-B'!$B362="*"),"*",SUM('Class Bin A-B'!$B359:$B362)) -> * | F19: =IF(OR('Class Bin A-B'!$B463="*",'Class Bin A-B'!$B464="*",'Class Bin A-B'!$B465="*",'Class Bin A-B'!$B466="*"),"*",SUM('Class Bin A-B'!$B463:$B466)) -> * | G19: =IF(OR('Class Bin A-B'!$B567="*",'Class Bin A-B'!$B568="*",'Class Bin A-B'!$B569="*",'Class Bin A-B'!$B570="*"),"*",SUM('Class Bin A-B'!$B567:$B570)) -> * | H19: =IF(OR('Class Bin A-B'!$B671="*",'Class Bin A-B'!$B672="*",'Class Bin A-B'!$B673="*",'Class Bin A-B'!$B674="*"),"*",SUM('Class Bin A-B'!$B671:$B674)) -> 16 | I19: =IF(OR('Class Bin A-B'!$B775="*",'Class Bin A-B'!$B776="*",'Class Bin A-B'!$B777="*",'Class Bin A-B'!$B778="*"),"*",SUM('Class Bin A-B'!$B775:$B778)) -> 14 | J19: =IF(OR('Class Bin A-B'!$B879="*",'Class Bin A-B'!$B880="*",'Class Bin A-B'!$B881="*",'Class Bin A-B'!$B882="*"),"*",SUM('Class Bin A-B'!$B879:$B882)) -> 10 | K19: =IF(OR('Class Bin A-B'!$B983="*",'Class Bin A-B'!$B984="*",'Class Bin A-B'!$B985="*",'Class Bin A-B'!$B986="*"),"*",SUM('Class Bin A-B'!$B983:$B986)) -> 19 | L19: =IF(OR('Class Bin A-B'!$B1087="*",'Class Bin A-B'!$B1088="*",'Class Bin A-B'!$B1089="*",'Class Bin A-B'!$B1090="*"),"*",SUM('Class Bin A-B'!$B1087:$B1090)) -> 18 | M19: =IF(OR('Class Bin A-B'!$B1191="*",'Class Bin A-B'!$B1192="*",'Class Bin A-B'!$B1193="*",'Class Bin A-B'!$B1194="*"),"*",SUM('Class Bin A-B'!$B1191:$B1194)) -> 24 | N19: =IF(OR('Class Bin A-B'!$B1295="*",'Class Bin A-B'!$B1296="*",'Class Bin A-B'!$B1297="*",'Class Bin A-B'!$B1298="*"),"*",SUM('Class Bin A-B'!$B1295:$B1298)) -> 24 | O19: =IF(OR('Class Bin A-B'!$B1399="*",'Class Bin A-B'!$B1400="*",'Class Bin A-B'!$B1401="*",'Class Bin A-B'!$B1402="*"),"*",SUM('Class Bin A-B'!$B1399:$B1402)) -> 19 | P19: =IF(OR('Class Bin A-B'!$B1503="*",'Class Bin A-B'!$B1504="*",'Class Bin A-B'!$B1505="*",'Class Bin A-B'!$B1506="*"),"*",SUM('Class Bin A-B'!$B1503:$B1506)) -> 18 | Q19: =IF(OR('Class Bin A-B'!$B1607="*",'Class Bin A-B'!$B1608="*",'Class Bin A-B'!$B1609="*",'Class Bin A-B'!$B1610="*"),"*",SUM('Class Bin A-B'!$B1607:$B1610)) -> * | R19: =IF(OR('Class Bin A-B'!$B1711="*",'Class Bin A-B'!$B1712="*",'Class Bin A-B'!$B1713="*",'Class Bin A-B'!$B1714="*"),"*",SUM('Class Bin A-B'!$B1711:$B1714)) -> * | S19: =IF(OR('Class Bin A-B'!$B1815="*",'Class Bin A-B'!$B1816="*",'Class Bin A-B'!$B1817="*",'Class Bin A-B'!$B1818="*"),"*",SUM('Class Bin A-B'!$B1815:$B1818)) -> * | T19: =IF(OR('Class Bin A-B'!$B1919="*",'Class Bin A-B'!$B1920="*",'Class Bin A-B'!$B1921="*",'Class Bin A-B'!$B1922="*"),"*",SUM('Class Bin A-B'!$B1919:$B1922)) -> * | U19: =IF(OR('Class Bin A-B'!$B2023="*",'Class Bin A-B'!$B2024="*",'Class Bin A-B'!$B2025="*",'Class Bin A-B'!$B2026="*"),"*",SUM('Class Bin A-B'!$B2023:$B2026)) -> * | V19: =IF(OR('Class Bin A-B'!$B2127="*",'Class Bin A-B'!$B2128="*",'Class Bin A-B'!$B2129="*",'Class Bin A-B'!$B2130="*"),"*",SUM('Class Bin A-B'!$B2127:$B2130)) -> * | W19: =IFERROR(AVERAGE(C19:E19,J19:L19,Q19:S19),"-") -> 15.666667 | X19: =IFERROR(AVERAGE(B19:F19,I19:M19,P19:T19),"-") -> 17.166667 | Y19: =IFERROR(AVERAGE(B19:V19),"-") -> 18
A20: 0.41666667 | B20: =IF(OR('Class Bin A-B'!$B51="*",'Class Bin A-B'!$B52="*",'Class Bin A-B'!$B53="*",'Class Bin A-B'!$B54="*"),"*",SUM('Class Bin A-B'!$B51:$B54)) -> * | C20: =IF(OR('Class Bin A-B'!$B155="*",'Class Bin A-B'!$B156="*",'Class Bin A-B'!$B157="*",'Class Bin A-B'!$B158="*"),"*",SUM('Class Bin A-B'!$B155:$B158)) -> * | D20: =IF(OR('Class Bin A-B'!$B259="*",'Class Bin A-B'!$B260="*",'Class Bin A-B'!$B261="*",'Class Bin A-B'!$B262="*"),"*",SUM('Class Bin A-B'!$B259:$B262)) -> * | E20: =IF(OR('Class Bin A-B'!$B363="*",'Class Bin A-B'!$B364="*",'Class Bin A-B'!$B365="*",'Class Bin A-B'!$B366="*"),"*",SUM('Class Bin A-B'!$B363:$B366)) -> * | F20: =IF(OR('Class Bin A-B'!$B467="*",'Class Bin A-B'!$B468="*",'Class Bin A-B'!$B469="*",'Class Bin A-B'!$B470="*"),"*",SUM('Class Bin A-B'!$B467:$B470)) -> * | G20: =IF(OR('Class Bin A-B'!$B571="*",'Class Bin A-B'!$B572="*",'Class Bin A-B'!$B573="*",'Class Bin A-B'!$B574="*"),"*",SUM('Class Bin A-B'!$B571:$B574)) -> * | H20: =IF(OR('Class Bin A-B'!$B675="*",'Class Bin A-B'!$B676="*",'Class Bin A-B'!$B677="*",'Class Bin A-B'!$B678="*"),"*",SUM('Class Bin A-B'!$B675:$B678)) -> 22 | I20: =IF(OR('Class Bin A-B'!$B779="*",'Class Bin A-B'!$B780="*",'Class Bin A-B'!$B781="*",'Class Bin A-B'!$B782="*"),"*",SUM('Class Bin A-B'!$B779:$B782)) -> 9 | J20: =IF(OR('Class Bin A-B'!$B883="*",'Class Bin A-B'!$B884="*",'Class Bin A-B'!$B885="*",'Class Bin A-B'!$B886="*"),"*",SUM('Class Bin A-B'!$B883:$B886)) -> 21 | K20: =IF(OR('Class Bin A-B'!$B987="*",'Class Bin A-B'!$B988="*",'Class Bin A-B'!$B989="*",'Class Bin A-B'!$B990="*"),"*",SUM('Class Bin A-B'!$B987:$B990)) -> 11 | L20: =IF(OR('Class Bin A-B'!$B1091="*",'Class Bin A-B'!$B1092="*",'Class Bin A-B'!$B1093="*",'Class Bin A-B'!$B1094="*"),"*",SUM('Class Bin A-B'!$B1091:$B1094)) -> 17 | M20: =IF(OR('Class Bin A-B'!$B1195="*",'Class Bin A-B'!$B1196="*",'Class Bin A-B'!$B1197="*",'Class Bin A-B'!$B1198="*"),"*",SUM('Class Bin A-B'!$B1195:$B1198)) -> 29 | N20: =IF(OR('Class Bin A-B'!$B1299="*",'Class Bin A-B'!$B1300="*",'Class Bin A-B'!$B1301="*",'Class Bin A-B'!$B1302="*"),"*",SUM('Class Bin A-B'!$B1299:$B1302)) -> 29 | O20: =IF(OR('Class Bin A-B'!$B1403="*",'Class Bin A-B'!$B1404="*",'Class Bin A-B'!$B1405="*",'Class Bin A-B'!$B1406="*"),"*",SUM('Class Bin A-B'!$B1403:$B1406)) -> 22 | P20: =IF(OR('Class Bin A-B'!$B1507="*",'Class Bin A-B'!$B1508="*",'Class Bin A-B'!$B1509="*",'Class Bin A-B'!$B1510="*"),"*",SUM('Class Bin A-B'!$B1507:$B1510)) -> 13 | Q20: =IF(OR('Class Bin A-B'!$B1611="*",'Class Bin A-B'!$B1612="*",'Class Bin A-B'!$B1613="*",'Class Bin A-B'!$B1614="*"),"*",SUM('Class Bin A-B'!$B1611:$B1614)) -> * | R20: =IF(OR('Class Bin A-B'!$B1715="*",'Class Bin A-B'!$B1716="*",'Class Bin A-B'!$B1717="*",'Class Bin A-B'!$B1718="*"),"*",SUM('Class Bin A-B'!$B1715:$B1718)) -> * | S20: =IF(OR('Class Bin A-B'!$B1819="*",'Class Bin A-B'!$B1820="*",'Class Bin A-B'!$B1821="*",'Class Bin A-B'!$B1822="*"),"*",SUM('Class Bin A-B'!$B1819:$B1822)) -> * | T20: =IF(OR('Class Bin A-B'!$B1923="*",'Class Bin A-B'!$B1924="*",'Class Bin A-B'!$B1925="*",'Class Bin A-B'!$B1926="*"),"*",SUM('Class Bin A-B'!$B1923:$B1926)) -> * | U20: =IF(OR('Class Bin A-B'!$B2027="*",'Class Bin A-B'!$B2028="*",'Class Bin A-B'!$B2029="*",'Class Bin A-B'!$B2030="*"),"*",SUM('Class Bin A-B'!$B2027:$B2030)) -> * | V20: =IF(OR('Class Bin A-B'!$B2131="*",'Class Bin A-B'!$B2132="*",'Class Bin A-B'!$B2133="*",'Class Bin A-B'!$B2134="*"),"*",SUM('Class Bin A-B'!$B2131:$B2134)) -> * | W20: =IFERROR(AVERAGE(C20:E20,J20:L20,Q20:S20),"-") -> 16.333333 | X20: =IFERROR(AVERAGE(B20:F20,I20:M20,P20:T20),"-") -> 16.666667 | Y20: =IFERROR(AVERAGE(B20:V20),"-") -> 19.222222
A21: 0.45833333 | B21: =IF(OR('Class Bin A-B'!$B55="*",'Class Bin A-B'!$B56="*",'Class Bin A-B'!$B57="*",'Class Bin A-B'!$B58="*"),"*",SUM('Class Bin A-B'!$B55:$B58)) -> * | C21: =IF(OR('Class Bin A-B'!$B159="*",'Class Bin A-B'!$B160="*",'Class Bin A-B'!$B161="*",'Class Bin A-B'!$B162="*"),"*",SUM('Class Bin A-B'!$B159:$B162)) -> * | D21: =IF(OR('Class Bin A-B'!$B263="*",'Class Bin A-B'!$B264="*",'Class Bin A-B'!$B265="*",'Class Bin A-B'!$B266="*"),"*",SUM('Class Bin A-B'!$B263:$B266)) -> * | E21: =IF(OR('Class Bin A-B'!$B367="*",'Class Bin A-B'!$B368="*",'Class Bin A-B'!$B369="*",'Class Bin A-B'!$B370="*"),"*",SUM('Class Bin A-B'!$B367:$B370)) -> * | F21: =IF(OR('Class Bin A-B'!$B471="*",'Class Bin A-B'!$B472="*",'Class Bin A-B'!$B473="*",'Class Bin A-B'!$B474="*"),"*",SUM('Class Bin A-B'!$B471:$B474)) -> * | G21: =IF(OR('Class Bin A-B'!$B575="*",'Class Bin A-B'!$B576="*",'Class Bin A-B'!$B577="*",'Class Bin A-B'!$B578="*"),"*",SUM('Class Bin A-B'!$B575:$B578)) -> * | H21: =IF(OR('Class Bin A-B'!$B679="*",'Class Bin A-B'!$B680="*",'Class Bin A-B'!$B681="*",'Class Bin A-B'!$B682="*"),"*",SUM('Class Bin A-B'!$B679:$B682)) -> 19 | I21: =IF(OR('Class Bin A-B'!$B783="*",'Class Bin A-B'!$B784="*",'Class Bin A-B'!$B785="*",'Class Bin A-B'!$B786="*"),"*",SUM('Class Bin A-B'!$B783:$B786)) -> 12 | J21: =IF(OR('Class Bin A-B'!$B887="*",'Class Bin A-B'!$B888="*",'Class Bin A-B'!$B889="*",'Class Bin A-B'!$B890="*"),"*",SUM('Class Bin A-B'!$B887:$B890)) -> 16 | K21: =IF(OR('Class Bin A-B'!$B991="*",'Class Bin A-B'!$B992="*",'Class Bin A-B'!$B993="*",'Class Bin A-B'!$B994="*"),"*",SUM('Class Bin A-B'!$B991:$B994)) -> 17 | L21: =IF(OR('Class Bin A-B'!$B1095="*",'Class Bin A-B'!$B1096="*",'Class Bin A-B'!$B1097="*",'Class Bin A-B'!$B1098="*"),"*",SUM('Class Bin A-B'!$B1095:$B1098)) -> 36 | M21: =IF(OR('Class Bin A-B'!$B1199="*",'Class Bin A-B'!$B1200="*",'Class Bin A-B'!$B1201="*",'Class Bin A-B'!$B1202="*"),"*",SUM('Class Bin A-B'!$B1199:$B1202)) -> 34 | N21: =IF(OR('Class Bin A-B'!$B1303="*",'Class Bin A-B'!$B1304="*",'Class Bin A-B'!$B1305="*",'Class Bin A-B'!$B1306="*"),"*",SUM('Class Bin A-B'!$B1303:$B1306)) -> 20 | O21: =IF(OR('Class Bin A-B'!$B1407="*",'Class Bin A-B'!$B1408="*",'Class Bin A-B'!$B1409="*",'Class Bin A-B'!$B1410="*"),"*",SUM('Class Bin A-B'!$B1407:$B1410)) -> 28 | P21: =IF(OR('Class Bin A-B'!$B1511="*",'Class Bin A-B'!$B1512="*",'Class Bin A-B'!$B1513="*",'Class Bin A-B'!$B1514="*"),"*",SUM('Class Bin A-B'!$B1511:$B1514)) -> 23 | Q21: =IF(OR('Class Bin A-B'!$B1615="*",'Class Bin A-B'!$B1616="*",'Class Bin A-B'!$B1617="*",'Class Bin A-B'!$B1618="*"),"*",SUM('Class Bin A-B'!$B1615:$B1618)) -> * | R21: =IF(OR('Class Bin A-B'!$B1719="*",'Class Bin A-B'!$B1720="*",'Class Bin A-B'!$B1721="*",'Class Bin A-B'!$B1722="*"),"*",SUM('Class Bin A-B'!$B1719:$B1722)) -> * | S21: =IF(OR('Class Bin A-B'!$B1823="*",'Class Bin A-B'!$B1824="*",'Class Bin A-B'!$B1825="*",'Class Bin A-B'!$B1826="*"),"*",SUM('Class Bin A-B'!$B1823:$B1826)) -> * | T21: =IF(OR('Class Bin A-B'!$B1927="*",'Class Bin A-B'!$B1928="*",'Class Bin A-B'!$B1929="*",'Class Bin A-B'!$B1930="*"),"*",SUM('Class Bin A-B'!$B1927:$B1930)) -> * | U21: =IF(OR('Class Bin A-B'!$B2031="*",'Class Bin A-B'!$B2032="*",'Class Bin A-B'!$B2033="*",'Class Bin A-B'!$B2034="*"),"*",SUM('Class Bin A-B'!$B2031:$B2034)) -> * | V21: =IF(OR('Class Bin A-B'!$B2135="*",'Class Bin A-B'!$B2136="*",'Class Bin A-B'!$B2137="*",'Class Bin A-B'!$B2138="*"),"*",SUM('Class Bin A-B'!$B2135:$B2138)) -> * | W21: =IFERROR(AVERAGE(C21:E21,J21:L21,Q21:S21),"-") -> 23 | X21: =IFERROR(AVERAGE(B21:F21,I21:M21,P21:T21),"-") -> 23 | Y21: =IFERROR(AVERAGE(B21:V21),"-") -> 22.777778
A22: 0.5 | B22: =IF(OR('Class Bin A-B'!$B59="*",'Class Bin A-B'!$B60="*",'Class Bin A-B'!$B61="*",'Class Bin A-B'!$B62="*"),"*",SUM('Class Bin A-B'!$B59:$B62)) -> * | C22: =IF(OR('Class Bin A-B'!$B163="*",'Class Bin A-B'!$B164="*",'Class Bin A-B'!$B165="*",'Class Bin A-B'!$B166="*"),"*",SUM('Class Bin A-B'!$B163:$B166)) -> * | D22: =IF(OR('Class Bin A-B'!$B267="*",'Class Bin A-B'!$B268="*",'Class Bin A-B'!$B269="*",'Class Bin A-B'!$B270="*"),"*",SUM('Class Bin A-B'!$B267:$B270)) -> * | E22: =IF(OR('Class Bin A-B'!$B371="*",'Class Bin A-B'!$B372="*",'Class Bin A-B'!$B373="*",'Class Bin A-B'!$B374="*"),"*",SUM('Class Bin A-B'!$B371:$B374)) -> * | F22: =IF(OR('Class Bin A-B'!$B475="*",'Class Bin A-B'!$B476="*",'Class Bin A-B'!$B477="*",'Class Bin A-B'!$B478="*"),"*",SUM('Class Bin A-B'!$B475:$B478)) -> * | G22: =IF(OR('Class Bin A-B'!$B579="*",'Class Bin A-B'!$B580="*",'Class Bin A-B'!$B581="*",'Class Bin A-B'!$B582="*"),"*",SUM('Class Bin A-B'!$B579:$B582)) -> * | H22: =IF(OR('Class Bin A-B'!$B683="*",'Class Bin A-B'!$B684="*",'Class Bin A-B'!$B685="*",'Class Bin A-B'!$B686="*"),"*",SUM('Class Bin A-B'!$B683:$B686)) -> 22 | I22: =IF(OR('Class Bin A-B'!$B787="*",'Class Bin A-B'!$B788="*",'Class Bin A-B'!$B789="*",'Class Bin A-B'!$B790="*"),"*",SUM('Class Bin A-B'!$B787:$B790)) -> 16 | J22: =IF(OR('Class Bin A-B'!$B891="*",'Class Bin A-B'!$B892="*",'Class Bin A-B'!$B893="*",'Class Bin A-B'!$B894="*"),"*",SUM('Class Bin A-B'!$B891:$B894)) -> 20 | K22: =IF(OR('Class Bin A-B'!$B995="*",'Class Bin A-B'!$B996="*",'Class Bin A-B'!$B997="*",'Class Bin A-B'!$B998="*"),"*",SUM('Class Bin A-B'!$B995:$B998)) -> 18 | L22: =IF(OR('Class Bin A-B'!$B1099="*",'Class Bin A-B'!$B1100="*",'Class Bin A-B'!$B1101="*",'Class Bin A-B'!$B1102="*"),"*",SUM('Class Bin A-B'!$B1099:$B1102)) -> 20 | M22: =IF(OR('Class Bin A-B'!$B1203="*",'Class Bin A-B'!$B1204="*",'Class Bin A-B'!$B1205="*",'Class Bin A-B'!$B1206="*"),"*",SUM('Class Bin A-B'!$B1203:$B1206)) -> 69 | N22: =IF(OR('Class Bin A-B'!$B1307="*",'Class Bin A-B'!$B1308="*",'Class Bin A-B'!$B1309="*",'Class Bin A-B'!$B1310="*"),"*",SUM('Class Bin A-B'!$B1307:$B1310)) -> 23 | O22: =IF(OR('Class Bin A-B'!$B1411="*",'Class Bin A-B'!$B1412="*",'Class Bin A-B'!$B1413="*",'Class Bin A-B'!$B1414="*"),"*",SUM('Class Bin A-B'!$B1411:$B1414)) -> 26 | P22: =IF(OR('Class Bin A-B'!$B1515="*",'Class Bin A-B'!$B1516="*",'Class Bin A-B'!$B1517="*",'Class Bin A-B'!$B1518="*"),"*",SUM('Class Bin A-B'!$B1515:$B1518)) -> 23 | Q22: =IF(OR('Class Bin A-B'!$B1619="*",'Class Bin A-B'!$B1620="*",'Class Bin A-B'!$B1621="*",'Class Bin A-B'!$B1622="*"),"*",SUM('Class Bin A-B'!$B1619:$B1622)) -> * | R22: =IF(OR('Class Bin A-B'!$B1723="*",'Class Bin A-B'!$B1724="*",'Class Bin A-B'!$B1725="*",'Class Bin A-B'!$B1726="*"),"*",SUM('Class Bin A-B'!$B1723:$B1726)) -> * | S22: =IF(OR('Class Bin A-B'!$B1827="*",'Class Bin A-B'!$B1828="*",'Class Bin A-B'!$B1829="*",'Class Bin A-B'!$B1830="*"),"*",SUM('Class Bin A-B'!$B1827:$B1830)) -> * | T22: =IF(OR('Class Bin A-B'!$B1931="*",'Class Bin A-B'!$B1932="*",'Class Bin A-B'!$B1933="*",'Class Bin A-B'!$B1934="*"),"*",SUM('Class Bin A-B'!$B1931:$B1934)) -> * | U22: =IF(OR('Class Bin A-B'!$B2035="*",'Class Bin A-B'!$B2036="*",'Class Bin A-B'!$B2037="*",'Class Bin A-B'!$B2038="*"),"*",SUM('Class Bin A-B'!$B2035:$B2038)) -> * | V22: =IF(OR('Class Bin A-B'!$B2139="*",'Class Bin A-B'!$B2140="*",'Class Bin A-B'!$B2141="*",'Class Bin A-B'!$B2142="*"),"*",SUM('Class Bin A-B'!$B2139:$B2142)) -> * | W22: =IFERROR(AVERAGE(C22:E22,J22:L22,Q22:S22),"-") -> 19.333333 | X22: =IFERROR(AVERAGE(B22:F22,I22:M22,P22:T22),"-") -> 27.666667 | Y22: =IFERROR(AVERAGE(B22:V22),"-") -> 26.333333
A23: 0.54166667 | B23: =IF(OR('Class Bin A-B'!$B63="*",'Class Bin A-B'!$B64="*",'Class Bin A-B'!$B65="*",'Class Bin A-B'!$B66="*"),"*",SUM('Class Bin A-B'!$B63:$B66)) -> * | C23: =IF(OR('Class Bin A-B'!$B167="*",'Class Bin A-B'!$B168="*",'Class Bin A-B'!$B169="*",'Class Bin A-B'!$B170="*"),"*",SUM('Class Bin A-B'!$B167:$B170)) -> * | D23: =IF(OR('Class Bin A-B'!$B271="*",'Class Bin A-B'!$B272="*",'Class Bin A-B'!$B273="*",'Class Bin A-B'!$B274="*"),"*",SUM('Class Bin A-B'!$B271:$B274)) -> * | E23: =IF(OR('Class Bin A-B'!$B375="*",'Class Bin A-B'!$B376="*",'Class Bin A-B'!$B377="*",'Class Bin A-B'!$B378="*"),"*",SUM('Class Bin A-B'!$B375:$B378)) -> * | F23: =IF(OR('Class Bin A-B'!$B479="*",'Class Bin A-B'!$B480="*",'Class Bin A-B'!$B481="*",'Class Bin A-B'!$B482="*"),"*",SUM('Class Bin A-B'!$B479:$B482)) -> * | G23: =IF(OR('Class Bin A-B'!$B583="*",'Class Bin A-B'!$B584="*",'Class Bin A-B'!$B585="*",'Class Bin A-B'!$B586="*"),"*",SUM('Class Bin A-B'!$B583:$B586)) -> * | H23: =IF(OR('Class Bin A-B'!$B687="*",'Class Bin A-B'!$B688="*",'Class Bin A-B'!$B689="*",'Class Bin A-B'!$B690="*"),"*",SUM('Class Bin A-B'!$B687:$B690)) -> 26 | I23: =IF(OR('Class Bin A-B'!$B791="*",'Class Bin A-B'!$B792="*",'Class Bin A-B'!$B793="*",'Class Bin A-B'!$B794="*"),"*",SUM('Class Bin A-B'!$B791:$B794)) -> 14 | J23: =IF(OR('Class Bin A-B'!$B895="*",'Class Bin A-B'!$B896="*",'Class Bin A-B'!$B897="*",'Class Bin A-B'!$B898="*"),"*",SUM('Class Bin A-B'!$B895:$B898)) -> 14 | K23: =IF(OR('Class Bin A-B'!$B999="*",'Class Bin A-B'!$B1000="*",'Class Bin A-B'!$B1001="*",'Class Bin A-B'!$B1002="*"),"*",SUM('Class Bin A-B'!$B999:$B1002)) -> 19 | L23: =IF(OR('Class Bin A-B'!$B1103="*",'Class Bin A-B'!$B1104="*",'Class Bin A-B'!$B1105="*",'Class Bin A-B'!$B1106="*"),"*",SUM('Class Bin A-B'!$B1103:$B1106)) -> 29 | M23: =IF(OR('Class Bin A-B'!$B1207="*",'Class Bin A-B'!$B1208="*",'Class Bin A-B'!$B1209="*",'Class Bin A-B'!$B1210="*"),"*",SUM('Class Bin A-B'!$B1207:$B1210)) -> 37 | N23: =IF(OR('Class Bin A-B'!$B1311="*",'Class Bin A-B'!$B1312="*",'Class Bin A-B'!$B1313="*",'Class Bin A-B'!$B1314="*"),"*",SUM('Class Bin A-B'!$B1311:$B1314)) -> 19 | O23: =IF(OR('Class Bin A-B'!$B1415="*",'Class Bin A-B'!$B1416="*",'Class Bin A-B'!$B1417="*",'Class Bin A-B'!$B1418="*"),"*",SUM('Class Bin A-B'!$B1415:$B1418)) -> 20 | P23: =IF(OR('Class Bin A-B'!$B1519="*",'Class Bin A-B'!$B1520="*",'Class Bin A-B'!$B1521="*",'Class Bin A-B'!$B1522="*"),"*",SUM('Class Bin A-B'!$B1519:$B1522)) -> * | Q23: =IF(OR('Class Bin A-B'!$B1623="*",'Class Bin A-B'!$B1624="*",'Class Bin A-B'!$B1625="*",'Class Bin A-B'!$B1626="*"),"*",SUM('Class Bin A-B'!$B1623:$B1626)) -> * | R23: =IF(OR('Class Bin A-B'!$B1727="*",'Class Bin A-B'!$B1728="*",'Class Bin A-B'!$B1729="*",'Class Bin A-B'!$B1730="*"),"*",SUM('Class Bin A-B'!$B1727:$B1730)) -> * | S23: =IF(OR('Class Bin A-B'!$B1831="*",'Class Bin A-B'!$B1832="*",'Class Bin A-B'!$B1833="*",'Class Bin A-B'!$B1834="*"),"*",SUM('Class Bin A-B'!$B1831:$B1834)) -> * | T23: =IF(OR('Class Bin A-B'!$B1935="*",'Class Bin A-B'!$B1936="*",'Class Bin A-B'!$B1937="*",'Class Bin A-B'!$B1938="*"),"*",SUM('Class Bin A-B'!$B1935:$B1938)) -> * | U23: =IF(OR('Class Bin A-B'!$B2039="*",'Class Bin A-B'!$B2040="*",'Class Bin A-B'!$B2041="*",'Class Bin A-B'!$B2042="*"),"*",SUM('Class Bin A-B'!$B2039:$B2042)) -> * | V23: =IF(OR('Class Bin A-B'!$B2143="*",'Class Bin A-B'!$B2144="*",'Class Bin A-B'!$B2145="*",'Class Bin A-B'!$B2146="*"),"*",SUM('Class Bin A-B'!$B2143:$B2146)) -> * | W23: =IFERROR(AVERAGE(C23:E23,J23:L23,Q23:S23),"-") -> 20.666667 | X23: =IFERROR(AVERAGE(B23:F23,I23:M23,P23:T23),"-") -> 22.6 | Y23: =IFERROR(AVERAGE(B23:V23),"-") -> 22.25
A24: 0.58333333 | B24: =IF(OR('Class Bin A-B'!$B67="*",'Class Bin A-B'!$B68="*",'Class Bin A-B'!$B69="*",'Class Bin A-B'!$B70="*"),"*",SUM('Class Bin A-B'!$B67:$B70)) -> * | C24: =IF(OR('Class Bin A-B'!$B171="*",'Class Bin A-B'!$B172="*",'Class Bin A-B'!$B173="*",'Class Bin A-B'!$B174="*"),"*",SUM('Class Bin A-B'!$B171:$B174)) -> * | D24: =IF(OR('Class Bin A-B'!$B275="*",'Class Bin A-B'!$B276="*",'Class Bin A-B'!$B277="*",'Class Bin A-B'!$B278="*"),"*",SUM('Class Bin A-B'!$B275:$B278)) -> * | E24: =IF(OR('Class Bin A-B'!$B379="*",'Class Bin A-B'!$B380="*",'Class Bin A-B'!$B381="*",'Class Bin A-B'!$B382="*"),"*",SUM('Class Bin A-B'!$B379:$B382)) -> * | F24: =IF(OR('Class Bin A-B'!$B483="*",'Class Bin A-B'!$B484="*",'Class Bin A-B'!$B485="*",'Class Bin A-B'!$B486="*"),"*",SUM('Class Bin A-B'!$B483:$B486)) -> * | G24: =IF(OR('Class Bin A-B'!$B587="*",'Class Bin A-B'!$B588="*",'Class Bin A-B'!$B589="*",'Class Bin A-B'!$B590="*"),"*",SUM('Class Bin A-B'!$B587:$B590)) -> * | H24: =IF(OR('Class Bin A-B'!$B691="*",'Class Bin A-B'!$B692="*",'Class Bin A-B'!$B693="*",'Class Bin A-B'!$B694="*"),"*",SUM('Class Bin A-B'!$B691:$B694)) -> 19 | I24: =IF(OR('Class Bin A-B'!$B795="*",'Class Bin A-B'!$B796="*",'Class Bin A-B'!$B797="*",'Class Bin A-B'!$B798="*"),"*",SUM('Class Bin A-B'!$B795:$B798)) -> 16 | J24: =IF(OR('Class Bin A-B'!$B899="*",'Class Bin A-B'!$B900="*",'Class Bin A-B'!$B901="*",'Class Bin A-B'!$B902="*"),"*",SUM('Class Bin A-B'!$B899:$B902)) -> 23 | K24: =IF(OR('Class Bin A-B'!$B1003="*",'Class Bin A-B'!$B1004="*",'Class Bin A-B'!$B1005="*",'Class Bin A-B'!$B1006="*"),"*",SUM('Class Bin A-B'!$B1003:$B1006)) -> 27 | L24: =IF(OR('Class Bin A-B'!$B1107="*",'Class Bin A-B'!$B1108="*",'Class Bin A-B'!$B1109="*",'Class Bin A-B'!$B1110="*"),"*",SUM('Class Bin A-B'!$B1107:$B1110)) -> 36 | M24: =IF(OR('Class Bin A-B'!$B1211="*",'Class Bin A-B'!$B1212="*",'Class Bin A-B'!$B1213="*",'Class Bin A-B'!$B1214="*"),"*",SUM('Class Bin A-B'!$B1211:$B1214)) -> 31 | N24: =IF(OR('Class Bin A-B'!$B1315="*",'Class Bin A-B'!$B1316="*",'Class Bin A-B'!$B1317="*",'Class Bin A-B'!$B1318="*"),"*",SUM('Class Bin A-B'!$B1315:$B1318)) -> 21 | O24: =IF(OR('Class Bin A-B'!$B1419="*",'Class Bin A-B'!$B1420="*",'Class Bin A-B'!$B1421="*",'Class Bin A-B'!$B1422="*"),"*",SUM('Class Bin A-B'!$B1419:$B1422)) -> 17 | P24: =IF(OR('Class Bin A-B'!$B1523="*",'Class Bin A-B'!$B1524="*",'Class Bin A-B'!$B1525="*",'Class Bin A-B'!$B1526="*"),"*",SUM('Class Bin A-B'!$B1523:$B1526)) -> * | Q24: =IF(OR('Class Bin A-B'!$B1627="*",'Class Bin A-B'!$B1628="*",'Class Bin A-B'!$B1629="*",'Class Bin A-B'!$B1630="*"),"*",SUM('Class Bin A-B'!$B1627:$B1630)) -> * | R24: =IF(OR('Class Bin A-B'!$B1731="*",'Class Bin A-B'!$B1732="*",'Class Bin A-B'!$B1733="*",'Class Bin A-B'!$B1734="*"),"*",SUM('Class Bin A-B'!$B1731:$B1734)) -> * | S24: =IF(OR('Class Bin A-B'!$B1835="*",'Class Bin A-B'!$B1836="*",'Class Bin A-B'!$B1837="*",'Class Bin A-B'!$B1838="*"),"*",SUM('Class Bin A-B'!$B1835:$B1838)) -> * | T24: =IF(OR('Class Bin A-B'!$B1939="*",'Class Bin A-B'!$B1940="*",'Class Bin A-B'!$B1941="*",'Class Bin A-B'!$B1942="*"),"*",SUM('Class Bin A-B'!$B1939:$B1942)) -> * | U24: =IF(OR('Class Bin A-B'!$B2043="*",'Class Bin A-B'!$B2044="*",'Class Bin A-B'!$B2045="*",'Class Bin A-B'!$B2046="*"),"*",SUM('Class Bin A-B'!$B2043:$B2046)) -> * | V24: =IF(OR('Class Bin A-B'!$B2147="*",'Class Bin A-B'!$B2148="*",'Class Bin A-B'!$B2149="*",'Class Bin A-B'!$B2150="*"),"*",SUM('Class Bin A-B'!$B2147:$B2150)) -> * | W24: =IFERROR(AVERAGE(C24:E24,J24:L24,Q24:S24),"-") -> 28.666667 | X24: =IFERROR(AVERAGE(B24:F24,I24:M24,P24:T24),"-") -> 26.6 | Y24: =IFERROR(AVERAGE(B24:V24),"-") -> 23.75
A25: 0.625 | B25: =IF(OR('Class Bin A-B'!$B71="*",'Class Bin A-B'!$B72="*",'Class Bin A-B'!$B73="*",'Class Bin A-B'!$B74="*"),"*",SUM('Class Bin A-B'!$B71:$B74)) -> * | C25: =IF(OR('Class Bin A-B'!$B175="*",'Class Bin A-B'!$B176="*",'Class Bin A-B'!$B177="*",'Class Bin A-B'!$B178="*"),"*",SUM('Class Bin A-B'!$B175:$B178)) -> * | D25: =IF(OR('Class Bin A-B'!$B279="*",'Class Bin A-B'!$B280="*",'Class Bin A-B'!$B281="*",'Class Bin A-B'!$B282="*"),"*",SUM('Class Bin A-B'!$B279:$B282)) -> * | E25: =IF(OR('Class Bin A-B'!$B383="*",'Class Bin A-B'!$B384="*",'Class Bin A-B'!$B385="*",'Class Bin A-B'!$B386="*"),"*",SUM('Class Bin A-B'!$B383:$B386)) -> * | F25: =IF(OR('Class Bin A-B'!$B487="*",'Class Bin A-B'!$B488="*",'Class Bin A-B'!$B489="*",'Class Bin A-B'!$B490="*"),"*",SUM('Class Bin A-B'!$B487:$B490)) -> * | G25: =IF(OR('Class Bin A-B'!$B591="*",'Class Bin A-B'!$B592="*",'Class Bin A-B'!$B593="*",'Class Bin A-B'!$B594="*"),"*",SUM('Class Bin A-B'!$B591:$B594)) -> * | H25: =IF(OR('Class Bin A-B'!$B695="*",'Class Bin A-B'!$B696="*",'Class Bin A-B'!$B697="*",'Class Bin A-B'!$B698="*"),"*",SUM('Class Bin A-B'!$B695:$B698)) -> 28 | I25: =IF(OR('Class Bin A-B'!$B799="*",'Class Bin A-B'!$B800="*",'Class Bin A-B'!$B801="*",'Class Bin A-B'!$B802="*"),"*",SUM('Class Bin A-B'!$B799:$B802)) -> 35 | J25: =IF(OR('Class Bin A-B'!$B903="*",'Class Bin A-B'!$B904="*",'Class Bin A-B'!$B905="*",'Class Bin A-B'!$B906="*"),"*",SUM('Class Bin A-B'!$B903:$B906)) -> 35 | K25: =IF(OR('Class Bin A-B'!$B1007="*",'Class Bin A-B'!$B1008="*",'Class Bin A-B'!$B1009="*",'Class Bin A-B'!$B1010="*"),"*",SUM('Class Bin A-B'!$B1007:$B1010)) -> 28 | L25: =IF(OR('Class Bin A-B'!$B1111="*",'Class Bin A-B'!$B1112="*",'Class Bin A-B'!$B1113="*",'Class Bin A-B'!$B1114="*"),"*",SUM('Class Bin A-B'!$B1111:$B1114)) -> 42 | M25: =IF(OR('Class Bin A-B'!$B1215="*",'Class Bin A-B'!$B1216="*",'Class Bin A-B'!$B1217="*",'Class Bin A-B'!$B1218="*"),"*",SUM('Class Bin A-B'!$B1215:$B1218)) -> 55 | N25: =IF(OR('Class Bin A-B'!$B1319="*",'Class Bin A-B'!$B1320="*",'Class Bin A-B'!$B1321="*",'Class Bin A-B'!$B1322="*"),"*",SUM('Class Bin A-B'!$B1319:$B1322)) -> 20 | O25: =IF(OR('Class Bin A-B'!$B1423="*",'Class Bin A-B'!$B1424="*",'Class Bin A-B'!$B1425="*",'Class Bin A-B'!$B1426="*"),"*",SUM('Class Bin A-B'!$B1423:$B1426)) -> 18 | P25: =IF(OR('Class Bin A-B'!$B1527="*",'Class Bin A-B'!$B1528="*",'Class Bin A-B'!$B1529="*",'Class Bin A-B'!$B1530="*"),"*",SUM('Class Bin A-B'!$B1527:$B1530)) -> * | Q25: =IF(OR('Class Bin A-B'!$B1631="*",'Class Bin A-B'!$B1632="*",'Class Bin A-B'!$B1633="*",'Class Bin A-B'!$B1634="*"),"*",SUM('Class Bin A-B'!$B1631:$B1634)) -> * | R25: =IF(OR('Class Bin A-B'!$B1735="*",'Class Bin A-B'!$B1736="*",'Class Bin A-B'!$B1737="*",'Class Bin A-B'!$B1738="*"),"*",SUM('Class Bin A-B'!$B1735:$B1738)) -> * | S25: =IF(OR('Class Bin A-B'!$B1839="*",'Class Bin A-B'!$B1840="*",'Class Bin A-B'!$B1841="*",'Class Bin A-B'!$B1842="*"),"*",SUM('Class Bin A-B'!$B1839:$B1842)) -> * | T25: =IF(OR('Class Bin A-B'!$B1943="*",'Class Bin A-B'!$B1944="*",'Class Bin A-B'!$B1945="*",'Class Bin A-B'!$B1946="*"),"*",SUM('Class Bin A-B'!$B1943:$B1946)) -> * | U25: =IF(OR('Class Bin A-B'!$B2047="*",'Class Bin A-B'!$B2048="*",'Class Bin A-B'!$B2049="*",'Class Bin A-B'!$B2050="*"),"*",SUM('Class Bin A-B'!$B2047:$B2050)) -> * | V25: =IF(OR('Class Bin A-B'!$B2151="*",'Class Bin A-B'!$B2152="*",'Class Bin A-B'!$B2153="*",'Class Bin A-B'!$B2154="*"),"*",SUM('Class Bin A-B'!$B2151:$B2154)) -> * | W25: =IFERROR(AVERAGE(C25:E25,J25:L25,Q25:S25),"-") -> 35 | X25: =IFERROR(AVERAGE(B25:F25,I25:M25,P25:T25),"-") -> 39 | Y25: =IFERROR(AVERAGE(B25:V25),"-") -> 32.625
A26: 0.66666667 | B26: =IF(OR('Class Bin A-B'!$B75="*",'Class Bin A-B'!$B76="*",'Class Bin A-B'!$B77="*",'Class Bin A-B'!$B78="*"),"*",SUM('Class Bin A-B'!$B75:$B78)) -> * | C26: =IF(OR('Class Bin A-B'!$B179="*",'Class Bin A-B'!$B180="*",'Class Bin A-B'!$B181="*",'Class Bin A-B'!$B182="*"),"*",SUM('Class Bin A-B'!$B179:$B182)) -> * | D26: =IF(OR('Class Bin A-B'!$B283="*",'Class Bin A-B'!$B284="*",'Class Bin A-B'!$B285="*",'Class Bin A-B'!$B286="*"),"*",SUM('Class Bin A-B'!$B283:$B286)) -> * | E26: =IF(OR('Class Bin A-B'!$B387="*",'Class Bin A-B'!$B388="*",'Class Bin A-B'!$B389="*",'Class Bin A-B'!$B390="*"),"*",SUM('Class Bin A-B'!$B387:$B390)) -> * | F26: =IF(OR('Class Bin A-B'!$B491="*",'Class Bin A-B'!$B492="*",'Class Bin A-B'!$B493="*",'Class Bin A-B'!$B494="*"),"*",SUM('Class Bin A-B'!$B491:$B494)) -> * | G26: =IF(OR('Class Bin A-B'!$B595="*",'Class Bin A-B'!$B596="*",'Class Bin A-B'!$B597="*",'Class Bin A-B'!$B598="*"),"*",SUM('Class Bin A-B'!$B595:$B598)) -> * | H26: =IF(OR('Class Bin A-B'!$B699="*",'Class Bin A-B'!$B700="*",'Class Bin A-B'!$B701="*",'Class Bin A-B'!$B702="*"),"*",SUM('Class Bin A-B'!$B699:$B702)) -> 22 | I26: =IF(OR('Class Bin A-B'!$B803="*",'Class Bin A-B'!$B804="*",'Class Bin A-B'!$B805="*",'Class Bin A-B'!$B806="*"),"*",SUM('Class Bin A-B'!$B803:$B806)) -> 85 | J26: =IF(OR('Class Bin A-B'!$B907="*",'Class Bin A-B'!$B908="*",'Class Bin A-B'!$B909="*",'Class Bin A-B'!$B910="*"),"*",SUM('Class Bin A-B'!$B907:$B910)) -> 109 | K26: =IF(OR('Class Bin A-B'!$B1011="*",'Class Bin A-B'!$B1012="*",'Class Bin A-B'!$B1013="*",'Class Bin A-B'!$B1014="*"),"*",SUM('Class Bin A-B'!$B1011:$B1014)) -> 75 | L26: =IF(OR('Class Bin A-B'!$B1115="*",'Class Bin A-B'!$B1116="*",'Class Bin A-B'!$B1117="*",'Class Bin A-B'!$B1118="*"),"*",SUM('Class Bin A-B'!$B1115:$B1118)) -> 101 | M26: =IF(OR('Class Bin A-B'!$B1219="*",'Class Bin A-B'!$B1220="*",'Class Bin A-B'!$B1221="*",'Class Bin A-B'!$B1222="*"),"*",SUM('Class Bin A-B'!$B1219:$B1222)) -> 70 | N26: =IF(OR('Class Bin A-B'!$B1323="*",'Class Bin A-B'!$B1324="*",'Class Bin A-B'!$B1325="*",'Class Bin A-B'!$B1326="*"),"*",SUM('Class Bin A-B'!$B1323:$B1326)) -> 19 | O26: =IF(OR('Class Bin A-B'!$B1427="*",'Class Bin A-B'!$B1428="*",'Class Bin A-B'!$B1429="*",'Class Bin A-B'!$B1430="*"),"*",SUM('Class Bin A-B'!$B1427:$B1430)) -> 20 | P26: =IF(OR('Class Bin A-B'!$B1531="*",'Class Bin A-B'!$B1532="*",'Class Bin A-B'!$B1533="*",'Class Bin A-B'!$B1534="*"),"*",SUM('Class Bin A-B'!$B1531:$B1534)) -> * | Q26: =IF(OR('Class Bin A-B'!$B1635="*",'Class Bin A-B'!$B1636="*",'Class Bin A-B'!$B1637="*",'Class Bin A-B'!$B1638="*"),"*",SUM('Class Bin A-B'!$B1635:$B1638)) -> * | R26: =IF(OR('Class Bin A-B'!$B1739="*",'Class Bin A-B'!$B1740="*",'Class Bin A-B'!$B1741="*",'Class Bin A-B'!$B1742="*"),"*",SUM('Class Bin A-B'!$B1739:$B1742)) -> * | S26: =IF(OR('Class Bin A-B'!$B1843="*",'Class Bin A-B'!$B1844="*",'Class Bin A-B'!$B1845="*",'Class Bin A-B'!$B1846="*"),"*",SUM('Class Bin A-B'!$B1843:$B1846)) -> * | T26: =IF(OR('Class Bin A-B'!$B1947="*",'Class Bin A-B'!$B1948="*",'Class Bin A-B'!$B1949="*",'Class Bin A-B'!$B1950="*"),"*",SUM('Class Bin A-B'!$B1947:$B1950)) -> * | U26: =IF(OR('Class Bin A-B'!$B2051="*",'Class Bin A-B'!$B2052="*",'Class Bin A-B'!$B2053="*",'Class Bin A-B'!$B2054="*"),"*",SUM('Class Bin A-B'!$B2051:$B2054)) -> * | V26: =IF(OR('Class Bin A-B'!$B2155="*",'Class Bin A-B'!$B2156="*",'Class Bin A-B'!$B2157="*",'Class Bin A-B'!$B2158="*"),"*",SUM('Class Bin A-B'!$B2155:$B2158)) -> * | W26: =IFERROR(AVERAGE(C26:E26,J26:L26,Q26:S26),"-") -> 95 | X26: =IFERROR(AVERAGE(B26:F26,I26:M26,P26:T26),"-") -> 88 | Y26: =IFERROR(AVERAGE(B26:V26),"-") -> 62.625
A27: 0.70833333 | B27: =IF(OR('Class Bin A-B'!$B79="*",'Class Bin A-B'!$B80="*",'Class Bin A-B'!$B81="*",'Class Bin A-B'!$B82="*"),"*",SUM('Class Bin A-B'!$B79:$B82)) -> * | C27: =IF(OR('Class Bin A-B'!$B183="*",'Class Bin A-B'!$B184="*",'Class Bin A-B'!$B185="*",'Class Bin A-B'!$B186="*"),"*",SUM('Class Bin A-B'!$B183:$B186)) -> * | D27: =IF(OR('Class Bin A-B'!$B287="*",'Class Bin A-B'!$B288="*",'Class Bin A-B'!$B289="*",'Class Bin A-B'!$B290="*"),"*",SUM('Class Bin A-B'!$B287:$B290)) -> * | E27: =IF(OR('Class Bin A-B'!$B391="*",'Class Bin A-B'!$B392="*",'Class Bin A-B'!$B393="*",'Class Bin A-B'!$B394="*"),"*",SUM('Class Bin A-B'!$B391:$B394)) -> * | F27: =IF(OR('Class Bin A-B'!$B495="*",'Class Bin A-B'!$B496="*",'Class Bin A-B'!$B497="*",'Class Bin A-B'!$B498="*"),"*",SUM('Class Bin A-B'!$B495:$B498)) -> * | G27: =IF(OR('Class Bin A-B'!$B599="*",'Class Bin A-B'!$B600="*",'Class Bin A-B'!$B601="*",'Class Bin A-B'!$B602="*"),"*",SUM('Class Bin A-B'!$B599:$B602)) -> * | H27: =IF(OR('Class Bin A-B'!$B703="*",'Class Bin A-B'!$B704="*",'Class Bin A-B'!$B705="*",'Class Bin A-B'!$B706="*"),"*",SUM('Class Bin A-B'!$B703:$B706)) -> 11 | I27: =IF(OR('Class Bin A-B'!$B807="*",'Class Bin A-B'!$B808="*",'Class Bin A-B'!$B809="*",'Class Bin A-B'!$B810="*"),"*",SUM('Class Bin A-B'!$B807:$B810)) -> 79 | J27: =IF(OR('Class Bin A-B'!$B911="*",'Class Bin A-B'!$B912="*",'Class Bin A-B'!$B913="*",'Class Bin A-B'!$B914="*"),"*",SUM('Class Bin A-B'!$B911:$B914)) -> 71 | K27: =IF(OR('Class Bin A-B'!$B1015="*",'Class Bin A-B'!$B1016="*",'Class Bin A-B'!$B1017="*",'Class Bin A-B'!$B1018="*"),"*",SUM('Class Bin A-B'!$B1015:$B1018)) -> 79 | L27: =IF(OR('Class Bin A-B'!$B1119="*",'Class Bin A-B'!$B1120="*",'Class Bin A-B'!$B1121="*",'Class Bin A-B'!$B1122="*"),"*",SUM('Class Bin A-B'!$B1119:$B1122)) -> 67 | M27: =IF(OR('Class Bin A-B'!$B1223="*",'Class Bin A-B'!$B1224="*",'Class Bin A-B'!$B1225="*",'Class Bin A-B'!$B1226="*"),"*",SUM('Class Bin A-B'!$B1223:$B1226)) -> 46 | N27: =IF(OR('Class Bin A-B'!$B1327="*",'Class Bin A-B'!$B1328="*",'Class Bin A-B'!$B1329="*",'Class Bin A-B'!$B1330="*"),"*",SUM('Class Bin A-B'!$B1327:$B1330)) -> 17 | O27: =IF(OR('Class Bin A-B'!$B1431="*",'Class Bin A-B'!$B1432="*",'Class Bin A-B'!$B1433="*",'Class Bin A-B'!$B1434="*"),"*",SUM('Class Bin A-B'!$B1431:$B1434)) -> 18 | P27: =IF(OR('Class Bin A-B'!$B1535="*",'Class Bin A-B'!$B1536="*",'Class Bin A-B'!$B1537="*",'Class Bin A-B'!$B1538="*"),"*",SUM('Class Bin A-B'!$B1535:$B1538)) -> * | Q27: =IF(OR('Class Bin A-B'!$B1639="*",'Class Bin A-B'!$B1640="*",'Class Bin A-B'!$B1641="*",'Class Bin A-B'!$B1642="*"),"*",SUM('Class Bin A-B'!$B1639:$B1642)) -> * | R27: =IF(OR('Class Bin A-B'!$B1743="*",'Class Bin A-B'!$B1744="*",'Class Bin A-B'!$B1745="*",'Class Bin A-B'!$B1746="*"),"*",SUM('Class Bin A-B'!$B1743:$B1746)) -> * | S27: =IF(OR('Class Bin A-B'!$B1847="*",'Class Bin A-B'!$B1848="*",'Class Bin A-B'!$B1849="*",'Class Bin A-B'!$B1850="*"),"*",SUM('Class Bin A-B'!$B1847:$B1850)) -> * | T27: =IF(OR('Class Bin A-B'!$B1951="*",'Class Bin A-B'!$B1952="*",'Class Bin A-B'!$B1953="*",'Class Bin A-B'!$B1954="*"),"*",SUM('Class Bin A-B'!$B1951:$B1954)) -> * | U27: =IF(OR('Class Bin A-B'!$B2055="*",'Class Bin A-B'!$B2056="*",'Class Bin A-B'!$B2057="*",'Class Bin A-B'!$B2058="*"),"*",SUM('Class Bin A-B'!$B2055:$B2058)) -> * | V27: =IF(OR('Class Bin A-B'!$B2159="*",'Class Bin A-B'!$B2160="*",'Class Bin A-B'!$B2161="*",'Class Bin A-B'!$B2162="*"),"*",SUM('Class Bin A-B'!$B2159:$B2162)) -> * | W27: =IFERROR(AVERAGE(C27:E27,J27:L27,Q27:S27),"-") -> 72.333333 | X27: =IFERROR(AVERAGE(B27:F27,I27:M27,P27:T27),"-") -> 68.4 | Y27: =IFERROR(AVERAGE(B27:V27),"-") -> 48.5
A28: 0.75 | B28: =IF(OR('Class Bin A-B'!$B83="*",'Class Bin A-B'!$B84="*",'Class Bin A-B'!$B85="*",'Class Bin A-B'!$B86="*"),"*",SUM('Class Bin A-B'!$B83:$B86)) -> * | C28: =IF(OR('Class Bin A-B'!$B187="*",'Class Bin A-B'!$B188="*",'Class Bin A-B'!$B189="*",'Class Bin A-B'!$B190="*"),"*",SUM('Class Bin A-B'!$B187:$B190)) -> * | D28: =IF(OR('Class Bin A-B'!$B291="*",'Class Bin A-B'!$B292="*",'Class Bin A-B'!$B293="*",'Class Bin A-B'!$B294="*"),"*",SUM('Class Bin A-B'!$B291:$B294)) -> * | E28: =IF(OR('Class Bin A-B'!$B395="*",'Class Bin A-B'!$B396="*",'Class Bin A-B'!$B397="*",'Class Bin A-B'!$B398="*"),"*",SUM('Class Bin A-B'!$B395:$B398)) -> * | F28: =IF(OR('Class Bin A-B'!$B499="*",'Class Bin A-B'!$B500="*",'Class Bin A-B'!$B501="*",'Class Bin A-B'!$B502="*"),"*",SUM('Class Bin A-B'!$B499:$B502)) -> * | G28: =IF(OR('Class Bin A-B'!$B603="*",'Class Bin A-B'!$B604="*",'Class Bin A-B'!$B605="*",'Class Bin A-B'!$B606="*"),"*",SUM('Class Bin A-B'!$B603:$B606)) -> * | H28: =IF(OR('Class Bin A-B'!$B707="*",'Class Bin A-B'!$B708="*",'Class Bin A-B'!$B709="*",'Class Bin A-B'!$B710="*"),"*",SUM('Class Bin A-B'!$B707:$B710)) -> 12 | I28: =IF(OR('Class Bin A-B'!$B811="*",'Class Bin A-B'!$B812="*",'Class Bin A-B'!$B813="*",'Class Bin A-B'!$B814="*"),"*",SUM('Class Bin A-B'!$B811:$B814)) -> 20 | J28: =IF(OR('Class Bin A-B'!$B915="*",'Class Bin A-B'!$B916="*",'Class Bin A-B'!$B917="*",'Class Bin A-B'!$B918="*"),"*",SUM('Class Bin A-B'!$B915:$B918)) -> 18 | K28: =IF(OR('Class Bin A-B'!$B1019="*",'Class Bin A-B'!$B1020="*",'Class Bin A-B'!$B1021="*",'Class Bin A-B'!$B1022="*"),"*",SUM('Class Bin A-B'!$B1019:$B1022)) -> 21 | L28: =IF(OR('Class Bin A-B'!$B1123="*",'Class Bin A-B'!$B1124="*",'Class Bin A-B'!$B1125="*",'Class Bin A-B'!$B1126="*"),"*",SUM('Class Bin A-B'!$B1123:$B1126)) -> 19 | M28: =IF(OR('Class Bin A-B'!$B1227="*",'Class Bin A-B'!$B1228="*",'Class Bin A-B'!$B1229="*",'Class Bin A-B'!$B1230="*"),"*",SUM('Class Bin A-B'!$B1227:$B1230)) -> 24 | N28: =IF(OR('Class Bin A-B'!$B1331="*",'Class Bin A-B'!$B1332="*",'Class Bin A-B'!$B1333="*",'Class Bin A-B'!$B1334="*"),"*",SUM('Class Bin A-B'!$B1331:$B1334)) -> 14 | O28: =IF(OR('Class Bin A-B'!$B1435="*",'Class Bin A-B'!$B1436="*",'Class Bin A-B'!$B1437="*",'Class Bin A-B'!$B1438="*"),"*",SUM('Class Bin A-B'!$B1435:$B1438)) -> 9 | P28: =IF(OR('Class Bin A-B'!$B1539="*",'Class Bin A-B'!$B1540="*",'Class Bin A-B'!$B1541="*",'Class Bin A-B'!$B1542="*"),"*",SUM('Class Bin A-B'!$B1539:$B1542)) -> * | Q28: =IF(OR('Class Bin A-B'!$B1643="*",'Class Bin A-B'!$B1644="*",'Class Bin A-B'!$B1645="*",'Class Bin A-B'!$B1646="*"),"*",SUM('Class Bin A-B'!$B1643:$B1646)) -> * | R28: =IF(OR('Class Bin A-B'!$B1747="*",'Class Bin A-B'!$B1748="*",'Class Bin A-B'!$B1749="*",'Class Bin A-B'!$B1750="*"),"*",SUM('Class Bin A-B'!$B1747:$B1750)) -> * | S28: =IF(OR('Class Bin A-B'!$B1851="*",'Class Bin A-B'!$B1852="*",'Class Bin A-B'!$B1853="*",'Class Bin A-B'!$B1854="*"),"*",SUM('Class Bin A-B'!$B1851:$B1854)) -> * | T28: =IF(OR('Class Bin A-B'!$B1955="*",'Class Bin A-B'!$B1956="*",'Class Bin A-B'!$B1957="*",'Class Bin A-B'!$B1958="*"),"*",SUM('Class Bin A-B'!$B1955:$B1958)) -> * | U28: =IF(OR('Class Bin A-B'!$B2059="*",'Class Bin A-B'!$B2060="*",'Class Bin A-B'!$B2061="*",'Class Bin A-B'!$B2062="*"),"*",SUM('Class Bin A-B'!$B2059:$B2062)) -> * | V28: =IF(OR('Class Bin A-B'!$B2163="*",'Class Bin A-B'!$B2164="*",'Class Bin A-B'!$B2165="*",'Class Bin A-B'!$B2166="*"),"*",SUM('Class Bin A-B'!$B2163:$B2166)) -> * | W28: =IFERROR(AVERAGE(C28:E28,J28:L28,Q28:S28),"-") -> 19.333333 | X28: =IFERROR(AVERAGE(B28:F28,I28:M28,P28:T28),"-") -> 20.4 | Y28: =IFERROR(AVERAGE(B28:V28),"-") -> 17.125
A29: 0.79166667 | B29: =IF(OR('Class Bin A-B'!$B87="*",'Class Bin A-B'!$B88="*",'Class Bin A-B'!$B89="*",'Class Bin A-B'!$B90="*"),"*",SUM('Class Bin A-B'!$B87:$B90)) -> * | C29: =IF(OR('Class Bin A-B'!$B191="*",'Class Bin A-B'!$B192="*",'Class Bin A-B'!$B193="*",'Class Bin A-B'!$B194="*"),"*",SUM('Class Bin A-B'!$B191:$B194)) -> * | D29: =IF(OR('Class Bin A-B'!$B295="*",'Class Bin A-B'!$B296="*",'Class Bin A-B'!$B297="*",'Class Bin A-B'!$B298="*"),"*",SUM('Class Bin A-B'!$B295:$B298)) -> * | E29: =IF(OR('Class Bin A-B'!$B399="*",'Class Bin A-B'!$B400="*",'Class Bin A-B'!$B401="*",'Class Bin A-B'!$B402="*"),"*",SUM('Class Bin A-B'!$B399:$B402)) -> * | F29: =IF(OR('Class Bin A-B'!$B503="*",'Class Bin A-B'!$B504="*",'Class Bin A-B'!$B505="*",'Class Bin A-B'!$B506="*"),"*",SUM('Class Bin A-B'!$B503:$B506)) -> * | G29: =IF(OR('Class Bin A-B'!$B607="*",'Class Bin A-B'!$B608="*",'Class Bin A-B'!$B609="*",'Class Bin A-B'!$B610="*"),"*",SUM('Class Bin A-B'!$B607:$B610)) -> * | H29: =IF(OR('Class Bin A-B'!$B711="*",'Class Bin A-B'!$B712="*",'Class Bin A-B'!$B713="*",'Class Bin A-B'!$B714="*"),"*",SUM('Class Bin A-B'!$B711:$B714)) -> 10 | I29: =IF(OR('Class Bin A-B'!$B815="*",'Class Bin A-B'!$B816="*",'Class Bin A-B'!$B817="*",'Class Bin A-B'!$B818="*"),"*",SUM('Class Bin A-B'!$B815:$B818)) -> 9 | J29: =IF(OR('Class Bin A-B'!$B919="*",'Class Bin A-B'!$B920="*",'Class Bin A-B'!$B921="*",'Class Bin A-B'!$B922="*"),"*",SUM('Class Bin A-B'!$B919:$B922)) -> 15 | K29: =IF(OR('Class Bin A-B'!$B1023="*",'Class Bin A-B'!$B1024="*",'Class Bin A-B'!$B1025="*",'Class Bin A-B'!$B1026="*"),"*",SUM('Class Bin A-B'!$B1023:$B1026)) -> 17 | L29: =IF(OR('Class Bin A-B'!$B1127="*",'Class Bin A-B'!$B1128="*",'Class Bin A-B'!$B1129="*",'Class Bin A-B'!$B1130="*"),"*",SUM('Class Bin A-B'!$B1127:$B1130)) -> 16 | M29: =IF(OR('Class Bin A-B'!$B1231="*",'Class Bin A-B'!$B1232="*",'Class Bin A-B'!$B1233="*",'Class Bin A-B'!$B1234="*"),"*",SUM('Class Bin A-B'!$B1231:$B1234)) -> 14 | N29: =IF(OR('Class Bin A-B'!$B1335="*",'Class Bin A-B'!$B1336="*",'Class Bin A-B'!$B1337="*",'Class Bin A-B'!$B1338="*"),"*",SUM('Class Bin A-B'!$B1335:$B1338)) -> 7 | O29: =IF(OR('Class Bin A-B'!$B1439="*",'Class Bin A-B'!$B1440="*",'Class Bin A-B'!$B1441="*",'Class Bin A-B'!$B1442="*"),"*",SUM('Class Bin A-B'!$B1439:$B1442)) -> 8 | P29: =IF(OR('Class Bin A-B'!$B1543="*",'Class Bin A-B'!$B1544="*",'Class Bin A-B'!$B1545="*",'Class Bin A-B'!$B1546="*"),"*",SUM('Class Bin A-B'!$B1543:$B1546)) -> * | Q29: =IF(OR('Class Bin A-B'!$B1647="*",'Class Bin A-B'!$B1648="*",'Class Bin A-B'!$B1649="*",'Class Bin A-B'!$B1650="*"),"*",SUM('Class Bin A-B'!$B1647:$B1650)) -> * | R29: =IF(OR('Class Bin A-B'!$B1751="*",'Class Bin A-B'!$B1752="*",'Class Bin A-B'!$B1753="*",'Class Bin A-B'!$B1754="*"),"*",SUM('Class Bin A-B'!$B1751:$B1754)) -> * | S29: =IF(OR('Class Bin A-B'!$B1855="*",'Class Bin A-B'!$B1856="*",'Class Bin A-B'!$B1857="*",'Class Bin A-B'!$B1858="*"),"*",SUM('Class Bin A-B'!$B1855:$B1858)) -> * | T29: =IF(OR('Class Bin A-B'!$B1959="*",'Class Bin A-B'!$B1960="*",'Class Bin A-B'!$B1961="*",'Class Bin A-B'!$B1962="*"),"*",SUM('Class Bin A-B'!$B1959:$B1962)) -> * | U29: =IF(OR('Class Bin A-B'!$B2063="*",'Class Bin A-B'!$B2064="*",'Class Bin A-B'!$B2065="*",'Class Bin A-B'!$B2066="*"),"*",SUM('Class Bin A-B'!$B2063:$B2066)) -> * | V29: =IF(OR('Class Bin A-B'!$B2167="*",'Class Bin A-B'!$B2168="*",'Class Bin A-B'!$B2169="*",'Class Bin A-B'!$B2170="*"),"*",SUM('Class Bin A-B'!$B2167:$B2170)) -> * | W29: =IFERROR(AVERAGE(C29:E29,J29:L29,Q29:S29),"-") -> 16 | X29: =IFERROR(AVERAGE(B29:F29,I29:M29,P29:T29),"-") -> 14.2 | Y29: =IFERROR(AVERAGE(B29:V29),"-") -> 12
A30: 0.83333333 | B30: =IF(OR('Class Bin A-B'!$B91="*",'Class Bin A-B'!$B92="*",'Class Bin A-B'!$B93="*",'Class Bin A-B'!$B94="*"),"*",SUM('Class Bin A-B'!$B91:$B94)) -> * | C30: =IF(OR('Class Bin A-B'!$B195="*",'Class Bin A-B'!$B196="*",'Class Bin A-B'!$B197="*",'Class Bin A-B'!$B198="*"),"*",SUM('Class Bin A-B'!$B195:$B198)) -> * | D30: =IF(OR('Class Bin A-B'!$B299="*",'Class Bin A-B'!$B300="*",'Class Bin A-B'!$B301="*",'Class Bin A-B'!$B302="*"),"*",SUM('Class Bin A-B'!$B299:$B302)) -> * | E30: =IF(OR('Class Bin A-B'!$B403="*",'Class Bin A-B'!$B404="*",'Class Bin A-B'!$B405="*",'Class Bin A-B'!$B406="*"),"*",SUM('Class Bin A-B'!$B403:$B406)) -> * | F30: =IF(OR('Class Bin A-B'!$B507="*",'Class Bin A-B'!$B508="*",'Class Bin A-B'!$B509="*",'Class Bin A-B'!$B510="*"),"*",SUM('Class Bin A-B'!$B507:$B510)) -> * | G30: =IF(OR('Class Bin A-B'!$B611="*",'Class Bin A-B'!$B612="*",'Class Bin A-B'!$B613="*",'Class Bin A-B'!$B614="*"),"*",SUM('Class Bin A-B'!$B611:$B614)) -> * | H30: =IF(OR('Class Bin A-B'!$B715="*",'Class Bin A-B'!$B716="*",'Class Bin A-B'!$B717="*",'Class Bin A-B'!$B718="*"),"*",SUM('Class Bin A-B'!$B715:$B718)) -> 9 | I30: =IF(OR('Class Bin A-B'!$B819="*",'Class Bin A-B'!$B820="*",'Class Bin A-B'!$B821="*",'Class Bin A-B'!$B822="*"),"*",SUM('Class Bin A-B'!$B819:$B822)) -> 8 | J30: =IF(OR('Class Bin A-B'!$B923="*",'Class Bin A-B'!$B924="*",'Class Bin A-B'!$B925="*",'Class Bin A-B'!$B926="*"),"*",SUM('Class Bin A-B'!$B923:$B926)) -> 8 | K30: =IF(OR('Class Bin A-B'!$B1027="*",'Class Bin A-B'!$B1028="*",'Class Bin A-B'!$B1029="*",'Class Bin A-B'!$B1030="*"),"*",SUM('Class Bin A-B'!$B1027:$B1030)) -> 6 | L30: =IF(OR('Class Bin A-B'!$B1131="*",'Class Bin A-B'!$B1132="*",'Class Bin A-B'!$B1133="*",'Class Bin A-B'!$B1134="*"),"*",SUM('Class Bin A-B'!$B1131:$B1134)) -> 9 | M30: =IF(OR('Class Bin A-B'!$B1235="*",'Class Bin A-B'!$B1236="*",'Class Bin A-B'!$B1237="*",'Class Bin A-B'!$B1238="*"),"*",SUM('Class Bin A-B'!$B1235:$B1238)) -> 7 | N30: =IF(OR('Class Bin A-B'!$B1339="*",'Class Bin A-B'!$B1340="*",'Class Bin A-B'!$B1341="*",'Class Bin A-B'!$B1342="*"),"*",SUM('Class Bin A-B'!$B1339:$B1342)) -> 9 | O30: =IF(OR('Class Bin A-B'!$B1443="*",'Class Bin A-B'!$B1444="*",'Class Bin A-B'!$B1445="*",'Class Bin A-B'!$B1446="*"),"*",SUM('Class Bin A-B'!$B1443:$B1446)) -> 8 | P30: =IF(OR('Class Bin A-B'!$B1547="*",'Class Bin A-B'!$B1548="*",'Class Bin A-B'!$B1549="*",'Class Bin A-B'!$B1550="*"),"*",SUM('Class Bin A-B'!$B1547:$B1550)) -> * | Q30: =IF(OR('Class Bin A-B'!$B1651="*",'Class Bin A-B'!$B1652="*",'Class Bin A-B'!$B1653="*",'Class Bin A-B'!$B1654="*"),"*",SUM('Class Bin A-B'!$B1651:$B1654)) -> * | R30: =IF(OR('Class Bin A-B'!$B1755="*",'Class Bin A-B'!$B1756="*",'Class Bin A-B'!$B1757="*",'Class Bin A-B'!$B1758="*"),"*",SUM('Class Bin A-B'!$B1755:$B1758)) -> * | S30: =IF(OR('Class Bin A-B'!$B1859="*",'Class Bin A-B'!$B1860="*",'Class Bin A-B'!$B1861="*",'Class Bin A-B'!$B1862="*"),"*",SUM('Class Bin A-B'!$B1859:$B1862)) -> * | T30: =IF(OR('Class Bin A-B'!$B1963="*",'Class Bin A-B'!$B1964="*",'Class Bin A-B'!$B1965="*",'Class Bin A-B'!$B1966="*"),"*",SUM('Class Bin A-B'!$B1963:$B1966)) -> * | U30: =IF(OR('Class Bin A-B'!$B2067="*",'Class Bin A-B'!$B2068="*",'Class Bin A-B'!$B2069="*",'Class Bin A-B'!$B2070="*"),"*",SUM('Class Bin A-B'!$B2067:$B2070)) -> * | V30: =IF(OR('Class Bin A-B'!$B2171="*",'Class Bin A-B'!$B2172="*",'Class Bin A-B'!$B2173="*",'Class Bin A-B'!$B2174="*"),"*",SUM('Class Bin A-B'!$B2171:$B2174)) -> * | W30: =IFERROR(AVERAGE(C30:E30,J30:L30,Q30:S30),"-") -> 7.6666667 | X30: =IFERROR(AVERAGE(B30:F30,I30:M30,P30:T30),"-") -> 7.6 | Y30: =IFERROR(AVERAGE(B30:V30),"-") -> 8
A31: 0.875 | B31: =IF(OR('Class Bin A-B'!$B95="*",'Class Bin A-B'!$B96="*",'Class Bin A-B'!$B97="*",'Class Bin A-B'!$B98="*"),"*",SUM('Class Bin A-B'!$B95:$B98)) -> * | C31: =IF(OR('Class Bin A-B'!$B199="*",'Class Bin A-B'!$B200="*",'Class Bin A-B'!$B201="*",'Class Bin A-B'!$B202="*"),"*",SUM('Class Bin A-B'!$B199:$B202)) -> * | D31: =IF(OR('Class Bin A-B'!$B303="*",'Class Bin A-B'!$B304="*",'Class Bin A-B'!$B305="*",'Class Bin A-B'!$B306="*"),"*",SUM('Class Bin A-B'!$B303:$B306)) -> * | E31: =IF(OR('Class Bin A-B'!$B407="*",'Class Bin A-B'!$B408="*",'Class Bin A-B'!$B409="*",'Class Bin A-B'!$B410="*"),"*",SUM('Class Bin A-B'!$B407:$B410)) -> * | F31: =IF(OR('Class Bin A-B'!$B511="*",'Class Bin A-B'!$B512="*",'Class Bin A-B'!$B513="*",'Class Bin A-B'!$B514="*"),"*",SUM('Class Bin A-B'!$B511:$B514)) -> * | G31: =IF(OR('Class Bin A-B'!$B615="*",'Class Bin A-B'!$B616="*",'Class Bin A-B'!$B617="*",'Class Bin A-B'!$B618="*"),"*",SUM('Class Bin A-B'!$B615:$B618)) -> * | H31: =IF(OR('Class Bin A-B'!$B719="*",'Class Bin A-B'!$B720="*",'Class Bin A-B'!$B721="*",'Class Bin A-B'!$B722="*"),"*",SUM('Class Bin A-B'!$B719:$B722)) -> 3 | I31: =IF(OR('Class Bin A-B'!$B823="*",'Class Bin A-B'!$B824="*",'Class Bin A-B'!$B825="*",'Class Bin A-B'!$B826="*"),"*",SUM('Class Bin A-B'!$B823:$B826)) -> 6 | J31: =IF(OR('Class Bin A-B'!$B927="*",'Class Bin A-B'!$B928="*",'Class Bin A-B'!$B929="*",'Class Bin A-B'!$B930="*"),"*",SUM('Class Bin A-B'!$B927:$B930)) -> 14 | K31: =IF(OR('Class Bin A-B'!$B1031="*",'Class Bin A-B'!$B1032="*",'Class Bin A-B'!$B1033="*",'Class Bin A-B'!$B1034="*"),"*",SUM('Class Bin A-B'!$B1031:$B1034)) -> 7 | L31: =IF(OR('Class Bin A-B'!$B1135="*",'Class Bin A-B'!$B1136="*",'Class Bin A-B'!$B1137="*",'Class Bin A-B'!$B1138="*"),"*",SUM('Class Bin A-B'!$B1135:$B1138)) -> 13 | M31: =IF(OR('Class Bin A-B'!$B1239="*",'Class Bin A-B'!$B1240="*",'Class Bin A-B'!$B1241="*",'Class Bin A-B'!$B1242="*"),"*",SUM('Class Bin A-B'!$B1239:$B1242)) -> 9 | N31: =IF(OR('Class Bin A-B'!$B1343="*",'Class Bin A-B'!$B1344="*",'Class Bin A-B'!$B1345="*",'Class Bin A-B'!$B1346="*"),"*",SUM('Class Bin A-B'!$B1343:$B1346)) -> 7 | O31: =IF(OR('Class Bin A-B'!$B1447="*",'Class Bin A-B'!$B1448="*",'Class Bin A-B'!$B1449="*",'Class Bin A-B'!$B1450="*"),"*",SUM('Class Bin A-B'!$B1447:$B1450)) -> 2 | P31: =IF(OR('Class Bin A-B'!$B1551="*",'Class Bin A-B'!$B1552="*",'Class Bin A-B'!$B1553="*",'Class Bin A-B'!$B1554="*"),"*",SUM('Class Bin A-B'!$B1551:$B1554)) -> * | Q31: =IF(OR('Class Bin A-B'!$B1655="*",'Class Bin A-B'!$B1656="*",'Class Bin A-B'!$B1657="*",'Class Bin A-B'!$B1658="*"),"*",SUM('Class Bin A-B'!$B1655:$B1658)) -> * | R31: =IF(OR('Class Bin A-B'!$B1759="*",'Class Bin A-B'!$B1760="*",'Class Bin A-B'!$B1761="*",'Class Bin A-B'!$B1762="*"),"*",SUM('Class Bin A-B'!$B1759:$B1762)) -> * | S31: =IF(OR('Class Bin A-B'!$B1863="*",'Class Bin A-B'!$B1864="*",'Class Bin A-B'!$B1865="*",'Class Bin A-B'!$B1866="*"),"*",SUM('Class Bin A-B'!$B1863:$B1866)) -> * | T31: =IF(OR('Class Bin A-B'!$B1967="*",'Class Bin A-B'!$B1968="*",'Class Bin A-B'!$B1969="*",'Class Bin A-B'!$B1970="*"),"*",SUM('Class Bin A-B'!$B1967:$B1970)) -> * | U31: =IF(OR('Class Bin A-B'!$B2071="*",'Class Bin A-B'!$B2072="*",'Class Bin A-B'!$B2073="*",'Class Bin A-B'!$B2074="*"),"*",SUM('Class Bin A-B'!$B2071:$B2074)) -> * | V31: =IF(OR('Class Bin A-B'!$B2175="*",'Class Bin A-B'!$B2176="*",'Class Bin A-B'!$B2177="*",'Class Bin A-B'!$B2178="*"),"*",SUM('Class Bin A-B'!$B2175:$B2178)) -> * | W31: =IFERROR(AVERAGE(C31:E31,J31:L31,Q31:S31),"-") -> 11.333333 | X31: =IFERROR(AVERAGE(B31:F31,I31:M31,P31:T31),"-") -> 9.8 | Y31: =IFERROR(AVERAGE(B31:V31),"-") -> 7.625
A32: 0.91666667 | B32: =IF(OR('Class Bin A-B'!$B99="*",'Class Bin A-B'!$B100="*",'Class Bin A-B'!$B101="*",'Class Bin A-B'!$B102="*"),"*",SUM('Class Bin A-B'!$B99:$B102)) -> * | C32: =IF(OR('Class Bin A-B'!$B203="*",'Class Bin A-B'!$B204="*",'Class Bin A-B'!$B205="*",'Class Bin A-B'!$B206="*"),"*",SUM('Class Bin A-B'!$B203:$B206)) -> * | D32: =IF(OR('Class Bin A-B'!$B307="*",'Class Bin A-B'!$B308="*",'Class Bin A-B'!$B309="*",'Class Bin A-B'!$B310="*"),"*",SUM('Class Bin A-B'!$B307:$B310)) -> * | E32: =IF(OR('Class Bin A-B'!$B411="*",'Class Bin A-B'!$B412="*",'Class Bin A-B'!$B413="*",'Class Bin A-B'!$B414="*"),"*",SUM('Class Bin A-B'!$B411:$B414)) -> * | F32: =IF(OR('Class Bin A-B'!$B515="*",'Class Bin A-B'!$B516="*",'Class Bin A-B'!$B517="*",'Class Bin A-B'!$B518="*"),"*",SUM('Class Bin A-B'!$B515:$B518)) -> * | G32: =IF(OR('Class Bin A-B'!$B619="*",'Class Bin A-B'!$B620="*",'Class Bin A-B'!$B621="*",'Class Bin A-B'!$B622="*"),"*",SUM('Class Bin A-B'!$B619:$B622)) -> * | H32: =IF(OR('Class Bin A-B'!$B723="*",'Class Bin A-B'!$B724="*",'Class Bin A-B'!$B725="*",'Class Bin A-B'!$B726="*"),"*",SUM('Class Bin A-B'!$B723:$B726)) -> 2 | I32: =IF(OR('Class Bin A-B'!$B827="*",'Class Bin A-B'!$B828="*",'Class Bin A-B'!$B829="*",'Class Bin A-B'!$B830="*"),"*",SUM('Class Bin A-B'!$B827:$B830)) -> 4 | J32: =IF(OR('Class Bin A-B'!$B931="*",'Class Bin A-B'!$B932="*",'Class Bin A-B'!$B933="*",'Class Bin A-B'!$B934="*"),"*",SUM('Class Bin A-B'!$B931:$B934)) -> 3 | K32: =IF(OR('Class Bin A-B'!$B1035="*",'Class Bin A-B'!$B1036="*",'Class Bin A-B'!$B1037="*",'Class Bin A-B'!$B1038="*"),"*",SUM('Class Bin A-B'!$B1035:$B1038)) -> 3 | L32: =IF(OR('Class Bin A-B'!$B1139="*",'Class Bin A-B'!$B1140="*",'Class Bin A-B'!$B1141="*",'Class Bin A-B'!$B1142="*"),"*",SUM('Class Bin A-B'!$B1139:$B1142)) -> 6 | M32: =IF(OR('Class Bin A-B'!$B1243="*",'Class Bin A-B'!$B1244="*",'Class Bin A-B'!$B1245="*",'Class Bin A-B'!$B1246="*"),"*",SUM('Class Bin A-B'!$B1243:$B1246)) -> 4 | N32: =IF(OR('Class Bin A-B'!$B1347="*",'Class Bin A-B'!$B1348="*",'Class Bin A-B'!$B1349="*",'Class Bin A-B'!$B1350="*"),"*",SUM('Class Bin A-B'!$B1347:$B1350)) -> 15 | O32: =IF(OR('Class Bin A-B'!$B1451="*",'Class Bin A-B'!$B1452="*",'Class Bin A-B'!$B1453="*",'Class Bin A-B'!$B1454="*"),"*",SUM('Class Bin A-B'!$B1451:$B1454)) -> 3 | P32: =IF(OR('Class Bin A-B'!$B1555="*",'Class Bin A-B'!$B1556="*",'Class Bin A-B'!$B1557="*",'Class Bin A-B'!$B1558="*"),"*",SUM('Class Bin A-B'!$B1555:$B1558)) -> * | Q32: =IF(OR('Class Bin A-B'!$B1659="*",'Class Bin A-B'!$B1660="*",'Class Bin A-B'!$B1661="*",'Class Bin A-B'!$B1662="*"),"*",SUM('Class Bin A-B'!$B1659:$B1662)) -> * | R32: =IF(OR('Class Bin A-B'!$B1763="*",'Class Bin A-B'!$B1764="*",'Class Bin A-B'!$B1765="*",'Class Bin A-B'!$B1766="*"),"*",SUM('Class Bin A-B'!$B1763:$B1766)) -> * | S32: =IF(OR('Class Bin A-B'!$B1867="*",'Class Bin A-B'!$B1868="*",'Class Bin A-B'!$B1869="*",'Class Bin A-B'!$B1870="*"),"*",SUM('Class Bin A-B'!$B1867:$B1870)) -> * | T32: =IF(OR('Class Bin A-B'!$B1971="*",'Class Bin A-B'!$B1972="*",'Class Bin A-B'!$B1973="*",'Class Bin A-B'!$B1974="*"),"*",SUM('Class Bin A-B'!$B1971:$B1974)) -> * | U32: =IF(OR('Class Bin A-B'!$B2075="*",'Class Bin A-B'!$B2076="*",'Class Bin A-B'!$B2077="*",'Class Bin A-B'!$B2078="*"),"*",SUM('Class Bin A-B'!$B2075:$B2078)) -> * | V32: =IF(OR('Class Bin A-B'!$B2179="*",'Class Bin A-B'!$B2180="*",'Class Bin A-B'!$B2181="*",'Class Bin A-B'!$B2182="*"),"*",SUM('Class Bin A-B'!$B2179:$B2182)) -> * | W32: =IFERROR(AVERAGE(C32:E32,J32:L32,Q32:S32),"-") -> 4 | X32: =IFERROR(AVERAGE(B32:F32,I32:M32,P32:T32),"-") -> 4 | Y32: =IFERROR(AVERAGE(B32:V32),"-") -> 5
A33: 0.95833333 | B33: =IF(OR('Class Bin A-B'!$B103="*",'Class Bin A-B'!$B104="*",'Class Bin A-B'!$B105="*",'Class Bin A-B'!$B106="*"),"*",SUM('Class Bin A-B'!$B103:$B106)) -> * | C33: =IF(OR('Class Bin A-B'!$B207="*",'Class Bin A-B'!$B208="*",'Class Bin A-B'!$B209="*",'Class Bin A-B'!$B210="*"),"*",SUM('Class Bin A-B'!$B207:$B210)) -> * | D33: =IF(OR('Class Bin A-B'!$B311="*",'Class Bin A-B'!$B312="*",'Class Bin A-B'!$B313="*",'Class Bin A-B'!$B314="*"),"*",SUM('Class Bin A-B'!$B311:$B314)) -> * | E33: =IF(OR('Class Bin A-B'!$B415="*",'Class Bin A-B'!$B416="*",'Class Bin A-B'!$B417="*",'Class Bin A-B'!$B418="*"),"*",SUM('Class Bin A-B'!$B415:$B418)) -> * | F33: =IF(OR('Class Bin A-B'!$B519="*",'Class Bin A-B'!$B520="*",'Class Bin A-B'!$B521="*",'Class Bin A-B'!$B522="*"),"*",SUM('Class Bin A-B'!$B519:$B522)) -> * | G33: =IF(OR('Class Bin A-B'!$B623="*",'Class Bin A-B'!$B624="*",'Class Bin A-B'!$B625="*",'Class Bin A-B'!$B626="*"),"*",SUM('Class Bin A-B'!$B623:$B626)) -> * | H33: =IF(OR('Class Bin A-B'!$B727="*",'Class Bin A-B'!$B728="*",'Class Bin A-B'!$B729="*",'Class Bin A-B'!$B730="*"),"*",SUM('Class Bin A-B'!$B727:$B730)) -> 2 | I33: =IF(OR('Class Bin A-B'!$B831="*",'Class Bin A-B'!$B832="*",'Class Bin A-B'!$B833="*",'Class Bin A-B'!$B834="*"),"*",SUM('Class Bin A-B'!$B831:$B834)) -> 1 | J33: =IF(OR('Class Bin A-B'!$B935="*",'Class Bin A-B'!$B936="*",'Class Bin A-B'!$B937="*",'Class Bin A-B'!$B938="*"),"*",SUM('Class Bin A-B'!$B935:$B938)) -> 0 | K33: =IF(OR('Class Bin A-B'!$B1039="*",'Class Bin A-B'!$B1040="*",'Class Bin A-B'!$B1041="*",'Class Bin A-B'!$B1042="*"),"*",SUM('Class Bin A-B'!$B1039:$B1042)) -> 1 | L33: =IF(OR('Class Bin A-B'!$B1143="*",'Class Bin A-B'!$B1144="*",'Class Bin A-B'!$B1145="*",'Class Bin A-B'!$B1146="*"),"*",SUM('Class Bin A-B'!$B1143:$B1146)) -> 6 | M33: =IF(OR('Class Bin A-B'!$B1247="*",'Class Bin A-B'!$B1248="*",'Class Bin A-B'!$B1249="*",'Class Bin A-B'!$B1250="*"),"*",SUM('Class Bin A-B'!$B1247:$B1250)) -> 3 | N33: =IF(OR('Class Bin A-B'!$B1351="*",'Class Bin A-B'!$B1352="*",'Class Bin A-B'!$B1353="*",'Class Bin A-B'!$B1354="*"),"*",SUM('Class Bin A-B'!$B1351:$B1354)) -> 4 | O33: =IF(OR('Class Bin A-B'!$B1455="*",'Class Bin A-B'!$B1456="*",'Class Bin A-B'!$B1457="*",'Class Bin A-B'!$B1458="*"),"*",SUM('Class Bin A-B'!$B1455:$B1458)) -> 0 | P33: =IF(OR('Class Bin A-B'!$B1559="*",'Class Bin A-B'!$B1560="*",'Class Bin A-B'!$B1561="*",'Class Bin A-B'!$B1562="*"),"*",SUM('Class Bin A-B'!$B1559:$B1562)) -> * | Q33: =IF(OR('Class Bin A-B'!$B1663="*",'Class Bin A-B'!$B1664="*",'Class Bin A-B'!$B1665="*",'Class Bin A-B'!$B1666="*"),"*",SUM('Class Bin A-B'!$B1663:$B1666)) -> * | R33: =IF(OR('Class Bin A-B'!$B1767="*",'Class Bin A-B'!$B1768="*",'Class Bin A-B'!$B1769="*",'Class Bin A-B'!$B1770="*"),"*",SUM('Class Bin A-B'!$B1767:$B1770)) -> * | S33: =IF(OR('Class Bin A-B'!$B1871="*",'Class Bin A-B'!$B1872="*",'Class Bin A-B'!$B1873="*",'Class Bin A-B'!$B1874="*"),"*",SUM('Class Bin A-B'!$B1871:$B1874)) -> * | T33: =IF(OR('Class Bin A-B'!$B1975="*",'Class Bin A-B'!$B1976="*",'Class Bin A-B'!$B1977="*",'Class Bin A-B'!$B1978="*"),"*",SUM('Class Bin A-B'!$B1975:$B1978)) -> * | U33: =IF(OR('Class Bin A-B'!$B2079="*",'Class Bin A-B'!$B2080="*",'Class Bin A-B'!$B2081="*",'Class Bin A-B'!$B2082="*"),"*",SUM('Class Bin A-B'!$B2079:$B2082)) -> * | V33: =IF(OR('Class Bin A-B'!$B2183="*",'Class Bin A-B'!$B2184="*",'Class Bin A-B'!$B2185="*",'Class Bin A-B'!$B2186="*"),"*",SUM('Class Bin A-B'!$B2183:$B2186)) -> * | W33: =IFERROR(AVERAGE(C33:E33,J33:L33,Q33:S33),"-") -> 2.3333333 | X33: =IFERROR(AVERAGE(B33:F33,I33:M33,P33:T33),"-") -> 2.2 | Y33: =IFERROR(AVERAGE(B33:V33),"-") -> 2.125
A34: Summary Data | W34: Summary Data
A35: 0700-1900 | B35: =SUM(B17:B28) -> 0 | C35: =SUM(C17:C28) -> 0 | D35: =SUM(D17:D28) -> 0 | E35: =SUM(E17:E28) -> 0 | F35: =SUM(F17:F28) -> 0 | G35: =SUM(G17:G28) -> 0 | H35: =SUM(H17:H28) -> 197 | I35: =SUM(I17:I28) -> 400 | ... Y35: =SUM(Y17:Y28) -> 367.45833
A36: 0600-2200 | B36: =SUM(B16:B31) -> 0 | C36: =SUM(C16:C31) -> 0 | D36: =SUM(D16:D31) -> 0 | E36: =SUM(E16:E31) -> 0 | F36: =SUM(F16:F31) -> 0 | G36: =SUM(G16:G31) -> 0 | H36: =SUM(H16:H31) -> 219 | I36: =SUM(I16:I31) -> 430 | ... Y36: =SUM(Y16:Y31) -> 400.58333
A37: 0600-0000 | B37: =SUM(B16:B33) -> 0 | C37: =SUM(C16:C33) -> 0 | D37: =SUM(D16:D33) -> 0 | E37: =SUM(E16:E33) -> 0 | F37: =SUM(F16:F33) -> 0 | G37: =SUM(G16:G33) -> 0 | H37: =SUM(H16:H33) -> 223 | I37: =SUM(I16:I33) -> 435 | ... Y37: =SUM(Y16:Y33) -> 407.70833
A38: 0000-0000 | B38: =SUM(B10:B33) -> 0 | C38: =SUM(C10:C33) -> 0 | D38: =SUM(D10:D33) -> 0 | E38: =SUM(E10:E33) -> 0 | F38: =SUM(F10:F33) -> 0 | G38: =SUM(G10:G33) -> 0 | H38: =SUM(H10:H33) -> 223 | I38: =SUM(I10:I33) -> 439 | ... Y38: =SUM(Y10:Y33) -> 410.95833
A39: 0700-1000 | B39: =SUM(B17:B19) -> 0 | C39: =SUM(C17:C19) -> 0 | D39: =SUM(D17:D19) -> 0 | E39: =SUM(E17:E19) -> 0 | F39: =SUM(F17:F19) -> 0 | G39: =SUM(G17:G19) -> 0 | H39: =SUM(H17:H19) -> 16 | I39: =SUM(I17:I19) -> 114 | ... Y39: =SUM(Y17:Y19) -> 92.25
A40: 1600-1900 | B40: =SUM(B26:B28) -> 0 | C40: =SUM(C26:C28) -> 0 | D40: =SUM(D26:D28) -> 0 | E40: =SUM(E26:E28) -> 0 | F40: =SUM(F26:F28) -> 0 | G40: =SUM(G26:G28) -> 0 | H40: =SUM(H26:H28) -> 45 | I40: =SUM(I26:I28) -> 184 | ... Y40: =SUM(Y26:Y28) -> 128.25
A41: Peak Hour Analysis | W41: Peak Hour Analysis
A42: 07:00-10:00 | B42: =MAX(B17:B19) -> 0 | C42: =MAX(C17:C19) -> 0 | D42: =MAX(D17:D19) -> 0 | E42: =MAX(E17:E19) -> 0 | F42: =MAX(F17:F19) -> 0 | G42: =MAX(G17:G19) -> 0 | H42: =MAX(H17:H19) -> 16 | I42: =MAX(I17:I19) -> 57 | ... Y42: =MAX(Y17:Y19) -> 46
A43: 10:00-16:00 | B43: =MAX(B20:B25) -> 0 | C43: =MAX(C20:C25) -> 0 | D43: =MAX(D20:D25) -> 0 | E43: =MAX(E20:E25) -> 0 | F43: =MAX(F20:F25) -> 0 | G43: =MAX(G20:G25) -> 0 | H43: =MAX(H20:H25) -> 28 | I43: =MAX(I20:I25) -> 35 | ... Y43: =MAX(Y20:Y25) -> 32.625
A44: 16:00-19:00 | B44: =MAX(B26:B28) -> 0 | C44: =MAX(C26:C28) -> 0 | D44: =MAX(D26:D28) -> 0 | E44: =MAX(E26:E28) -> 0 | F44: =MAX(F26:F28) -> 0 | G44: =MAX(G26:G28) -> 0 | H44: =MAX(H26:H28) -> 22 | I44: =MAX(I26:I28) -> 85 | ... Y44: =MAX(Y26:Y28) -> 62.625
A45: Note: Peak Hour Analysis calculates and then highlights the highest flow within the period listed

Sheet Hourly Flow Summary B-A
A1: Intelligent Data Collection Limited
A3: Period Commencing: | C3: ='Front Cover'!C30 -> 45719
A4: Road Name: | B4: ='Front Cover'!C31 -> High Street
A5: Flow from : | B5: ='Front Cover'!H33 -> The Glebe (E) | D5: to: | E5: ='Front Cover'!D33 -> The Green (W) | H5: Prepared by: | I5: ='QA & Issue'!C14 -> Robyn Short
A6: Vehicle Classification: | C6: All Vehicles | H6: Checked by: | I6: ='QA & Issue'!C16 -> David Brown
B8: Monday | C8: Tuesday | D8: Wednesday | E8: Thursday | F8: Friday | G8: Saturday | H8: Sunday | I8: Monday | J8: Tuesday | K8: Wednesday | L8: Thursday | M8: Friday | N8: Saturday | O8: Sunday | P8: Monday | Q8: Tuesday | R8: Wednesday | S8: Thursday | T8: Friday | U8: Saturday | V8: Sunday | W8: 3-day Average (Tue-Thur) | X8: 5-day Average (Mon-Fri) | Y8: 7-day Average (Mon-Sun)
A9: Hour Starting | B9: ='Front Cover'!C30 -> 45719 | C9: =B9+1 -> 45720 | D9: =C9+1 -> 45721 | E9: =D9+1 -> 45722 | F9: =E9+1 -> 45723 | G9: =F9+1 -> 45724 | H9: =G9+1 -> 45725 | I9: =H9+1 -> 45726 | J9: =I9+1 -> 45727 | ... V9: =U9+1 -> 45739
A10: 0 | B10: =IF(OR('Class Bin B-A'!$B11="*",'Class Bin B-A'!$B12="*",'Class Bin B-A'!$B13="*",'Class Bin B-A'!$B14="*"),"*",SUM('Class Bin B-A'!$B11:$B14)) -> * | C10: =IF(OR('Class Bin B-A'!$B115="*",'Class Bin B-A'!$B116="*",'Class Bin B-A'!$B117="*",'Class Bin B-A'!$B118="*"),"*",SUM('Class Bin B-A'!$B115:$B118)) -> * | D10: =IF(OR('Class Bin B-A'!$B219="*",'Class Bin B-A'!$B220="*",'Class Bin B-A'!$B221="*",'Class Bin B-A'!$B222="*"),"*",SUM('Class Bin B-A'!$B219:$B222)) -> * | E10: =IF(OR('Class Bin B-A'!$B323="*",'Class Bin B-A'!$B324="*",'Class Bin B-A'!$B325="*",'Class Bin B-A'!$B326="*"),"*",SUM('Class Bin B-A'!$B323:$B326)) -> * | F10: =IF(OR('Class Bin B-A'!$B427="*",'Class Bin B-A'!$B428="*",'Class Bin B-A'!$B429="*",'Class Bin B-A'!$B430="*"),"*",SUM('Class Bin B-A'!$B427:$B430)) -> * | G10: =IF(OR('Class Bin B-A'!$B531="*",'Class Bin B-A'!$B532="*",'Class Bin B-A'!$B533="*",'Class Bin B-A'!$B534="*"),"*",SUM('Class Bin B-A'!$B531:$B534)) -> * | H10: =IF(OR('Class Bin B-A'!$B635="*",'Class Bin B-A'!$B636="*",'Class Bin B-A'!$B637="*",'Class Bin B-A'!$B638="*"),"*",SUM('Class Bin B-A'!$B635:$B638)) -> * | I10: =IF(OR('Class Bin B-A'!$B739="*",'Class Bin B-A'!$B740="*",'Class Bin B-A'!$B741="*",'Class Bin B-A'!$B742="*"),"*",SUM('Class Bin B-A'!$B739:$B742)) -> 0 | J10: =IF(OR('Class Bin B-A'!$B843="*",'Class Bin B-A'!$B844="*",'Class Bin B-A'!$B845="*",'Class Bin B-A'!$B846="*"),"*",SUM('Class Bin B-A'!$B843:$B846)) -> 0 | K10: =IF(OR('Class Bin B-A'!$B947="*",'Class Bin B-A'!$B948="*",'Class Bin B-A'!$B949="*",'Class Bin B-A'!$B950="*"),"*",SUM('Class Bin B-A'!$B947:$B950)) -> 2 | L10: =IF(OR('Class Bin B-A'!$B1051="*",'Class Bin B-A'!$B1052="*",'Class Bin B-A'!$B1053="*",'Class Bin B-A'!$B1054="*"),"*",SUM('Class Bin B-A'!$B1051:$B1054)) -> 1 | M10: =IF(OR('Class Bin B-A'!$B1155="*",'Class Bin B-A'!$B1156="*",'Class Bin B-A'!$B1157="*",'Class Bin B-A'!$B1158="*"),"*",SUM('Class Bin B-A'!$B1155:$B1158)) -> 4 | N10: =IF(OR('Class Bin B-A'!$B1259="*",'Class Bin B-A'!$B1260="*",'Class Bin B-A'!$B1261="*",'Class Bin B-A'!$B1262="*"),"*",SUM('Class Bin B-A'!$B1259:$B1262)) -> 1 | O10: =IF(OR('Class Bin B-A'!$B1363="*",'Class Bin B-A'!$B1364="*",'Class Bin B-A'!$B1365="*",'Class Bin B-A'!$B1366="*"),"*",SUM('Class Bin B-A'!$B1363:$B1366)) -> 2 | P10: =IF(OR('Class Bin B-A'!$B1467="*",'Class Bin B-A'!$B1468="*",'Class Bin B-A'!$B1469="*",'Class Bin B-A'!$B1470="*"),"*",SUM('Class Bin B-A'!$B1467:$B1470)) -> 0 | Q10: =IF(OR('Class Bin B-A'!$B1571="*",'Class Bin B-A'!$B1572="*",'Class Bin B-A'!$B1573="*",'Class Bin B-A'!$B1574="*"),"*",SUM('Class Bin B-A'!$B1571:$B1574)) -> * | R10: =IF(OR('Class Bin B-A'!$B1675="*",'Class Bin B-A'!$B1676="*",'Class Bin B-A'!$B1677="*",'Class Bin B-A'!$B1678="*"),"*",SUM('Class Bin B-A'!$B1675:$B1678)) -> * | S10: =IF(OR('Class Bin B-A'!$B1779="*",'Class Bin B-A'!$B1780="*",'Class Bin B-A'!$B1781="*",'Class Bin B-A'!$B1782="*"),"*",SUM('Class Bin B-A'!$B1779:$B1782)) -> * | T10: =IF(OR('Class Bin B-A'!$B1883="*",'Class Bin B-A'!$B1884="*",'Class Bin B-A'!$B1885="*",'Class Bin B-A'!$B1886="*"),"*",SUM('Class Bin B-A'!$B1883:$B1886)) -> * | U10: =IF(OR('Class Bin B-A'!$B1987="*",'Class Bin B-A'!$B1988="*",'Class Bin B-A'!$B1989="*",'Class Bin B-A'!$B1990="*"),"*",SUM('Class Bin B-A'!$B1987:$B1990)) -> * | V10: =IF(OR('Class Bin B-A'!$B2091="*",'Class Bin B-A'!$B2092="*",'Class Bin B-A'!$B2093="*",'Class Bin B-A'!$B2094="*"),"*",SUM('Class Bin B-A'!$B2091:$B2094)) -> * | W10: =IFERROR(AVERAGE(C10:E10,J10:L10,Q10:S10),"-") -> 1 | X10: =IFERROR(AVERAGE(B10:F10,I10:M10,P10:T10),"-") -> 1.1666667 | Y10: =IFERROR(AVERAGE(B10:V10),"-") -> 1.25
