Workbook

Sheet Front Cover
A12: Intelligent Data Collection Limited
A13: Culham
A27: Client: | C27: Oxfordshire CC
A28: Project Number: | C28: ID-0325-0019
A29: Site Number: | C29: Site 2
A30: Week Commencing: | C30: 45719
A31: Road Name: | C31: High Street
A32: Survey Type: | C32: ATC
A33: Direction AB | C33: Flow from | D33: The Green (W) | G33: to | H33: The Glebe (E)
A34: Direction BA | C34: Flow from | D34: =H33 -> The Glebe (E) | G34: to | H34: =D33 -> The Green (W)

Sheet QA & Issue
A1: Quality Assurance and Issue Record
B10: Quality Assurance
B12: Revision | C12: Rev A
B13: Date | C13: 19.03.2025
B14: Prepared by | C14: Robyn Short
B15: Signature
B16: Checked by | C16: David Brown
B17: Signature
B18: Project Director | C18: Paul O'Neill
B19: Signature
B21: Project Number | C21: ='Front Cover'!C28 -> ID-0325-0019
B22: File Ref | C22: ID-0325-0019 Culham - ATC Site 2
B25: Issue Record
B27: Issued to | C27: Date
C28: 19.03.2025
B30: Richard Bowman | C30: E-mail

Sheet Site Details
A1: Intelligent Data Collection Limited
A4: Road Name | C4: ='Front Cover'!C31 -> High Street
A5: Direction AB | C5: ='Front Cover'!D33 -> The Green (W) | F5: to: | G5: ='Front Cover'!H33 -> The Glebe (E)
A6: Direction BA | C6: =G5 -> The Glebe (E) | F6: to: | G6: =C5 -> The Green (W)
A7: Site Co-Ordinates | G7: ATC Start Date | J7: ATC Finish Date | M7: PSL
A8: 51.652070, -1.269810 | G8: {=INDIRECT("'Hourly Flow Summary Two-Way'!"&ADDRESS(9,MATCH(TRUE,INDEX('Hourly Flow Summary Two-Way'!B38:O38>0,0),0)+1))} -> 45725 | J8: {=INDIRECT("'Hourly Flow Summary Two-Way'!"&ADDRESS(9,23-MATCH(TRUE,INDEX(_xlfn.SORTBY('Hourly Flow Summary Two-Way'!B38:V38,COLUMN('Hourly Flow Summary Two-Way'!B38:V38),-1)>0,0),0)))} -> 45733 | M8: 30
A9: Link to location on Google Maps
A10: =HYPERLINK(R15,"Click Here") -> Click Here
A11: Location Plan
R12: http://maps.google.co.uk/maps?hl=en&safe=off&q=
R13: =A8 -> 51.652070, -1.269810
R14: &cr=countryUK|countryGB&um=1&ie=UTF-8&sa=N&tab=wl
R15: =CONCATENATE(R12,R13,R14) -> http://maps.google.co.uk/maps?hl=en&safe=off&q=51.652070, -1.269810&cr=countryUK|countryGB&um=1&ie=UTF-8&sa=N&tab=wl
A31: Photograph Record
B33: 5-day AM Peak Ave Flow | C33: ='Hourly Flow Summary A-B'!$X$39 -> 112.16667 | E33: =CONCATENATE(B33," - ",ROUND(C33,0)) -> 5-day AM Peak Ave Flow - 112 | J33: 5-day AM Peak Ave Flow | K33: ='Hourly Flow Summary B-A'!$X$39 -> 143 | M33: =CONCATENATE(J33," - ",ROUND(K33,0)) -> 5-day AM Peak Ave Flow - 143
B34: 5-day AM Peak Speed (mph) | C34: =AVERAGE('Speed Summary A-B'!$U$18:$U$20) -> 24.473611 | D34: =AVERAGE('Speed Summary A-B'!$V$18:$V$20) -> 29.678333 | E34: =IFERROR(CONCATENATE(B34," - ","Mean ",ROUND(C34,2)," / 85th%ile ",ROUND(D34,2)),CONCATENATE(B34," - ","Mean ",ROUND(C34,2))) -> 5-day AM Peak Speed (mph) - Mean 24.47 / 85th%ile 29.68 | J34: 5-day AM Peak Speed (mph) | K34: =AVERAGE('Speed Summary B-A'!$U$18:$U$20) -> 25.219444 | L34: =AVERAGE('Speed Summary B-A'!$V$18:$V$20) -> 31.844444 | M34: =IFERROR(CONCATENATE(J34," - ","Mean ",ROUND(K34,2)," / 85th%ile ",ROUND(L34,2)),CONCATENATE(J34," - ","Mean ",ROUND(K34,2))) -> 5-day AM Peak Speed (mph) - Mean 25.22 / 85th%ile 31.84
B35: 5-day PM Peak Ave Flow | C35: ='Hourly Flow Summary A-B'!$X$40 -> 176.8 | E35: =CONCATENATE(B35," - ",ROUND(C35,0)) -> 5-day PM Peak Ave Flow - 177 | J35: 5-day PM Peak Ave Flow | K35: ='Hourly Flow Summary B-A'!$X$40 -> 100.2 | M35: =CONCATENATE(J35," - ",ROUND(K35,0)) -> 5-day PM Peak Ave Flow - 100
B36: 5-day PM Peak Speed (mph) | C36: =AVERAGE('Speed Summary A-B'!$U$27:$U$29) -> 24.98625 | D36: =AVERAGE('Speed Summary A-B'!$V$27:$V$29) -> 31.180625 | E36: =IFERROR(CONCATENATE(B36," - ","Mean ",ROUND(C36,2)," / 85th%ile ",ROUND(D36,2)),CONCATENATE(B36," - ","Mean ",ROUND(C36,2))) -> 5-day PM Peak Speed (mph) - Mean 24.99 / 85th%ile 31.18 | J36: 5-day PM Peak Speed (mph) | K36: =AVERAGE('Speed Summary B-A'!$U$27:$U$29) -> 23.785 | L36: =AVERAGE('Speed Summary B-A'!$V$27:$V$29) -> 29.054167 | M36: =IFERROR(CONCATENATE(J36," - ","Mean ",ROUND(K36,2)," / 85th%ile ",ROUND(L36,2)),CONCATENATE(J36," - ","Mean ",ROUND(K36,2))) -> 5-day PM Peak Speed (mph) - Mean 23.79 / 85th%ile 29.05
B37: 5-day Average Weekday Heavies % | C37: =AVERAGE('Class Bin A-B'!R113:V113,'Class Bin A-B'!Y113:AC113,'Class Bin A-B'!AF113:AJ113) -> 0.058115614 | E37: =CONCATENATE(B37," - ",ROUND(C37,3)*100,"%") -> 5-day Average Weekday Heavies % - 5.8% | J37: 5-day Average Weekday Heavies % | K37: =AVERAGE('Class Bin B-A'!R113:V113,'Class Bin B-A'!Y113:AC113,'Class Bin B-A'!AF113:AJ113) -> 0.067888485 | M37: =CONCATENATE(J37," - ",ROUND(K37,3)*100,"%") -> 5-day Average Weekday Heavies % - 6.8%
A52: Comments
A53: The minimum speed threshold to include vehicles in the reports is 5mph. Unclassified vehicles are excluded.
A64: Prepared by | D64: ='QA & Issue'!C14 -> Robyn Short | F64: Checked by | I64: ='QA & Issue'!C16 -> David Brown | K64: Project Director | N64: ='QA & Issue'!C18 -> Paul O'Neill

Sheet General Summary
A1: Intelligent Data Collection Limited
O2: -
A3: ='Front Cover'!C27 -> Oxfordshire CC | O3: Eastbound
O4: Westbound
A5: ='Front Cover'!A13 -> Culham | O5: Northbound
O6: Southbound
A7: Site Summary | O7: North-eastbound
O8: North-westbound
O9: South-eastbound
A10: Site Location | D10: Direction | E10: Start Date | F10: End Date | G10: Posted Speed Limit (PSL) | H10: Total Vehicles | I10: Mean Speed | J10: 85th %ile Speed | K10: 24-hour 5-day Average Flow | L10: 12-hour 7-day Average Flow | M10: 24-hour 7-day Average Flow | N10: % Heavies (inc. buses) | O10: South-westbound
A11: =CONCATENATE('Front Cover'!$C$31," between ",'Front Cover'!D33," and ",'Front Cover'!H33) -> High Street between The Green (W) and The Glebe (E) | D11: Eastbound | E11: ='Site Details'!$G$8 -> 45725 | F11: ='Site Details'!$J$8 -> 45733 | G11: =CONCATENATE('Site Details'!$M$8,"mph") -> 30mph | H11: =SUM('Speed Summary A-B'!$B$70:$T$70) -> 3374 | I11: ='Speed Summary A-B'!$U$70 -> 24.644444 | J11: ='Speed Summary A-B'!$V$70 -> 30.888889 | K11: ='Hourly Flow Summary A-B'!$X$38 -> 491.46667 | L11: ='Hourly Flow Summary A-B'!$Y$35 -> 367.45833 | M11: ='Hourly Flow Summary A-B'!$Y$38 -> 410.95833 | N11: =IFERROR(SUM('Class Bin A-B'!$G$110:$M$110,'Class Bin A-B'!$G$214:$M$214,'Class Bin A-B'!$G$318:$M$318,'Class Bin A-B'!$G$422:$M$422,'Class Bin A-B'!$G$526:$M$526,'Class Bin A-B'!$G$630:$M$630,'Class Bin A-B'!$G$734:$M$734,'Class Bin A-B'!$G$838:$M$838,'Class Bin A-B'!$G$942:$M$942,'Class Bin A-B'!$G$1046:$M$1046,'Class Bin A-B'!$G$1150:$M$1150,'Class Bin A-B'!$G$1254:$M$1254,'Class Bin A-B'!$G$1358:$M$1358,'Class Bin A-B'!$G$1462:$M$1462,'Class Bin A-B'!$G$1566:$M$1566,'Class Bin A-B'!$G$1670:$M$1670,'Class Bin A-B'!$G$1774:$M$1774,'Class Bin A-B'!$G$1878:$M$1878,'Class Bin A-B'!$G$1982:$M$1982,'Class Bin A-B'!$G$2086:$M$2086,'Class Bin A-B'!$G$2190:$M$2190)/(SUM('Class Bin A-B'!$B$110,'Class Bin A-B'!$B$214,'Class Bin A-B'!$B$318,'Class Bin A-B'!$B$422,'Class Bin A-B'!$B$526,'Class Bin A-B'!$B$630,'Class Bin A-B'!$B$734,'Class Bin A-B'!$B$838,'Class Bin A-B'!$B$942,'Class Bin A-B'!$B$1046,'Class Bin A-B'!$B$1150,'Class Bin A-B'!$B$1254,'Class Bin A-B'!$B$1358,'Class Bin A-B'!$B$1462,'Class Bin A-B'!$B$1566,'Class Bin A-B'!$B$1670,'Class Bin A-B'!$B$1774,'Class Bin A-B'!$B$1878,'Class Bin A-B'!$B$1982,'Class Bin A-B'!$B$2086,'Class Bin A-B'!$B$2190)),0) -> 0.059276823
A12: =CONCATENATE('Front Cover'!$C$31," between ",'Front Cover'!D34," and ",'Front Cover'!H34) -> High Street between The Glebe (E) and The Green (W) | D12: Westbound | E12: ='Site Details'!$G$8 -> 45725 | F12: ='Site Details'!$J$8 -> 45733 | G12: =CONCATENATE('Site Details'!$M$8,"mph") -> 30mph | H12: =SUM('Speed Summary B-A'!$B$70:$T$70) -> 3360 | I12: ='Speed Summary B-A'!$U$70 -> 24.2 | J12: ='Speed Summary B-A'!$V$70 -> 30.3 | K12: ='Hourly Flow Summary B-A'!$X$38 -> 462.46667 | L12: ='Hourly Flow Summary B-A'!$Y$35 -> 357.90278 | M12: ='Hourly Flow Summary B-A'!$Y$38 -> 405.52778 | N12: =IFERROR(SUM('Class Bin B-A'!$G$110:$M$110,'Class Bin B-A'!$G$214:$M$214,'Class Bin B-A'!$G$318:$M$318,'Class Bin B-A'!$G$422:$M$422,'Class Bin B-A'!$G$526:$M$526,'Class Bin B-A'!$G$630:$M$630,'Class Bin B-A'!$G$734:$M$734,'Class Bin B-A'!$G$838:$M$838,'Class Bin B-A'!$G$942:$M$942,'Class Bin B-A'!$G$1046:$M$1046,'Class Bin B-A'!$G$1150:$M$1150,'Class Bin B-A'!$G$1254:$M$1254,'Class Bin B-A'!$G$1358:$M$1358,'Class Bin B-A'!$G$1462:$M$1462,'Class Bin B-A'!$G$1566:$M$1566,'Class Bin B-A'!$G$1670:$M$1670,'Class Bin B-A'!$G$1774:$M$1774,'Class Bin B-A'!$G$1878:$M$1878,'Class Bin B-A'!$G$1982:$M$1982,'Class Bin B-A'!$G$2086:$M$2086,'Class Bin B-A'!$G$2190:$M$2190)/(SUM('Class Bin B-A'!$B$110,'Class Bin B-A'!$B$214,'Class Bin B-A'!$B$318,'Class Bin B-A'!$B$422,'Class Bin B-A'!$B$526,'Class Bin B-A'!$B$630,'Class Bin B-A'!$B$734,'Class Bin B-A'!$B$838,'Class Bin B-A'!$B$942,'Class Bin B-A'!$B$1046,'Class Bin B-A'!$B$1150,'Class Bin B-A'!$B$1254,'Class Bin B-A'!$B$1358,'Class Bin B-A'!$B$1462,'Class Bin B-A'!$B$1566,'Class Bin B-A'!$B$1670,'Class Bin B-A'!$B$1774,'Class Bin B-A'!$B$1878,'Class Bin B-A'!$B$1982,'Class Bin B-A'!$B$2086,'Class Bin B-A'!$B$2190)),0) -> 0.068154762
A13: Flow Reporting
A16: A-B Hourly Summary Data | F16: B-A Hourly Summary Data | K16: Two-Way Hourly Summary Data
A17: Time Interval | B17: ='Hourly Flow Summary A-B'!W8 -> 3-day Average (Tue-Thur) | C17: ='Hourly Flow Summary A-B'!X8 -> 5-day Average (Mon-Fri) | D17: ='Hourly Flow Summary A-B'!Y8 -> 7-day Average (Mon-Sun) | F17: Time Interval | G17: ='Hourly Flow Summary B-A'!W8 -> 3-day Average (Tue-Thur) | H17: ='Hourly Flow Summary B-A'!X8 -> 5-day Average (Mon-Fri) | I17: ='Hourly Flow Summary B-A'!Y8 -> 7-day Average (Mon-Sun) | K17: Time Interval | L17: =G17 -> 3-day Average (Tue-Thur) | M17: =H17 -> 5-day Average (Mon-Fri) | N17: =I17 -> 7-day Average (Mon-Sun)
A18: ='Hourly Flow Summary A-B'!A10 -> 0 | B18: ='Hourly Flow Summary A-B'!W10 -> 0.66666667 | C18: ='Hourly Flow Summary A-B'!X10 -> 0.5 | D18: ='Hourly Flow Summary A-B'!Y10 -> 0.75 | F18: ='Hourly Flow Summary B-A'!A10 -> 0 | G18: ='Hourly Flow Summary B-A'!W10 -> 1 | H18: ='Hourly Flow Summary B-A'!X10 -> 1.1666667 | I18: ='Hourly Flow Summary B-A'!Y10 -> 1.25 | K18: =F18 -> 0 | L18: ='Hourly Flow Summary Two-Way'!W10 -> 1.6666667 | M18: ='Hourly Flow Summary Two-Way'!X10 -> 1.6666667 | N18: ='Hourly Flow Summary Two-Way'!Y10 -> 2
A19: ='Hourly Flow Summary A-B'!A11 -> 0.041666667 | B19: ='Hourly Flow Summary A-B'!W11 -> 0.66666667 | C19: ='Hourly Flow Summary A-B'!X11 -> 1.1666667 | D19: ='Hourly Flow Summary A-B'!Y11 -> 1 | F19: ='Hourly Flow Summary B-A'!A11 -> 0.041666667 | G19: ='Hourly Flow Summary B-A'!W11 -> 0.33333333 | H19: ='Hourly Flow Summary B-A'!X11 -> 0.5 | I19: ='Hourly Flow Summary B-A'!Y11 -> 0.5 | K19: =F19 -> 0.041666667 | L19: ='Hourly Flow Summary Two-Way'!W11 -> 1 | M19: ='Hourly Flow Summary Two-Way'!X11 -> 1.6666667 | N19: ='Hourly Flow Summary Two-Way'!Y11 -> 1.5
A20: ='Hourly Flow Summary A-B'!A12 -> 0.083333333 | B20: ='Hourly Flow Summary A-B'!W12 -> 0 | C20: ='Hourly Flow Summary A-B'!X12 -> 0.16666667 | D20: ='Hourly Flow Summary A-B'!Y12 -> 0.5 | F20: ='Hourly Flow Summary B-A'!A12 -> 0.083333333 | G20: ='Hourly Flow Summary B-A'!W12 -> 0.33333333 | H20: ='Hourly Flow Summary B-A'!X12 -> 0.83333333 | I20: ='Hourly Flow Summary B-A'!Y12 -> 0.75 | K20: =F20 -> 0.083333333 | L20: ='Hourly Flow Summary Two-Way'!W12 -> 0.33333333 | M20: ='Hourly Flow Summary Two-Way'!X12 -> 1 | N20: ='Hourly Flow Summary Two-Way'!Y12 -> 1.25
A21: ='Hourly Flow Summary A-B'!A13 -> 0.125 | B21: ='Hourly Flow Summary A-B'!W13 -> 0 | C21: ='Hourly Flow Summary A-B'!X13 -> 0.16666667 | D21: ='Hourly Flow Summary A-B'!Y13 -> 0.375 | F21: ='Hourly Flow Summary B-A'!A13 -> 0.125 | G21: ='Hourly Flow Summary B-A'!W13 -> 0.33333333 | H21: ='Hourly Flow Summary B-A'!X13 -> 0.33333333 | I21: ='Hourly Flow Summary B-A'!Y13 -> 0.5 | K21: =F21 -> 0.125 | L21: ='Hourly Flow Summary Two-Way'!W13 -> 0.33333333 | M21: ='Hourly Flow Summary Two-Way'!X13 -> 0.5 | N21: ='Hourly Flow Summary Two-Way'!Y13 -> 0.875
A22: ='Hourly Flow Summary A-B'!A14 -> 0.16666667 | B22: ='Hourly Flow Summary A-B'!W14 -> 0.33333333 | C22: ='Hourly Flow Summary A-B'!X14 -> 0.16666667 | D22: ='Hourly Flow Summary A-B'!Y14 -> 0.125 | F22: ='Hourly Flow Summary B-A'!A14 -> 0.16666667 | G22: ='Hourly Flow Summary B-A'!W14 -> 0 | H22: ='Hourly Flow Summary B-A'!X14 -> 0.33333333 | I22: ='Hourly Flow Summary B-A'!Y14 -> 0.375 | K22: =F22 -> 0.16666667 | L22: ='Hourly Flow Summary Two-Way'!W14 -> 0.33333333 | M22: ='Hourly Flow Summary Two-Way'!X14 -> 0.5 | N22: ='Hourly Flow Summary Two-Way'!Y14 -> 0.5
A23: ='Hourly Flow Summary A-B'!A15 -> 0.20833333 | B23: ='Hourly Flow Summary A-B'!W15 -> 0.33333333 | C23: ='Hourly Flow Summary A-B'!X15 -> 0.66666667 | D23: ='Hourly Flow Summary A-B'!Y15 -> 0.5 | F23: ='Hourly Flow Summary B-A'!A15 -> 0.20833333 | G23: ='Hourly Flow Summary B-A'!W15 -> 1.3333333 | H23: ='Hourly Flow Summary B-A'!X15 -> 1 | I23: ='Hourly Flow Summary B-A'!Y15 -> 1.25 | K23: =F23 -> 0.20833333 | L23: ='Hourly Flow Summary Two-Way'!W15 -> 1.6666667 | M23: ='Hourly Flow Summary Two-Way'!X15 -> 1.6666667 | N23: ='Hourly Flow Summary Two-Way'!Y15 -> 1.75
A24: ='Hourly Flow Summary A-B'!A16 -> 0.25 | B24: ='Hourly Flow Summary A-B'!W16 -> 6 | C24: ='Hourly Flow Summary A-B'!X16 -> 6.3333333 | D24: ='Hourly Flow Summary A-B'!Y16 -> 5.5 | F24: ='Hourly Flow Summary B-A'!A16 -> 0.25 | G24: ='Hourly Flow Summary B-A'!W16 -> 13.333333 | H24: ='Hourly Flow Summary B-A'!X16 -> 14.666667 | I24: ='Hourly Flow Summary B-A'!Y16 -> 12 | K24: =F24 -> 0.25 | L24: ='Hourly Flow Summary Two-Way'!W16 -> 19.333333 | M24: ='Hourly Flow Summary Two-Way'!X16 -> 21 | N24: ='Hourly Flow Summary Two-Way'!Y16 -> 17.5
A25: ='Hourly Flow Summary A-B'!A17 -> 0.29166667 | B25: ='Hourly Flow Summary A-B'!W17 -> 32.666667 | C25: ='Hourly Flow Summary A-B'!X17 -> 36.166667 | D25: ='Hourly Flow Summary A-B'!Y17 -> 28.25 | F25: ='Hourly Flow Summary B-A'!A17 -> 0.29166667 | G25: ='Hourly Flow Summary B-A'!W17 -> 49 | H25: ='Hourly Flow Summary B-A'!X17 -> 54.333333 | I25: ='Hourly Flow Summary B-A'!Y17 -> 42.375 | K25: =F25 -> 0.29166667 | L25: ='Hourly Flow Summary Two-Way'!W17 -> 81.666667 | M25: ='Hourly Flow Summary Two-Way'!X17 -> 90.5 | N25: ='Hourly Flow Summary Two-Way'!Y17 -> 70.625
A26: ='Hourly Flow Summary A-B'!A18 -> 0.33333333 | B26: ='Hourly Flow Summary A-B'!W18 -> 60.666667 | C26: ='Hourly Flow Summary A-B'!X18 -> 58.833333 | D26: ='Hourly Flow Summary A-B'!Y18 -> 46 | F26: ='Hourly Flow Summary B-A'!A18 -> 0.33333333 | G26: ='Hourly Flow Summary B-A'!W18 -> 57.666667 | H26: ='Hourly Flow Summary B-A'!X18 -> 57.166667 | I26: ='Hourly Flow Summary B-A'!Y18 -> 48.25 | K26: =F26 -> 0.33333333 | L26: ='Hourly Flow Summary Two-Way'!W18 -> 118.33333 | M26: ='Hourly Flow Summary Two-Way'!X18 -> 116 | N26: ='Hourly Flow Summary Two-Way'!Y18 -> 94.25
A27: ='Hourly Flow Summary A-B'!A19 -> 0.375 | B27: ='Hourly Flow Summary A-B'!W19 -> 15.666667 | C27: ='Hourly Flow Summary A-B'!X19 -> 17.166667 | D27: ='Hourly Flow Summary A-B'!Y19 -> 18 | F27: ='Hourly Flow Summary B-A'!A19 -> 0.375 | G27: ='Hourly Flow Summary B-A'!W19 -> 31.666667 | H27: ='Hourly Flow Summary B-A'!X19 -> 31.5 | I27: ='Hourly Flow Summary B-A'!Y19 -> 29.111111 | K27: =F27 -> 0.375 | L27: ='Hourly Flow Summary Two-Way'!W19 -> 47.333333 | M27: ='Hourly Flow Summary Two-Way'!X19 -> 48.666667 | N27: ='Hourly Flow Summary Two-Way'!Y19 -> 47.111111
A28: ='Hourly Flow Summary A-B'!A20 -> 0.41666667 | B28: ='Hourly Flow Summary A-B'!W20 -> 16.333333 | C28: ='Hourly Flow Summary A-B'!X20 -> 16.666667 | D28: ='Hourly Flow Summary A-B'!Y20 -> 19.222222 | F28: ='Hourly Flow Summary B-A'!A20 -> 0.41666667 | G28: ='Hourly Flow Summary B-A'!W20 -> 28.333333 | H28: ='Hourly Flow Summary B-A'!X20 -> 25 | I28: ='Hourly Flow Summary B-A'!Y20 -> 26.777778 | K28: =F28 -> 0.41666667 | L28: ='Hourly Flow Summary Two-Way'!W20 -> 44.666667 | M28: ='Hourly Flow Summary Two-Way'!X20 -> 41.666667 | N28: ='Hourly Flow Summary Two-Way'!Y20 -> 46
A29: ='Hourly Flow Summary A-B'!A21 -> 0.45833333 | B29: ='Hourly Flow Summary A-B'!W21 -> 23 | C29: ='Hourly Flow Summary A-B'!X21 -> 23 | D29: ='Hourly Flow Summary A-B'!Y21 -> 22.777778 | F29: ='Hourly Flow Summary B-A'!A21 -> 0.45833333 | G29: ='Hourly Flow Summary B-A'!W21 -> 31.333333 | H29: ='Hourly Flow Summary B-A'!X21 -> 30.333333 | I29: ='Hourly Flow Summary B-A'!Y21 -> 29 | K29: =F29 -> 0.45833333 | L29: ='Hourly Flow Summary Two-Way'!W21 -> 54.333333 | M29: ='Hourly Flow Summary Two-Way'!X21 -> 53.333333 | N29: ='Hourly Flow Summary Two-Way'!Y21 -> 51.777778
... A41: ='Hourly Flow Summary A-B'!A33 -> 0.95833333 | B41: ='Hourly Flow Summary A-B'!W33 -> 2.3333333 | C41: ='Hourly Flow Summary A-B'!X33 -> 2.2 | D41: ='Hourly Flow Summary A-B'!Y33 -> 2.125 | F41: ='Hourly Flow Summary B-A'!A33 -> 0.95833333 | G41: ='Hourly Flow Summary B-A'!W33 -> 2 | H41: ='Hourly Flow Summary B-A'!X33 -> 1.8 | I41: ='Hourly Flow Summary B-A'!Y33 -> 1.625 | K41: =F41 -> 0.95833333 | L41: ='Hourly Flow Summary Two-Way'!W33 -> 4.3333333 | M41: ='Hourly Flow Summary Two-Way'!X33 -> 4 | N41: ='Hourly Flow Summary Two-Way'!Y33 -> 3.75
A42: ='Hourly Flow Summary A-B'!A39 -> 0700-1000 | B42: ='Hourly Flow Summary A-B'!W39 -> 109 | C42: ='Hourly Flow Summary A-B'!X39 -> 112.16667 | D42: ='Hourly Flow Summary A-B'!Y39 -> 92.25 | F42: ='Hourly Flow Summary B-A'!A39 -> 0700-1000 | G42: ='Hourly Flow Summary B-A'!W39 -> 138.33333 | H42: ='Hourly Flow Summary B-A'!X39 -> 143 | I42: ='Hourly Flow Summary B-A'!Y39 -> 119.73611 | K42: =F42 -> 0700-1000 | L42: ='Hourly Flow Summary Two-Way'!W39 -> 247.33333 | M42: ='Hourly Flow Summary Two-Way'!X39 -> 255.16667 | N42: ='Hourly Flow Summary Two-Way'!Y39 -> 211.98611
A43: ='Hourly Flow Summary A-B'!A40 -> 1600-1900 | B43: ='Hourly Flow Summary A-B'!W40 -> 186.66667 | C43: ='Hourly Flow Summary A-B'!X40 -> 176.8 | D43: ='Hourly Flow Summary A-B'!Y40 -> 128.25 | F43: ='Hourly Flow Summary B-A'!A40 -> 1600-1900 | G43: ='Hourly Flow Summary B-A'!W40 -> 106.33333 | H43: ='Hourly Flow Summary B-A'!X40 -> 100.2 | I43: ='Hourly Flow Summary B-A'!Y40 -> 78.875 | K43: =F43 -> 1600-1900 | L43: ='Hourly Flow Summary Two-Way'!W40 -> 293 | M43: ='Hourly Flow Summary Two-Way'!X40 -> 277 | N43: ='Hourly Flow Summary Two-Way'!Y40 -> 207.125
H44: 0.28125
H45: 0.29166667
H46: 0.30208333
H47: 0.3125
H48: 0.32291667
H49: 0.33333333
H50: 0.34375
H51: 0.35416667
H52: 0.36458333
H53: 0.375
...

Sheet Mean Speed Map
A1: Intelligent Data Collection Limited
A3: Client: | C3: ='Front Cover'!C27 -> Oxfordshire CC
A4: Project Number: | C4: ='Front Cover'!C28 -> ID-0325-0019
A5: Site Number: | C5: ='Front Cover'!C29 -> Site 2
A6: Flow from: | C6: ='Front Cover'!D33 -> The Green (W) | G6: to: | H6: ='Front Cover'!H33 -> The Glebe (E) | X6: Flow from: | Z6: ='Front Cover'!D34 -> The Glebe (E) | AD6: to: | AE6: ='Front Cover'!H34 -> The Green (W)
A8: Direction A-B | X8: Direction B-A
A10: Time | B10: ='Front Cover'!C30 -> 45719 | C10: =B10+1 -> 45720 | D10: =C10+1 -> 45721 | E10: =D10+1 -> 45722 | F10: =E10+1 -> 45723 | G10: =F10+1 -> 45724 | H10: =G10+1 -> 45725 | I10: =H10+1 -> 45726 | J10: =I10+1 -> 45727 | ... V10: =U10+1 -> 45739 | X10: Time | Y10: =B10 -> 45719 | Z10: =C10 -> 45720 | AA10: =D10 -> 45721 | AB10: =E10 -> 45722 | AC10: =F10 -> 45723 | AD10: =G10 -> 45724 | AE10: =H10 -> 45725 | AF10: =I10 -> 45726 | ... AS10: =V10 -> 45739
A11: 0 | B11: =IFERROR('Class Bin A-B'!R11/'Class Bin A-B'!R$107,0) -> 0 | C11: =IFERROR('Class Bin A-B'!S11/'Class Bin A-B'!S$107,0) -> 0 | D11: =IFERROR('Class Bin A-B'!T11/'Class Bin A-B'!T$107,0) -> 0 | E11: =IFERROR('Class Bin A-B'!U11/'Class Bin A-B'!U$107,0) -> 0 | F11: =IFERROR('Class Bin A-B'!V11/'Class Bin A-B'!V$107,0) -> 0 | G11: =IFERROR('Class Bin A-B'!W11/'Class Bin A-B'!W$107,0) -> 0 | H11: =IFERROR('Class Bin A-B'!X11/'Class Bin A-B'!X$107,0) -> 0 | I11: =IFERROR('Class Bin A-B'!Y11/'Class Bin A-B'!Y$107,0) -> 0 | ... V11: =IFERROR('Class Bin A-B'!AL11/'Class Bin A-B'!AL$107,0) -> 0 | X11: 0 | Y11: =IFERROR('Class Bin B-A'!R11/'Class Bin B-A'!R$107,0) -> 0 | Z11: =IFERROR('Class Bin B-A'!S11/'Class Bin B-A'!S$107,0) -> 0 | AA11: =IFERROR('Class Bin B-A'!T11/'Class Bin B-A'!T$107,0) -> 0 | AB11: =IFERROR('Class Bin B-A'!U11/'Class Bin B-A'!U$107,0) -> 0 | AC11: =IFERROR('Class Bin B-A'!V11/'Class Bin B-A'!V$107,0) -> 0 | AD11: =IFERROR('Class Bin B-A'!W11/'Class Bin B-A'!W$107,0) -> 0 | AE11: =IFERROR('Class Bin B-A'!X11/'Class Bin B-A'!X$107,0) -> 0 | AF11: =IFERROR('Class Bin B-A'!Y11/'Class Bin B-A'!Y$107,0) -> 0 | ... AS11: =IFERROR('Class Bin B-A'!AL11/'Class Bin B-A'!AL$107,0) -> 0
A12: 0.010416667 | B12: =IFERROR('Class Bin A-B'!R12/'Class Bin A-B'!R$107,0) -> 0 | C12: =IFERROR('Class Bin A-B'!S12/'Class Bin A-B'!S$107,0) -> 0 | D12: =IFERROR('Class Bin A-B'!T12/'Class Bin A-B'!T$107,0) -> 0 | E12: =IFERROR('Class Bin A-B'!U12/'Class Bin A-B'!U$107,0) -> 0 | F12: =IFERROR('Class Bin A-B'!V12/'Class Bin A-B'!V$107,0) -> 0 | G12: =IFERROR('Class Bin A-B'!W12/'Class Bin A-B'!W$107,0) -> 0 | H12: =IFERROR('Class Bin A-B'!X12/'Class Bin A-B'!X$107,0) -> 0 | I12: =IFERROR('Class Bin A-B'!Y12/'Class Bin A-B'!Y$107,0) -> 0 | ... V12: =IFERROR('Class Bin A-B'!AL12/'Class Bin A-B'!AL$107,0) -> 0 | X12: 0.010416667 | Y12: =IFERROR('Class Bin B-A'!R12/'Class Bin B-A'!R$107,0) -> 0 | Z12: =IFERROR('Class Bin B-A'!S12/'Class Bin B-A'!S$107,0) -> 0 | AA12: =IFERROR('Class Bin B-A'!T12/'Class Bin B-A'!T$107,0) -> 0 | AB12: =IFERROR('Class Bin B-A'!U12/'Class Bin B-A'!U$107,0) -> 0 | AC12: =IFERROR('Class Bin B-A'!V12/'Class Bin B-A'!V$107,0) -> 0 | AD12: =IFERROR('Class Bin B-A'!W12/'Class Bin B-A'!W$107,0) -> 0 | AE12: =IFERROR('Class Bin B-A'!X12/'Class Bin B-A'!X$107,0) -> 0 | AF12: =IFERROR('Class Bin B-A'!Y12/'Class Bin B-A'!Y$107,0) -> 0 | ... AS12: =IFERROR('Class Bin B-A'!AL12/'Class Bin B-A'!AL$107,0) -> 0
A13: 0.020833333 | B13: =IFERROR('Class Bin A-B'!R13/'Class Bin A-B'!R$107,0) -> 0 | C13: =IFERROR('Class Bin A-B'!S13/'Class Bin A-B'!S$107,0) -> 0 | D13: =IFERROR('Class Bin A-B'!T13/'Class Bin A-B'!T$107,0) -> 0 | E13: =IFERROR('Class Bin A-B'!U13/'Class Bin A-B'!U$107,0) -> 0 | F13: =IFERROR('Class Bin A-B'!V13/'Class Bin A-B'!V$107,0) -> 0 | G13: =IFERROR('Class Bin A-B'!W13/'Class Bin A-B'!W$107,0) -> 0 | H13: =IFERROR('Class Bin A-B'!X13/'Class Bin A-B'!X$107,0) -> 0 | I13: =IFERROR('Class Bin A-B'!Y13/'Class Bin A-B'!Y$107,0) -> 0 | ... V13: =IFERROR('Class Bin A-B'!AL13/'Class Bin A-B'!AL$107,0) -> 0 | X13: 0.020833333 | Y13: =IFERROR('Class Bin B-A'!R13/'Class Bin B-A'!R$107,0) -> 0 | Z13: =IFERROR('Class Bin B-A'!S13/'Class Bin B-A'!S$107,0) -> 0 | AA13: =IFERROR('Class Bin B-A'!T13/'Class Bin B-A'!T$107,0) -> 0 | AB13: =IFERROR('Class Bin B-A'!U13/'Class Bin B-A'!U$107,0) -> 0 | AC13: =IFERROR('Class Bin B-A'!V13/'Class Bin B-A'!V$107,0) -> 0 | AD13: =IFERROR('Class Bin B-A'!W13/'Class Bin B-A'!W$107,0) -> 0 | AE13: =IFERROR('Class Bin B-A'!X13/'Class Bin B-A'!X$107,0) -> 0 | AF13: =IFERROR('Class Bin B-A'!Y13/'Class Bin B-A'!Y$107,0) -> 0 | ... AS13: =IFERROR('Class Bin B-A'!AL13/'Class Bin B-A'!AL$107,0) -> 0
A14: 0.03125 | B14: =IFERROR('Class Bin A-B'!R14/'Class Bin A-B'!R$107,0) -> 0 | C14: =IFERROR('Class Bin A-B'!S14/'Class Bin A-B'!S$107,0) -> 0 | D14: =IFERROR('Class Bin A-B'!T14/'Class Bin A-B'!T$107,0) -> 0 | E14: =IFERROR('Class Bin A-B'!U14/'Class Bin A-B'!U$107,0) -> 0 | F14: =IFERROR('Class Bin A-B'!V14/'Class Bin A-B'!V$107,0) -> 0 | G14: =IFERROR('Class Bin A-B'!W14/'Class Bin A-B'!W$107,0) -> 0 | H14: =IFERROR('Class Bin A-B'!X14/'Class Bin A-B'!X$107,0) -> 0 | I14: =IFERROR('Class Bin A-B'!Y14/'Class Bin A-B'!Y$107,0) -> 0 | ... V14: =IFERROR('Class Bin A-B'!AL14/'Class Bin A-B'!AL$107,0) -> 0 | X14: 0.03125 | Y14: =IFERROR('Class Bin B-A'!R14/'Class Bin B-A'!R$107,0) -> 0 | Z14: =IFERROR('Class Bin B-A'!S14/'Class Bin B-A'!S$107,0) -> 0 | AA14: =IFERROR('Class Bin B-A'!T14/'Class Bin B-A'!T$107,0) -> 0 | AB14: =IFERROR('Class Bin B-A'!U14/'Class Bin B-A'!U$107,0) -> 0 | AC14: =IFERROR('Class Bin B-A'!V14/'Class Bin B-A'!V$107,0) -> 0 | AD14: =IFERROR('Class Bin B-A'!W14/'Class Bin B-A'!W$107,0) -> 0 | AE14: =IFERROR('Class Bin B-A'!X14/'Class Bin B-A'!X$107,0) -> 0 | AF14: =IFERROR('Class Bin B-A'!Y14/'Class Bin B-A'!Y$107,0) -> 0 | ... AS14: =IFERROR('Class Bin B-A'!AL14/'Class Bin B-A'!AL$107,0) -> 0
A15: 0.041666667 | B15: =IFERROR('Class Bin A-B'!R15/'Class Bin A-B'!R$107,0) -> 0 | C15: =IFERROR('Class Bin A-B'!S15/'Class Bin A-B'!S$107,0) -> 0 | D15: =IFERROR('Class Bin A-B'!T15/'Class Bin A-B'!T$107,0) -> 0 | E15: =IFERROR('Class Bin A-B'!U15/'Class Bin A-B'!U$107,0) -> 0 | F15: =IFERROR('Class Bin A-B'!V15/'Class Bin A-B'!V$107,0) -> 0 | G15: =IFERROR('Class Bin A-B'!W15/'Class Bin A-B'!W$107,0) -> 0 | H15: =IFERROR('Class Bin A-B'!X15/'Class Bin A-B'!X$107,0) -> 0 | I15: =IFERROR('Class Bin A-B'!Y15/'Class Bin A-B'!Y$107,0) -> 1.305136 | ... V15: =IFERROR('Class Bin A-B'!AL15/'Class Bin A-B'!AL$107,0) -> 0 | X15: 0.041666667 | Y15: =IFERROR('Class Bin B-A'!R15/'Class Bin B-A'!R$107,0) -> 0 | Z15: =IFERROR('Class Bin B-A'!S15/'Class Bin B-A'!S$107,0) -> 0 | AA15: =IFERROR('Class Bin B-A'!T15/'Class Bin B-A'!T$107,0) -> 0 | AB15: =IFERROR('Class Bin B-A'!U15/'Class Bin B-A'!U$107,0) -> 0 | AC15: =IFERROR('Class Bin B-A'!V15/'Class Bin B-A'!V$107,0) -> 0 | AD15: =IFERROR('Class Bin B-A'!W15/'Class Bin B-A'!W$107,0) -> 0 | AE15: =IFERROR('Class Bin B-A'!X15/'Class Bin B-A'!X$107,0) -> 0 | AF15: =IFERROR('Class Bin B-A'!Y15/'Class Bin B-A'!Y$107,0) -> 0.59893048 | ... AS15: =IFERROR('Class Bin B-A'!AL15/'Class Bin B-A'!AL$107,0) -> 0
A16: 0.052083333 | B16: =IFERROR('Class Bin A-B'!R16/'Class Bin A-B'!R$107,0) -> 0 | C16: =IFERROR('Class Bin A-B'!S16/'Class Bin A-B'!S$107,0) -> 0 | D16: =IFERROR('Class Bin A-B'!T16/'Class Bin A-B'!T$107,0) -> 0 | E16: =IFERROR('Class Bin A-B'!U16/'Class Bin A-B'!U$107,0) -> 0 | F16: =IFERROR('Class Bin A-B'!V16/'Class Bin A-B'!V$107,0) -> 0 | G16: =IFERROR('Class Bin A-B'!W16/'Class Bin A-B'!W$107,0) -> 0 | H16: =IFERROR('Class Bin A-B'!X16/'Class Bin A-B'!X$107,0) -> 0 | I16: =IFERROR('Class Bin A-B'!Y16/'Class Bin A-B'!Y$107,0) -> 0 | ... V16: =IFERROR('Class Bin A-B'!AL16/'Class Bin A-B'!AL$107,0) -> 0 | X16: 0.052083333 | Y16: =IFERROR('Class Bin B-A'!R16/'Class Bin B-A'!R$107,0) -> 0 | Z16: =IFERROR('Class Bin B-A'!S16/'Class Bin B-A'!S$107,0) -> 0 | AA16: =IFERROR('Class Bin B-A'!T16/'Class Bin B-A'!T$107,0) -> 0 | AB16: =IFERROR('Class Bin B-A'!U16/'Class Bin B-A'!U$107,0) -> 0 | AC16: =IFERROR('Class Bin B-A'!V16/'Class Bin B-A'!V$107,0) -> 0 | AD16: =IFERROR('Class Bin B-A'!W16/'Class Bin B-A'!W$107,0) -> 0 | AE16: =IFERROR('Class Bin B-A'!X16/'Class Bin B-A'!X$107,0) -> 0 | AF16: =IFERROR('Class Bin B-A'!Y16/'Class Bin B-A'!Y$107,0) -> 0 | ... AS16: =IFERROR('Class Bin B-A'!AL16/'Class Bin B-A'!AL$107,0) -> 0
A17: 0.0625 | B17: =IFERROR('Class Bin A-B'!R17/'Class Bin A-B'!R$107,0) -> 0 | C17: =IFERROR('Class Bin A-B'!S17/'Class Bin A-B'!S$107,0) -> 0 | D17: =IFERROR('Class Bin A-B'!T17/'Class Bin A-B'!T$107,0) -> 0 | E17: =IFERROR('Class Bin A-B'!U17/'Class Bin A-B'!U$107,0) -> 0 | F17: =IFERROR('Class Bin A-B'!V17/'Class Bin A-B'!V$107,0) -> 0 | G17: =IFERROR('Class Bin A-B'!W17/'Class Bin A-B'!W$107,0) -> 0 | H17: =IFERROR('Class Bin A-B'!X17/'Class Bin A-B'!X$107,0) -> 0 | I17: =IFERROR('Class Bin A-B'!Y17/'Class Bin A-B'!Y$107,0) -> 0.73825872 | ... V17: =IFERROR('Class Bin A-B'!AL17/'Class Bin A-B'!AL$107,0) -> 0 | X17: 0.0625 | Y17: =IFERROR('Class Bin B-A'!R17/'Class Bin B-A'!R$107,0) -> 0 | Z17: =IFERROR('Class Bin B-A'!S17/'Class Bin B-A'!S$107,0) -> 0 | AA17: =IFERROR('Class Bin B-A'!T17/'Class Bin B-A'!T$107,0) -> 0 | AB17: =IFERROR('Class Bin B-A'!U17/'Class Bin B-A'!U$107,0) -> 0 | AC17: =IFERROR('Class Bin B-A'!V17/'Class Bin B-A'!V$107,0) -> 0 | AD17: =IFERROR('Class Bin B-A'!W17/'Class Bin B-A'!W$107,0) -> 0 | AE17: =IFERROR('Class Bin B-A'!X17/'Class Bin B-A'!X$107,0) -> 0 | AF17: =IFERROR('Class Bin B-A'!Y17/'Class Bin B-A'!Y$107,0) -> 0.64396285 | ... AS17: =IFERROR('Class Bin B-A'!AL17/'Class Bin B-A'!AL$107,0) -> 0
A18: 0.072916667 | B18: =IFERROR('Class Bin A-B'!R18/'Class Bin A-B'!R$107,0) -> 0 | C18: =IFERROR('Class Bin A-B'!S18/'Class Bin A-B'!S$107,0) -> 0 | D18: =IFERROR('Class Bin A-B'!T18/'Class Bin A-B'!T$107,0) -> 0 | E18: =IFERROR('Class Bin A-B'!U18/'Class Bin A-B'!U$107,0) -> 0 | F18: =IFERROR('Class Bin A-B'!V18/'Class Bin A-B'!V$107,0) -> 0 | G18: =IFERROR('Class Bin A-B'!W18/'Class Bin A-B'!W$107,0) -> 0 | H18: =IFERROR('Class Bin A-B'!X18/'Class Bin A-B'!X$107,0) -> 0 | I18: =IFERROR('Class Bin A-B'!Y18/'Class Bin A-B'!Y$107,0) -> 0 | ... V18: =IFERROR('Class Bin A-B'!AL18/'Class Bin A-B'!AL$107,0) -> 0 | X18: 0.072916667 | Y18: =IFERROR('Class Bin B-A'!R18/'Class Bin B-A'!R$107,0) -> 0 | Z18: =IFERROR('Class Bin B-A'!S18/'Class Bin B-A'!S$107,0) -> 0 | AA18: =IFERROR('Class Bin B-A'!T18/'Class Bin B-A'!T$107,0) -> 0 | AB18: =IFERROR('Class Bin B-A'!U18/'Class Bin B-A'!U$107,0) -> 0 | AC18: =IFERROR('Class Bin B-A'!V18/'Class Bin B-A'!V$107,0) -> 0 | AD18: =IFERROR('Class Bin B-A'!W18/'Class Bin B-A'!W$107,0) -> 0 | AE18: =IFERROR('Class Bin B-A'!X18/'Class Bin B-A'!X$107,0) -> 0 | AF18: =IFERROR('Class Bin B-A'!Y18/'Class Bin B-A'!Y$107,0) -> 0 | ... AS18: =IFERROR('Class Bin B-A'!AL18/'Class Bin B-A'!AL$107,0) -> 0
A19: 0.083333333 | B19: =IFERROR('Class Bin A-B'!R19/'Class Bin A-B'!R$107,0) -> 0 | C19: =IFERROR('Class Bin A-B'!S19/'Class Bin A-B'!S$107,0) -> 0 | D19: =IFERROR('Class Bin A-B'!T19/'Class Bin A-B'!T$107,0) -> 0 | E19: =IFERROR('Class Bin A-B'!U19/'Class Bin A-B'!U$107,0) -> 0 | F19: =IFERROR('Class Bin A-B'!V19/'Class Bin A-B'!V$107,0) -> 0 | G19: =IFERROR('Class Bin A-B'!W19/'Class Bin A-B'!W$107,0) -> 0 | H19: =IFERROR('Class Bin A-B'!X19/'Class Bin A-B'!X$107,0) -> 0 | I19: =IFERROR('Class Bin A-B'!Y19/'Class Bin A-B'!Y$107,0) -> 0 | ... V19: =IFERROR('Class Bin A-B'!AL19/'Class Bin A-B'!AL$107,0) -> 0 | X19: 0.083333333 | Y19: =IFERROR('Class Bin B-A'!R19/'Class Bin B-A'!R$107,0) -> 0 | Z19: =IFERROR('Class Bin B-A'!S19/'Class Bin B-A'!S$107,0) -> 0 | AA19: =IFERROR('Class Bin B-A'!T19/'Class Bin B-A'!T$107,0) -> 0 | AB19: =IFERROR('Class Bin B-A'!U19/'Class Bin B-A'!U$107,0) -> 0 | AC19: =IFERROR('Class Bin B-A'!V19/'Class Bin B-A'!V$107,0) -> 0 | AD19: =IFERROR('Class Bin B-A'!W19/'Class Bin B-A'!W$107,0) -> 0 | AE19: =IFERROR('Class Bin B-A'!X19/'Class Bin B-A'!X$107,0) -> 0 | AF19: =IFERROR('Class Bin B-A'!Y19/'Class Bin B-A'!Y$107,0) -> 0.65747256 | ... AS19: =IFERROR('Class Bin B-A'!AL19/'Class Bin B-A'!AL$107,0) -> 0
A20: 0.09375 | B20: =IFERROR('Class Bin A-B'!R20/'Class Bin A-B'!R$107,0) -> 0 | C20: =IFERROR('Class Bin A-B'!S20/'Class Bin A-B'!S$107,0) -> 0 | D20: =IFERROR('Class Bin A-B'!T20/'Class Bin A-B'!T$107,0) -> 0 | E20: =IFERROR('Class Bin A-B'!U20/'Class Bin A-B'!U$107,0) -> 0 | F20: =IFERROR('Class Bin A-B'!V20/'Class Bin A-B'!V$107,0) -> 0 | G20: =IFERROR('Class Bin A-B'!W20/'Class Bin A-B'!W$107,0) -> 0 | H20: =IFERROR('Class Bin A-B'!X20/'Class Bin A-B'!X$107,0) -> 0 | I20: =IFERROR('Class Bin A-B'!Y20/'Class Bin A-B'!Y$107,0) -> 1.6874485 | ... V20: =IFERROR('Class Bin A-B'!AL20/'Class Bin A-B'!AL$107,0) -> 0 | X20: 0.09375 | Y20: =IFERROR('Class Bin B-A'!R20/'Class Bin B-A'!R$107,0) -> 0 | Z20: =IFERROR('Class Bin B-A'!S20/'Class Bin B-A'!S$107,0) -> 0 | AA20: =IFERROR('Class Bin B-A'!T20/'Class Bin B-A'!T$107,0) -> 0 | AB20: =IFERROR('Class Bin B-A'!U20/'Class Bin B-A'!U$107,0) -> 0 | AC20: =IFERROR('Class Bin B-A'!V20/'Class Bin B-A'!V$107,0) -> 0 | AD20: =IFERROR('Class Bin B-A'!W20/'Class Bin B-A'!W$107,0) -> 0 | AE20: =IFERROR('Class Bin B-A'!X20/'Class Bin B-A'!X$107,0) -> 0 | AF20: =IFERROR('Class Bin B-A'!Y20/'Class Bin B-A'!Y$107,0) -> 0 | ... AS20: =IFERROR('Class Bin B-A'!AL20/'Class Bin B-A'!AL$107,0) -> 0
A21: 0.10416667 | B21: =IFERROR('Class Bin A-B'!R21/'Class Bin A-B'!R$107,0) -> 0 | C21: =IFERROR('Class Bin A-B'!S21/'Class Bin A-B'!S$107,0) -> 0 | D21: =IFERROR('Class Bin A-B'!T21/'Class Bin A-B'!T$107,0) -> 0 | E21: =IFERROR('Class Bin A-B'!U21/'Class Bin A-B'!U$107,0) -> 0 | F21: =IFERROR('Class Bin A-B'!V21/'Class Bin A-B'!V$107,0) -> 0 | G21: =IFERROR('Class Bin A-B'!W21/'Class Bin A-B'!W$107,0) -> 0 | H21: =IFERROR('Class Bin A-B'!X21/'Class Bin A-B'!X$107,0) -> 0 | I21: =IFERROR('Class Bin A-B'!Y21/'Class Bin A-B'!Y$107,0) -> 0 | ... V21: =IFERROR('Class Bin A-B'!AL21/'Class Bin A-B'!AL$107,0) -> 0 | X21: 0.10416667 | Y21: =IFERROR('Class Bin B-A'!R21/'Class Bin B-A'!R$107,0) -> 0 | Z21: =IFERROR('Class Bin B-A'!S21/'Class Bin B-A'!S$107,0) -> 0 | AA21: =IFERROR('Class Bin B-A'!T21/'Class Bin B-A'!T$107,0) -> 0 | AB21: =IFERROR('Class Bin B-A'!U21/'Class Bin B-A'!U$107,0) -> 0 | AC21: =IFERROR('Class Bin B-A'!V21/'Class Bin B-A'!V$107,0) -> 0 | AD21: =IFERROR('Class Bin B-A'!W21/'Class Bin B-A'!W$107,0) -> 0 | AE21: =IFERROR('Class Bin B-A'!X21/'Class Bin B-A'!X$107,0) -> 0 | AF21: =IFERROR('Class Bin B-A'!Y21/'Class Bin B-A'!Y$107,0) -> 0 | ... AS21: =IFERROR('Class Bin B-A'!AL21/'Class Bin B-A'!AL$107,0) -> 0
A22: 0.11458333 | B22: =IFERROR('Class Bin A-B'!R22/'Class Bin A-B'!R$107,0) -> 0 | C22: =IFERROR('Class Bin A-B'!S22/'Class Bin A-B'!S$107,0) -> 0 | D22: =IFERROR('Class Bin A-B'!T22/'Class Bin A-B'!T$107,0) -> 0 | E22: =IFERROR('Class Bin A-B'!U22/'Class Bin A-B'!U$107,0) -> 0 | F22: =IFERROR('Class Bin A-B'!V22/'Class Bin A-B'!V$107,0) -> 0 | G22: =IFERROR('Class Bin A-B'!W22/'Class Bin A-B'!W$107,0) -> 0 | H22: =IFERROR('Class Bin A-B'!X22/'Class Bin A-B'!X$107,0) -> 0 | I22: =IFERROR('Class Bin A-B'!Y22/'Class Bin A-B'!Y$107,0) -> 0 | ... V22: =IFERROR('Class Bin A-B'!AL22/'Class Bin A-B'!AL$107,0) -> 0 | X22: 0.11458333 | Y22: =IFERROR('Class Bin B-A'!R22/'Class Bin B-A'!R$107,0) -> 0 | Z22: =IFERROR('Class Bin B-A'!S22/'Class Bin B-A'!S$107,0) -> 0 | AA22: =IFERROR('Class Bin B-A'!T22/'Class Bin B-A'!T$107,0) -> 0 | AB22: =IFERROR('Class Bin B-A'!U22/'Class Bin B-A'!U$107,0) -> 0 | AC22: =IFERROR('Class Bin B-A'!V22/'Class Bin B-A'!V$107,0) -> 0 | AD22: =IFERROR('Class Bin B-A'!W22/'Class Bin B-A'!W$107,0) -> 0 | AE22: =IFERROR('Class Bin B-A'!X22/'Class Bin B-A'!X$107,0) -> 0 | AF22: =IFERROR('Class Bin B-A'!Y22/'Class Bin B-A'!Y$107,0) -> 1.2924289 | ... AS22: =IFERROR('Class Bin B-A'!AL22/'Class Bin B-A'!AL$107,0) -> 0
... A106: 0.98958333 | B106: =IFERROR('Class Bin A-B'!R106/'Class Bin A-B'!R$107,0) -> 0 | C106: =IFERROR('Class Bin A-B'!S106/'Class Bin A-B'!S$107,0) -> 0 | D106: =IFERROR('Class Bin A-B'!T106/'Class Bin A-B'!T$107,0) -> 0 | E106: =IFERROR('Class Bin A-B'!U106/'Class Bin A-B'!U$107,0) -> 0 | F106: =IFERROR('Class Bin A-B'!V106/'Class Bin A-B'!V$107,0) -> 0 | G106: =IFERROR('Class Bin A-B'!W106/'Class Bin A-B'!W$107,0) -> 0 | H106: =IFERROR('Class Bin A-B'!X106/'Class Bin A-B'!X$107,0) -> 0.98480556 | I106: =IFERROR('Class Bin A-B'!Y106/'Class Bin A-B'!Y$107,0) -> 0 | ... V106: =IFERROR('Class Bin A-B'!AL106/'Class Bin A-B'!AL$107,0) -> 0 | X106: 0.98958333 | Y106: =IFERROR('Class Bin B-A'!R106/'Class Bin B-A'!R$107,0) -> 0 | Z106: =IFERROR('Class Bin B-A'!S106/'Class Bin B-A'!S$107,0) -> 0 | AA106: =IFERROR('Class Bin B-A'!T106/'Class Bin B-A'!T$107,0) -> 0 | AB106: =IFERROR('Class Bin B-A'!U106/'Class Bin B-A'!U$107,0) -> 0 | AC106: =IFERROR('Class Bin B-A'!V106/'Class Bin B-A'!V$107,0) -> 0 | AD106: =IFERROR('Class Bin B-A'!W106/'Class Bin B-A'!W$107,0) -> 0 | AE106: =IFERROR('Class Bin B-A'!X106/'Class Bin B-A'!X$107,0) -> 1.2150866 | AF106: =IFERROR('Class Bin B-A'!Y106/'Class Bin B-A'!Y$107,0) -> 0 | ... AS106: =IFERROR('Class Bin B-A'!AL106/'Class Bin B-A'!AL$107,0) -> 0
A107: IP FF Speed | B107: ='Class Bin A-B'!R107 -> - | C107: ='Class Bin A-B'!S107 -> - | D107: ='Class Bin A-B'!T107 -> - | E107: ='Class Bin A-B'!U107 -> - | F107: ='Class Bin A-B'!V107 -> - | G107: ='Class Bin A-B'!W107 -> - | H107: ='Class Bin A-B'!X107 -> 24.26875 | I107: ='Class Bin A-B'!Y107 -> 22.75625 | ... V107: ='Class Bin A-B'!AL107 -> - | X107: IP FF Speed | Y107: ='Class Bin B-A'!R107 -> - | Z107: ='Class Bin B-A'!S107 -> - | AA107: ='Class Bin B-A'!T107 -> - | AB107: ='Class Bin B-A'!U107 -> - | AC107: ='Class Bin B-A'!V107 -> - | AD107: ='Class Bin B-A'!W107 -> - | AE107: ='Class Bin B-A'!X107 -> 24.525 | AF107: ='Class Bin B-A'!Y107 -> 22.20625 | ... AS107: ='Class Bin B-A'!AL107 -> -
A108: >90% | B108: =COUNTIF(B11:B106,">=0.9") -> 0 | C108: =COUNTIF(C11:C106,">=0.9") -> 0 | D108: =COUNTIF(D11:D106,">=0.9") -> 0 | E108: =COUNTIF(E11:E106,">=0.9") -> 0 | F108: =COUNTIF(F11:F106,">=0.9") -> 0 | G108: =COUNTIF(G11:G106,">=0.9") -> 0 | H108: =COUNTIF(H11:H106,">=0.9") -> 43 | I108: =COUNTIF(I11:I106,">=0.9") -> 61 | ... V108: =COUNTIF(V11:V106,">=0.9") -> 0 | X108: >90% | Y108: =COUNTIF(Y11:Y106,">=0.9") -> 0 | Z108: =COUNTIF(Z11:Z106,">=0.9") -> 0 | AA108: =COUNTIF(AA11:AA106,">=0.9") -> 0 | AB108: =COUNTIF(AB11:AB106,">=0.9") -> 0 | AC108: =COUNTIF(AC11:AC106,">=0.9") -> 0 | AD108: =COUNTIF(AD11:AD106,">=0.9") -> 0 | AE108: =COUNTIF(AE11:AE106,">=0.9") -> 33 | AF108: =COUNTIF(AF11:AF106,">=0.9") -> 53 | ... AS108: =COUNTIF(AS11:AS106,">=0.9") -> 0
A109: >80% | B109: =COUNTIFS(B11:B106,">=0.8",B11:B106,"<0.9") -> 0 | C109: =COUNTIFS(C11:C106,">=0.8",C11:C106,"<0.9") -> 0 | D109: =COUNTIFS(D11:D106,">=0.8",D11:D106,"<0.9") -> 0 | E109: =COUNTIFS(E11:E106,">=0.8",E11:E106,"<0.9") -> 0 | F109: =COUNTIFS(F11:F106,">=0.8",F11:F106,"<0.9") -> 0 | G109: =COUNTIFS(G11:G106,">=0.8",G11:G106,"<0.9") -> 0 | H109: =COUNTIFS(H11:H106,">=0.8",H11:H106,"<0.9") -> 8 | I109: =COUNTIFS(I11:I106,">=0.8",I11:I106,"<0.9") -> 2 | ... V109: =COUNTIFS(V11:V106,">=0.8",V11:V106,"<0.9") -> 0 | X109: >80% | Y109: =COUNTIFS(Y11:Y106,">=0.8",Y11:Y106,"<0.9") -> 0 | Z109: =COUNTIFS(Z11:Z106,">=0.8",Z11:Z106,"<0.9") -> 0 | AA109: =COUNTIFS(AA11:AA106,">=0.8",AA11:AA106,"<0.9") -> 0 | AB109: =COUNTIFS(AB11:AB106,">=0.8",AB11:AB106,"<0.9") -> 0 | AC109: =COUNTIFS(AC11:AC106,">=0.8",AC11:AC106,"<0.9") -> 0 | AD109: =COUNTIFS(AD11:AD106,">=0.8",AD11:AD106,"<0.9") -> 0 | AE109: =COUNTIFS(AE11:AE106,">=0.8",AE11:AE106,"<0.9") -> 13 | AF109: =COUNTIFS(AF11:AF106,">=0.8",AF11:AF106,"<0.9") -> 8 | ... AS109: =COUNTIFS(AS11:AS106,">=0.8",AS11:AS106,"<0.9") -> 0
A110: >70% | B110: =COUNTIFS(B11:B106,">=0.7",B11:B106,"<0.8") -> 0 | C110: =COUNTIFS(C11:C106,">=0.7",C11:C106,"<0.8") -> 0 | D110: =COUNTIFS(D11:D106,">=0.7",D11:D106,"<0.8") -> 0 | E110: =COUNTIFS(E11:E106,">=0.7",E11:E106,"<0.8") -> 0 | F110: =COUNTIFS(F11:F106,">=0.7",F11:F106,"<0.8") -> 0 | G110: =COUNTIFS(G11:G106,">=0.7",G11:G106,"<0.8") -> 0 | H110: =COUNTIFS(H11:H106,">=0.7",H11:H106,"<0.8") -> 0 | I110: =COUNTIFS(I11:I106,">=0.7",I11:I106,"<0.8") -> 3 | ... V110: =COUNTIFS(V11:V106,">=0.7",V11:V106,"<0.8") -> 0 | X110: >70% | Y110: =COUNTIFS(Y11:Y106,">=0.7",Y11:Y106,"<0.8") -> 0 | Z110: =COUNTIFS(Z11:Z106,">=0.7",Z11:Z106,"<0.8") -> 0 | AA110: =COUNTIFS(AA11:AA106,">=0.7",AA11:AA106,"<0.8") -> 0 | AB110: =COUNTIFS(AB11:AB106,">=0.7",AB11:AB106,"<0.8") -> 0 | AC110: =COUNTIFS(AC11:AC106,">=0.7",AC11:AC106,"<0.8") -> 0 | AD110: =COUNTIFS(AD11:AD106,">=0.7",AD11:AD106,"<0.8") -> 0 | AE110: =COUNTIFS(AE11:AE106,">=0.7",AE11:AE106,"<0.8") -> 3 | AF110: =COUNTIFS(AF11:AF106,">=0.7",AF11:AF106,"<0.8") -> 2 | ... AS110: =COUNTIFS(AS11:AS106,">=0.7",AS11:AS106,"<0.8") -> 0
A111: >60% | B111: =COUNTIFS(B11:B106,">=0.6",B11:B106,"<0.7") -> 0 | C111: =COUNTIFS(C11:C106,">=0.6",C11:C106,"<0.7") -> 0 | D111: =COUNTIFS(D11:D106,">=0.6",D11:D106,"<0.7") -> 0 | E111: =COUNTIFS(E11:E106,">=0.6",E11:E106,"<0.7") -> 0 | F111: =COUNTIFS(F11:F106,">=0.6",F11:F106,"<0.7") -> 0 | G111: =COUNTIFS(G11:G106,">=0.6",G11:G106,"<0.7") -> 0 | H111: =COUNTIFS(H11:H106,">=0.6",H11:H106,"<0.7") -> 0 | I111: =COUNTIFS(I11:I106,">=0.6",I11:I106,"<0.7") -> 1 | ... V111: =COUNTIFS(V11:V106,">=0.6",V11:V106,"<0.7") -> 0 | X111: >60% | Y111: =COUNTIFS(Y11:Y106,">=0.6",Y11:Y106,"<0.7") -> 0 | Z111: =COUNTIFS(Z11:Z106,">=0.6",Z11:Z106,"<0.7") -> 0 | AA111: =COUNTIFS(AA11:AA106,">=0.6",AA11:AA106,"<0.7") -> 0 | AB111: =COUNTIFS(AB11:AB106,">=0.6",AB11:AB106,"<0.7") -> 0 | AC111: =COUNTIFS(AC11:AC106,">=0.6",AC11:AC106,"<0.7") -> 0 | AD111: =COUNTIFS(AD11:AD106,">=0.6",AD11:AD106,"<0.7") -> 0 | AE111: =COUNTIFS(AE11:AE106,">=0.6",AE11:AE106,"<0.7") -> 2 | AF111: =COUNTIFS(AF11:AF106,">=0.6",AF11:AF106,"<0.7") -> 2 | ... AS111: =COUNTIFS(AS11:AS106,">=0.6",AS11:AS106,"<0.7") -> 0
A112: <60% | B112: =COUNTIFS(B11:B106,">=0.01",B11:B106,"<0.6") -> 0 | C112: =COUNTIFS(C11:C106,">=0.01",C11:C106,"<0.6") -> 0 | D112: =COUNTIFS(D11:D106,">=0.01",D11:D106,"<0.6") -> 0 | E112: =COUNTIFS(E11:E106,">=0.01",E11:E106,"<0.6") -> 0 | F112: =COUNTIFS(F11:F106,">=0.01",F11:F106,"<0.6") -> 0 | G112: =COUNTIFS(G11:G106,">=0.01",G11:G106,"<0.6") -> 0 | H112: =COUNTIFS(H11:H106,">=0.01",H11:H106,"<0.6") -> 0 | I112: =COUNTIFS(I11:I106,">=0.01",I11:I106,"<0.6") -> 2 | ... V112: =COUNTIFS(V11:V106,">=0.01",V11:V106,"<0.6") -> 0 | X112: <60% | Y112: =COUNTIFS(Y11:Y106,">=0.01",Y11:Y106,"<0.6") -> 0 | Z112: =COUNTIFS(Z11:Z106,">=0.01",Z11:Z106,"<0.6") -> 0 | AA112: =COUNTIFS(AA11:AA106,">=0.01",AA11:AA106,"<0.6") -> 0 | AB112: =COUNTIFS(AB11:AB106,">=0.01",AB11:AB106,"<0.6") -> 0 | AC112: =COUNTIFS(AC11:AC106,">=0.01",AC11:AC106,"<0.6") -> 0 | AD112: =COUNTIFS(AD11:AD106,">=0.01",AD11:AD106,"<0.6") -> 0 | AE112: =COUNTIFS(AE11:AE106,">=0.01",AE11:AE106,"<0.6") -> 0 | AF112: =COUNTIFS(AF11:AF106,">=0.01",AF11:AF106,"<0.6") -> 1 | ... AS112: =COUNTIFS(AS11:AS106,">=0.01",AS11:AS106,"<0.6") -> 0
A113: No Data | B113: =COUNTIF(B11:B106,"=0") -> 96 | C113: =COUNTIF(C11:C106,"=0") -> 96 | D113: =COUNTIF(D11:D106,"=0") -> 96 | E113: =COUNTIF(E11:E106,"=0") -> 96 | F113: =COUNTIF(F11:F106,"=0") -> 96 | G113: =COUNTIF(G11:G106,"=0") -> 96 | H113: =COUNTIF(H11:H106,"=0") -> 45 | I113: =COUNTIF(I11:I106,"=0") -> 27 | ... V113: =COUNTIF(V11:V106,"=0") -> 96 | X113: No Data | Y113: =COUNTIF(Y11:Y106,"=0") -> 96 | Z113: =COUNTIF(Z11:Z106,"=0") -> 96 | AA113: =COUNTIF(AA11:AA106,"=0") -> 96 | AB113: =COUNTIF(AB11:AB106,"=0") -> 96 | AC113: =COUNTIF(AC11:AC106,"=0") -> 96 | AD113: =COUNTIF(AD11:AD106,"=0") -> 96 | AE113: =COUNTIF(AE11:AE106,"=0") -> 45 | AF113: =COUNTIF(AF11:AF106,"=0") -> 30 | ... AS113: =COUNTIF(AS11:AS106,"=0") -> 96
B115: Mean speed > 90% of daily interpeak free-flow speed | M115: Guidance Notes
B116: Mean speed > 80% of daily interpeak free-flow speed | M116: The interpeak free flow mean speed for each day is taken from the 10:00-12:00 and 14:00-16:00 time periods. Congestion across the tubes can lead to some underperformance of the ATC equipment. Periods highlighted as being significantly below free-flow speeds may possibly be affected. Congestion on the lane closest to the ATC unit can also affect data collection on the far side lane if vehicles are queued on top of the tubes.
B117: Mean speed > 70% of daily interpeak free-flow speed
B118: Mean speed > 60% of daily interpeak free-flow speed
B119: Mean speed < 60% of daily interpeak free-flow speed
B120: No data collected / No daily interpeak free-flow speed available

Sheet Class Bin A-B
A1: Intelligent Data Collection Limited
A3: Client: | B3: ='Front Cover'!C27 -> Oxfordshire CC
A4: Project Number: | B4: ='Front Cover'!C28 -> ID-0325-0019
A5: Site Number: | B5: ='Front Cover'!C29 -> Site 2
A6: Flow from: | B6: ='Front Cover'!D33 -> The Green (W) | D6: to: | E6: ='Front Cover'!H33 -> The Glebe (E)
A8: Date | B8: Monday | C8: ='Front Cover'!C30 -> 45719 | Q8: Mean Speeds
B9: Total | C9: Cycle | D9: Motor Cycle | E9: Car | F9: LGV | G9: 2 Axled Rigid | H9: 3 Axled Rigid | I9: 4 Axled Rigid | J9: 3 Axled Artic | K9: 4 Axled Artic | L9: 5+ Axled Artic | M9: Bus | N9: Mean Speed (Mph) | O9: 85%ile Speed (Mph)
A10: Time | Q10: Time | R10: =C8 -> 45719 | S10: =R10+1 -> 45720 | T10: =S10+1 -> 45721 | U10: =T10+1 -> 45722 | V10: =U10+1 -> 45723 | W10: =V10+1 -> 45724 | X10: =W10+1 -> 45725 | Y10: =X10+1 -> 45726 | Z10: =Y10+1 -> 45727 | ... AL10: =AK10+1 -> 45739
A11: 0 | B11: * | C11: * | D11: * | E11: * | F11: * | G11: * | H11: * | I11: * | J11: * | K11: * | L11: * | M11: * | N11: * | O11: * | Q11: 0 | R11: =N11 -> * | S11: =N115 -> * | T11: =N219 -> * | U11: =N323 -> * | V11: =N427 -> * | W11: =N531 -> * | X11: =N635 -> * | Y11: =N739 -> - | Z11: =N843 -> - | AA11: =N947 -> - | AB11: =N1051 -> - | AC11: =N1155 -> 22.9 | AD11: =N1259 -> 36.2 | AE11: =N1363 -> - | AF11: =N1467 -> - | AG11: =N1571 -> * | AH11: =N1675 -> * | AI11: =N1779 -> * | AJ11: =N1883 -> * | AK11: =N1987 -> * | AL11: =N2091 -> *
A12: 0.010416667 | B12: * | C12: * | D12: * | E12: * | F12: * | G12: * | H12: * | I12: * | J12: * | K12: * | L12: * | M12: * | N12: * | O12: * | Q12: 0.010416667 | R12: =N12 -> * | S12: =N116 -> * | T12: =N220 -> * | U12: =N324 -> * | V12: =N428 -> * | W12: =N532 -> * | X12: =N636 -> * | Y12: =N740 -> - | Z12: =N844 -> - | AA12: =N948 -> 15.2 | AB12: =N1052 -> - | AC12: =N1156 -> - | AD12: =N1260 -> 24.9 | AE12: =N1364 -> - | AF12: =N1468 -> - | AG12: =N1572 -> * | AH12: =N1676 -> * | AI12: =N1780 -> * | AJ12: =N1884 -> * | AK12: =N1988 -> * | AL12: =N2092 -> *
A13: 0.020833333 | B13: * | C13: * | D13: * | E13: * | F13: * | G13: * | H13: * | I13: * | J13: * | K13: * | L13: * | M13: * | N13: * | O13: * | Q13: 0.020833333 | R13: =N13 -> * | S13: =N117 -> * | T13: =N221 -> * | U13: =N325 -> * | V13: =N429 -> * | W13: =N533 -> * | X13: =N637 -> * | Y13: =N741 -> - | Z13: =N845 -> - | AA13: =N949 -> - | AB13: =N1053 -> 21.5 | AC13: =N1157 -> - | AD13: =N1261 -> - | AE13: =N1365 -> 16 | AF13: =N1469 -> - | AG13: =N1573 -> * | AH13: =N1677 -> * | AI13: =N1781 -> * | AJ13: =N1885 -> * | AK13: =N1989 -> * | AL13: =N2093 -> *
A14: 0.03125 | B14: * | C14: * | D14: * | E14: * | F14: * | G14: * | H14: * | I14: * | J14: * | K14: * | L14: * | M14: * | N14: * | O14: * | Q14: 0.03125 | R14: =N14 -> * | S14: =N118 -> * | T14: =N222 -> * | U14: =N326 -> * | V14: =N430 -> * | W14: =N534 -> * | X14: =N638 -> * | Y14: =N742 -> - | Z14: =N846 -> - | AA14: =N950 -> - | AB14: =N1054 -> - | AC14: =N1158 -> - | AD14: =N1262 -> - | AE14: =N1366 -> - | AF14: =N1470 -> - | AG14: =N1574 -> * | AH14: =N1678 -> * | AI14: =N1782 -> * | AJ14: =N1886 -> * | AK14: =N1990 -> * | AL14: =N2094 -> *
A15: 0.041666667 | B15: * | C15: * | D15: * | E15: * | F15: * | G15: * | H15: * | I15: * | J15: * | K15: * | L15: * | M15: * | N15: * | O15: * | Q15: 0.041666667 | R15: =N15 -> * | S15: =N119 -> * | T15: =N223 -> * | U15: =N327 -> * | V15: =N431 -> * | W15: =N535 -> * | X15: =N639 -> * | Y15: =N743 -> 29.7 | Z15: =N847 -> - | AA15: =N951 -> 22.5 | AB15: =N1055 -> - | AC15: =N1159 -> 28.2 | AD15: =N1263 -> - | AE15: =N1367 -> - | AF15: =N1471 -> - | AG15: =N1575 -> * | AH15: =N1679 -> * | AI15: =N1783 -> * | AJ15: =N1887 -> * | AK15: =N1991 -> * | AL15: =N2095 -> *
A16: 0.052083333 | B16: * | C16: * | D16: * | E16: * | F16: * | G16: * | H16: * | I16: * | J16: * | K16: * | L16: * | M16: * | N16: * | O16: * | Q16: 0.052083333 | R16: =N16 -> * | S16: =N120 -> * | T16: =N224 -> * | U16: =N328 -> * | V16: =N432 -> * | W16: =N536 -> * | X16: =N640 -> * | Y16: =N744 -> - | Z16: =N848 -> - | AA16: =N952 -> - | AB16: =N1056 -> - | AC16: =N1160 -> 23.9 | AD16: =N1264 -> - | AE16: =N1368 -> 27.4 | AF16: =N1472 -> - | AG16: =N1576 -> * | AH16: =N1680 -> * | AI16: =N1784 -> * | AJ16: =N1888 -> * | AK16: =N1992 -> * | AL16: =N2096 -> *
A17: 0.0625 | B17: * | C17: * | D17: * | E17: * | F17: * | G17: * | H17: * | I17: * | J17: * | K17: * | L17: * | M17: * | N17: * | O17: * | Q17: 0.0625 | R17: =N17 -> * | S17: =N121 -> * | T17: =N225 -> * | U17: =N329 -> * | V17: =N433 -> * | W17: =N537 -> * | X17: =N641 -> * | Y17: =N745 -> 16.8 | Z17: =N849 -> - | AA17: =N953 -> 29.5 | AB17: =N1057 -> - | AC17: =N1161 -> - | AD17: =N1265 -> - | AE17: =N1369 -> - | AF17: =N1473 -> - | AG17: =N1577 -> * | AH17: =N1681 -> * | AI17: =N1785 -> * | AJ17: =N1889 -> * | AK17: =N1993 -> * | AL17: =N2097 -> *
A18: 0.072916667 | B18: * | C18: * | D18: * | E18: * | F18: * | G18: * | H18: * | I18: * | J18: * | K18: * | L18: * | M18: * | N18: * | O18: * | Q18: 0.072916667 | R18: =N18 -> * | S18: =N122 -> * | T18: =N226 -> * | U18: =N330 -> * | V18: =N434 -> * | W18: =N538 -> * | X18: =N642 -> * | Y18: =N746 -> - | Z18: =N850 -> - | AA18: =N954 -> - | AB18: =N1058 -> - | AC18: =N1162 -> 18.9 | AD18: =N1266 -> - | AE18: =N1370 -> - | AF18: =N1474 -> - | AG18: =N1578 -> * | AH18: =N1682 -> * | AI18: =N1786 -> * | AJ18: =N1890 -> * | AK18: =N1994 -> * | AL18: =N2098 -> *
A19: 0.083333333 | B19: * | C19: * | D19: * | E19: * | F19: * | G19: * | H19: * | I19: * | J19: * | K19: * | L19: * | M19: * | N19: * | O19: * | Q19: 0.083333333 | R19: =N19 -> * | S19: =N123 -> * | T19: =N227 -> * | U19: =N331 -> * | V19: =N435 -> * | W19: =N539 -> * | X19: =N643 -> * | Y19: =N747 -> - | Z19: =N851 -> - | AA19: =N955 -> - | AB19: =N1059 -> - | AC19: =N1163 -> - | AD19: =N1267 -> - | AE19: =N1371 -> - | AF19: =N1475 -> - | AG19: =N1579 -> * | AH19: =N1683 -> * | AI19: =N1787 -> * | AJ19: =N1891 -> * | AK19: =N1995 -> * | AL19: =N2099 -> *
A20: 0.09375 | B20: * | C20: * | D20: * | E20: * | F20: * | G20: * | H20: * | I20: * | J20: * | K20: * | L20: * | M20: * | N20: * | O20: * | Q20: 0.09375 | R20: =N20 -> * | S20: =N124 -> * | T20: =N228 -> * | U20: =N332 -> * | V20: =N436 -> * | W20: =N540 -> * | X20: =N644 -> * | Y20: =N748 -> 38.4 | Z20: =N852 -> - | AA20: =N956 -> - | AB20: =N1060 -> - | AC20: =N1164 -> - | AD20: =N1268 -> - | AE20: =N1372 -> - | AF20: =N1476 -> - | AG20: =N1580 -> * | AH20: =N1684 -> * | AI20: =N1788 -> * | AJ20: =N1892 -> * | AK20: =N1996 -> * | AL20: =N2100 -> *
A21: 0.10416667 | B21: * | C21: * | D21: * | E21: * | F21: * | G21: * | H21: * | I21: * | J21: * | K21: * | L21: * | M21: * | N21: * | O21: * | Q21: 0.10416667 | R21: =N21 -> * | S21: =N125 -> * | T21: =N229 -> * | U21: =N333 -> * | V21: =N437 -> * | W21: =N541 -> * | X21: =N645 -> * | Y21: =N749 -> - | Z21: =N853 -> - | AA21: =N957 -> - | AB21: =N1061 -> - | AC21: =N1165 -> - | AD21: =N1269 -> - | AE21: =N1373 -> - | AF21: =N1477 -> - | AG21: =N1581 -> * | AH21: =N1685 -> * | AI21: =N1789 -> * | AJ21: =N1893 -> * | AK21: =N1997 -> * | AL21: =N2101 -> *
A22: 0.11458333 | B22: * | C22: * | D22: * | E22: * | F22: * | G22: * | H22: * | I22: * | J22: * | K22: * | L22: * | M22: * | N22: * | O22: * | Q22: 0.11458333 | R22: =N22 -> * | S22: =N126 -> * | T22: =N230 -> * | U22: =N334 -> * | V22: =N438 -> * | W22: =N542 -> * | X22: =N646 -> * | Y22: =N750 -> - | Z22: =N854 -> - | AA22: =N958 -> - | AB22: =N1062 -> - | AC22: =N1166 -> - | AD22: =N1270 -> 38.2 | AE22: =N1374 -> 16.9 | AF22: =N1478 -> - | AG22: =N1582 -> * | AH22: =N1686 -> * | AI22: =N1790 -> * | AJ22: =N1894 -> * | AK22: =N1998 -> * | AL22: =N2102 -> *
... A106: 0.98958333 | B106: * | C106: * | D106: * | E106: * | F106: * | G106: * | H106: * | I106: * | J106: * | K106: * | L106: * | M106: * | N106: * | O106: * | Q106: 0.98958333 | R106: =N106 -> * | S106: =N210 -> * | T106: =N314 -> * | U106: =N418 -> * | V106: =N522 -> * | W106: =N626 -> * | X106: =N730 -> 23.9 | Y106: =N834 -> - | Z106: =N938 -> - | AA106: =N1042 -> - | AB106: =N1146 -> - | AC106: =N1250 -> - | AD106: =N1354 -> - | AE106: =N1458 -> - | AF106: =N1562 -> * | AG106: =N1666 -> * | AH106: =N1770 -> * | AI106: =N1874 -> * | AJ106: =N1978 -> * | AK106: =N2082 -> * | AL106: =N2186 -> *
A107: 07-19 | B107: =SUM(B39:B86) -> 0 | C107: =SUM(C39:C86) -> 0 | D107: =SUM(D39:D86) -> 0 | E107: =SUM(E39:E86) -> 0 | F107: =SUM(F39:F86) -> 0 | G107: =SUM(G39:G86) -> 0 | H107: =SUM(H39:H86) -> 0 | I107: =SUM(I39:I86) -> 0 | ... M107: =SUM(M39:M86) -> 0 | Q107: IP FF Mean | R107: =IFERROR(AVERAGE(R51:R58,R67:R74),"-") -> - | S107: =IFERROR(AVERAGE(S51:S58,S67:S74),"-") -> - | T107: =IFERROR(AVERAGE(T51:T58,T67:T74),"-") -> - | U107: =IFERROR(AVERAGE(U51:U58,U67:U74),"-") -> - | V107: =IFERROR(AVERAGE(V51:V58,V67:V74),"-") -> - | W107: =IFERROR(AVERAGE(W51:W58,W67:W74),"-") -> - | X107: =IFERROR(AVERAGE(X51:X58,X67:X74),"-") -> 24.26875 | Y107: =IFERROR(AVERAGE(Y51:Y58,Y67:Y74),"-") -> 22.75625 | ... AL107: =IFERROR(AVERAGE(AL51:AL58,AL67:AL74),"-") -> -
A108: 06-22 | B108: =SUM(B35:B98) -> 0 | C108: =SUM(C35:C98) -> 0 | D108: =SUM(D35:D98) -> 0 | E108: =SUM(E35:E98) -> 0 | F108: =SUM(F35:F98) -> 0 | G108: =SUM(G35:G98) -> 0 | H108: =SUM(H35:H98) -> 0 | I108: =SUM(I35:I98) -> 0 | ... M108: =SUM(M35:M98) -> 0
A109: 06-00 | B109: =SUM(B35:B106) -> 0 | C109: =SUM(C35:C106) -> 0 | D109: =SUM(D35:D106) -> 0 | E109: =SUM(E35:E106) -> 0 | F109: =SUM(F35:F106) -> 0 | G109: =SUM(G35:G106) -> 0 | H109: =SUM(H35:H106) -> 0 | I109: =SUM(I35:I106) -> 0 | ... M109: =SUM(M35:M106) -> 0 | Q109: Time | R109: =R10 -> 45719 | S109: =S10 -> 45720 | T109: =T10 -> 45721 | U109: =U10 -> 45722 | V109: =V10 -> 45723 | W109: =W10 -> 45724 | X109: =X10 -> 45725 | Y109: =Y10 -> 45726 | ... AL109: =AL10 -> 45739
A110: 00-00 | B110: =SUM(B11:B106) -> 0 | C110: =SUM(C11:C106) -> 0 | D110: =SUM(D11:D106) -> 0 | E110: =SUM(E11:E106) -> 0 | F110: =SUM(F11:F106) -> 0 | G110: =SUM(G11:G106) -> 0 | H110: =SUM(H11:H106) -> 0 | I110: =SUM(I11:I106) -> 0 | ... M110: =SUM(M11:M106) -> 0 | Q110: 07-19 | R110: =IFERROR(SUM($G107:$M107)/$B107,"-") -> - | S110: =IFERROR(SUM($G211:$M211)/$B211,"-") -> - | T110: =IFERROR(SUM($G315:$M315)/$B315,"-") -> - | U110: =IFERROR(SUM($G419:$M419)/$B419,"-") -> - | V110: =IFERROR(SUM($G523:$M523)/$B523,"-") -> - | W110: =IFERROR(SUM($G627:$M627)/$B627,"-") -> - | X110: =IFERROR(SUM($G731:$M731)/$B731,"-") -> 0.055837563 | Y110: =IFERROR(SUM($G835:$M835)/$B835,"-") -> 0.0675 | Z110: =IFERROR(SUM($G939:$M939)/$B939,"-") -> 0.051801802 | AA110: =IFERROR(SUM($G1043:$M1043)/$B1043,"-") -> 0.06601467 | AB110: =IFERROR(SUM($G1147:$M1147)/$B1147,"-") -> 0.036717063 | AC110: =IFERROR(SUM($G1251:$M1251)/$B1251,"-") -> 0.054901961 | AD110: =IFERROR(SUM($G1355:$M1355)/$B1355,"-") -> 0.067567568 | AE110: =IFERROR(SUM($G1459:$M1459)/$B1459,"-") -> 0.068292683 | AF110: =IFERROR(SUM($G1563:$M1563)/$B1563,"-") -> 0.051136364 | AG110: =IFERROR(SUM($G1667:$M1667)/$B1667,"-") -> - | AH110: =IFERROR(SUM($G1771:$M1771)/$B1771,"-") -> - | AI110: =IFERROR(SUM($G1875:$M1875)/$B1875,"-") -> - | AJ110: =IFERROR(SUM($G1979:$M1979)/$B1979,"-") -> - | AK110: =IFERROR(SUM($G2083:$M2083)/$B2083,"-") -> - | AL110: =IFERROR(SUM($G2187:$M2187)/$B2187,"-") -> -
Q111: 06-22 | R111: =IFERROR(SUM($G108:$M108)/$B108,"-") -> - | S111: =IFERROR(SUM($G212:$M212)/$B212,"-") -> - | T111: =IFERROR(SUM($G316:$M316)/$B316,"-") -> - | U111: =IFERROR(SUM($G420:$M420)/$B420,"-") -> - | V111: =IFERROR(SUM($G524:$M524)/$B524,"-") -> - | W111: =IFERROR(SUM($G628:$M628)/$B628,"-") -> - | X111: =IFERROR(SUM($G732:$M732)/$B732,"-") -> 0.054794521 | Y111: =IFERROR(SUM($G836:$M836)/$B836,"-") -> 0.074418605 | Z111: =IFERROR(SUM($G940:$M940)/$B940,"-") -> 0.057731959 | AA111: =IFERROR(SUM($G1044:$M1044)/$B1044,"-") -> 0.069662921 | AB111: =IFERROR(SUM($G1148:$M1148)/$B1148,"-") -> 0.041257367 | AC111: =IFERROR(SUM($G1252:$M1252)/$B1252,"-") -> 0.056776557 | AD111: =IFERROR(SUM($G1356:$M1356)/$B1356,"-") -> 0.072289157 | AE111: =IFERROR(SUM($G1460:$M1460)/$B1460,"-") -> 0.066666667 | AF111: =IFERROR(SUM($G1564:$M1564)/$B1564,"-") -> 0.054644809 | AG111: =IFERROR(SUM($G1668:$M1668)/$B1668,"-") -> - | AH111: =IFERROR(SUM($G1772:$M1772)/$B1772,"-") -> - | AI111: =IFERROR(SUM($G1876:$M1876)/$B1876,"-") -> - | AJ111: =IFERROR(SUM($G1980:$M1980)/$B1980,"-") -> - | AK111: =IFERROR(SUM($G2084:$M2084)/$B2084,"-") -> - | AL111: =IFERROR(SUM($G2188:$M2188)/$B2188,"-") -> -
A112: Date | B112: Tuesday | C112: =C8+1 -> 45720 | Q112: 06-00 | R112: =IFERROR(SUM($G109:$M109)/$B109,"-") -> - | S112: =IFERROR(SUM($G213:$M213)/$B213,"-") -> - | T112: =IFERROR(SUM($G317:$M317)/$B317,"-") -> - | U112: =IFERROR(SUM($G421:$M421)/$B421,"-") -> - | V112: =IFERROR(SUM($G525:$M525)/$B525,"-") -> - | W112: =IFERROR(SUM($G629:$M629)/$B629,"-") -> - | X112: =IFERROR(SUM($G733:$M733)/$B733,"-") -> 0.058295964 | Y112: =IFERROR(SUM($G837:$M837)/$B837,"-") -> 0.073563218 | Z112: =IFERROR(SUM($G941:$M941)/$B941,"-") -> 0.057377049 | AA112: =IFERROR(SUM($G1045:$M1045)/$B1045,"-") -> 0.069042316 | AB112: =IFERROR(SUM($G1149:$M1149)/$B1149,"-") -> 0.040307102 | AC112: =IFERROR(SUM($G1253:$M1253)/$B1253,"-") -> 0.056057866 | AD112: =IFERROR(SUM($G1357:$M1357)/$B1357,"-") -> 0.067164179 | AE112: =IFERROR(SUM($G1461:$M1461)/$B1461,"-") -> 0.065789474 | AF112: =IFERROR(SUM($G1565:$M1565)/$B1565,"-") -> 0.054644809 | AG112: =IFERROR(SUM($G1669:$M1669)/$B1669,"-") -> - | AH112: =IFERROR(SUM($G1773:$M1773)/$B1773,"-") -> - | AI112: =IFERROR(SUM($G1877:$M1877)/$B1877,"-") -> - | AJ112: =IFERROR(SUM($G1981:$M1981)/$B1981,"-") -> - | AK112: =IFERROR(SUM($G2085:$M2085)/$B2085,"-") -> - | AL112: =IFERROR(SUM($G2189:$M2189)/$B2189,"-") -> -
B113: Total | C113: Cycle | D113: Motor Cycle | E113: Car | F113: LGV | G113: 2 Axled Rigid | H113: 3 Axled Rigid | I113: 4 Axled Rigid | J113: 3 Axled Artic | K113: 4 Axled Artic | L113: 5+ Axled Artic | M113: Bus | N113: Mean Speed (Mph) | O113: 85%ile Speed (Mph) | Q113: 00-00 | R113: =IFERROR(SUM($G110:$M110)/$B110,"-") -> - | S113: =IFERROR(SUM($G214:$M214)/$B214,"-") -> - | T113: =IFERROR(SUM($G318:$M318)/$B318,"-") -> - | U113: =IFERROR(SUM($G422:$M422)/$B422,"-") -> - | V113: =IFERROR(SUM($G526:$M526)/$B526,"-") -> - | W113: =IFERROR(SUM($G630:$M630)/$B630,"-") -> - | X113: =IFERROR(SUM($G734:$M734)/$B734,"-") -> 0.058295964 | Y113: =IFERROR(SUM($G838:$M838)/$B838,"-") -> 0.072892938 | Z113: =IFERROR(SUM($G942:$M942)/$B942,"-") -> 0.057259714 | AA113: =IFERROR(SUM($G1046:$M1046)/$B1046,"-") -> 0.068584071 | AB113: =IFERROR(SUM($G1150:$M1150)/$B1150,"-") -> 0.040152964 | AC113: =IFERROR(SUM($G1254:$M1254)/$B1254,"-") -> 0.055456172 | AD113: =IFERROR(SUM($G1358:$M1358)/$B1358,"-") -> 0.066176471 | AE113: =IFERROR(SUM($G1462:$M1462)/$B1462,"-") -> 0.068669528 | AF113: =IFERROR(SUM($G1566:$M1566)/$B1566,"-") -> 0.054347826 | AG113: =IFERROR(SUM($G1670:$M1670)/$B1670,"-") -> - | AH113: =IFERROR(SUM($G1774:$M1774)/$B1774,"-") -> - | AI113: =IFERROR(SUM($G1878:$M1878)/$B1878,"-") -> - | AJ113: =IFERROR(SUM($G1982:$M1982)/$B1982,"-") -> - | AK113: =IFERROR(SUM($G2086:$M2086)/$B2086,"-") -> - | AL113: =IFERROR(SUM($G2190:$M2190)/$B2190,"-") -> -
A114: Time
A115: 0 | B115: * | C115: * | D115: * | E115: * | F115: * | G115: * | H115: * | I115: * | J115: * | K115: * | L115: * | M115: * | N115: * | O115: * | R115: =R10 -> 45719 | S115: =S10 -> 45720 | T115: =T10 -> 45721 | U115: =U10 -> 45722 | V115: =V10 -> 45723 | W115: =W10 -> 45724 | X115: =X10 -> 45725 | Y115: =Y10 -> 45726 | ... AL115: =AL10 -> 45739
A116: 0.010416667 | B116: * | C116: * | D116: * | E116: * | F116: * | G116: * | H116: * | I116: * | J116: * | K116: * | L116: * | M116: * | N116: * | O116: * | Q116: Mean | R116: =$N$110 -> 0 | S116: =$N$214 -> 0 | T116: =$N$318 -> 0 | U116: =$N$422 -> 0 | V116: =$N$526 -> 0 | W116: =$N$630 -> 0 | X116: =$N$734 -> 24.6 | Y116: =$N$838 -> 24.3 | Z116: =$N$942 -> 24.8 | AA116: =$N$1046 -> 25.3 | AB116: =$N$1150 -> 25.5 | AC116: =$N$1254 -> 25.3 | AD116: =$N$1358 -> 24.7 | AE116: =$N$1462 -> 23.5 | AF116: =$N$1566 -> 23.8 | AG116: =$N$1670 -> 0 | AH116: =$N$1774 -> 0 | AI116: =$N$1878 -> 0 | AJ116: =$N$1982 -> 0 | AK116: =$N$2086 -> 0 | AL116: =$N$2190 -> 0
A117: 0.020833333 | B117: * | C117: * | D117: * | E117: * | F117: * | G117: * | H117: * | I117: * | J117: * | K117: * | L117: * | M117: * | N117: * | O117: * | Q117: 85%ile | R117: =$O$110 -> 0 | S117: =$O$214 -> 0 | T117: =$O$318 -> 0 | U117: =$O$422 -> 0 | V117: =$O$526 -> 0 | W117: =$O$630 -> 0 | X117: =$O$734 -> 32 | Y117: =$O$838 -> 30.3 | Z117: =$O$942 -> 31.1 | AA117: =$O$1046 -> 31.3 | AB117: =$O$1150 -> 31.9 | AC117: =$O$1254 -> 31.1 | AD117: =$O$1358 -> 30.5 | AE117: =$O$1462 -> 29.2 | AF117: =$O$1566 -> 30.6 | AG117: =$O$1670 -> 0 | AH117: =$O$1774 -> 0 | AI117: =$O$1878 -> 0 | AJ117: =$O$1982 -> 0 | AK117: =$O$2086 -> 0 | AL117: =$O$2190 -> 0
